BEGIN:VCALENDAR
VERSION:2.0
PRODID:-//femvents.at - ECPv6.15.18//NONSGML v1.0//EN
CALSCALE:GREGORIAN
METHOD:PUBLISH
X-ORIGINAL-URL:https://www.femvents.at
X-WR-CALDESC:Veranstaltungen für femvents.at
REFRESH-INTERVAL;VALUE=DURATION:PT1H
X-Robots-Tag:noindex
X-PUBLISHED-TTL:PT1H
BEGIN:VTIMEZONE
TZID:Europe/Vienna
BEGIN:DAYLIGHT
TZOFFSETFROM:+0100
TZOFFSETTO:+0200
TZNAME:CEST
DTSTART:20250330T010000
END:DAYLIGHT
BEGIN:STANDARD
TZOFFSETFROM:+0200
TZOFFSETTO:+0100
TZNAME:CET
DTSTART:20251026T010000
END:STANDARD
BEGIN:DAYLIGHT
TZOFFSETFROM:+0100
TZOFFSETTO:+0200
TZNAME:CEST
DTSTART:20260329T010000
END:DAYLIGHT
BEGIN:STANDARD
TZOFFSETFROM:+0200
TZOFFSETTO:+0100
TZNAME:CET
DTSTART:20261025T010000
END:STANDARD
BEGIN:DAYLIGHT
TZOFFSETFROM:+0100
TZOFFSETTO:+0200
TZNAME:CEST
DTSTART:20270328T010000
END:DAYLIGHT
BEGIN:STANDARD
TZOFFSETFROM:+0200
TZOFFSETTO:+0100
TZNAME:CET
DTSTART:20271031T010000
END:STANDARD
END:VTIMEZONE
BEGIN:VEVENT
DTSTART;VALUE=DATE:20260525
DTEND;VALUE=DATE:20260531
DTSTAMP:20260419T224441
CREATED:20260106T210733Z
LAST-MODIFIED:20260107T090658Z
UID:10000612-1779667200-1780185599@www.femvents.at
SUMMARY:Retreat Kroatien Mai 2026
DESCRIPTION:Ein exklusives Retreat in Kroatien für Frauen\, die innehalten\, Klarheit gewinnenund neue Kraft für ihr Leben schöpfen möchten. \nRaus aus dem Alltag. Rein in die Ruhe.In einer kleinen\, geschützten Gruppe von maximal 6 Frauenkombinieren wir Coaching\, Bewegung\, Reflexion und Meeresenergie.
URL:https://www.femvents.at/event/retreat-kroatien-mai-2026/
LOCATION:23245 Tribanj\, Kozjaca 16D\, Tribanj (Kreis Zadar)\, 23245\, Croatia (Local Name: Hrvatska)
CATEGORIES:Niederösterreich,Oberösterreich,Österreichweit,Retreat
ATTACH;FMTTYPE=image/png:https://www.femvents.at/wp-content/uploads/2026/01/Retreat-Kroatien-1.png
ORGANIZER;CN="Marijana Coach":MAILTO:office@marijana-coach.at
GEO:44.3314868;15.3655482
X-APPLE-STRUCTURED-LOCATION;VALUE=URI;X-ADDRESS=23245 Tribanj Kozjaca 16D Tribanj (Kreis Zadar) 23245 Croatia (Local Name: Hrvatska);X-APPLE-RADIUS=500;X-TITLE=Kozjaca 16D:geo:15.3655482,44.3314868
END:VEVENT
BEGIN:VEVENT
DTSTART;TZID=Europe/Vienna:20260529T150000
DTEND;TZID=Europe/Vienna:20260529T170000
DTSTAMP:20260419T224441
CREATED:20260407T062212Z
LAST-MODIFIED:20260419T100949Z
UID:10001036-1780066800-1780074000@www.femvents.at
SUMMARY:NÖ/ Ebreichsdorf  LLL-LEBENSFREUDE Frauentreff mit LLL-Botschafterin Anita Ponweiser
DESCRIPTION:🌸✨ Hallo ihr wundervollen Frauen ✨🌸 \n🌼 Lust\, einfach mal rauszukommen?\n🌸 Lachen\, plaudern\, durchatmen & neue Energie tanken?\nDann komm zu unserem LLL-LEBENSFREUDE TREFF 💚🧡🩷 \nEin Ort für echte Begegnungen\, ehrliche Gespräche und diese kleinen Herzensmomente\, die so unglaublich gut tun 💫\n🌷 Egal ob du ganz neu bist oder schon öfter dabei warst –\n🧁 komm genauso\, wie du bist!\nHier ist Platz für dich\, dein Lächeln und alles\, was dich gerade bewegt 🫶\n💃 Wir freuen uns riesig auf dich! 💕 \nBitte Platzreservierung 🤗\ninfo@vereinlebenliebenlachen.at
URL:https://www.femvents.at/event/noe-ebreichsdorf-lll-lebensfreude-frauentreff-mit-lll-botschafterin-anita-ponweiser-3/
LOCATION:Möhspeis Stub´n\, Rechte Bahnzeile 4\, Ebreichsdorf\, 2483
CATEGORIES:Burgenland,LLL
ATTACH;FMTTYPE=image/jpeg:https://www.femvents.at/wp-content/uploads/2026/04/Moeschspeisstube-5glKYt.jpg
ORGANIZER;CN="LEBEN%2C LIEBEN%2C LACHEN &#8211%3B endlich wei%C3%9F ich wie!":MAILTO:info@vereinlebenliebenlachen.at
GEO:47.9501504;16.4131096
X-APPLE-STRUCTURED-LOCATION;VALUE=URI;X-ADDRESS=Möhspeis Stub´n Rechte Bahnzeile 4 Ebreichsdorf 2483;X-APPLE-RADIUS=500;X-TITLE=Rechte Bahnzeile 4:geo:16.4131096,47.9501504
END:VEVENT
BEGIN:VEVENT
DTSTART;TZID=Europe/Vienna:20260529T150000
DTEND;TZID=Europe/Vienna:20260529T193000
DTSTAMP:20260419T224441
CREATED:20260213T172043Z
LAST-MODIFIED:20260213T172043Z
UID:10000812-1780066800-1780083000@www.femvents.at
SUMMARY:Dinkelsauerteig Brotbackkurs
DESCRIPTION:Dinkel-Sauerteig-Brotbackkurs mit der Brotnanni \nTauche ein in die duftende Welt des traditionellen Brotbackens und entdecke die Kunst des Dinkel-Sauerteigs – gemeinsam mit Anna\, Diätologin und leidenschaftlicher Sauerteig-Enthusiastin. Viele kennen sie von Instagram unter dem Namen Brotnanni\, wo sie täglich ihre Begeisterung für ehrliches\, nährstoffreiches Brot teilt. \nWas erwartet dich? \n🥖 Dein eigener Dinkel-Sauerteigstarter für zu Hause \nDu erhältst einen aktiven Dinkel-Sauerteigstarter – inklusive Pflegeanleitung\, damit du auch nach dem Kurs weiterhin erfolgreich backen kannst. \n📖 Schritt-für-Schritt-Anleitung \nVon der Theorie über die richtige Teigführung bis hin zum perfekten Backergebnis: Anna führt dich verständlich und praxisnah durch jeden einzelnen Schritt. Du lernst\, worauf es bei Dinkel-Sauerteig wirklich ankommt – ganz ohne Backstress. \n🍞 Brotgenuss in gemütlicher Runde \nNeben dem Backen kommt auch das Genießen nicht zu kurz. Freue dich auf frisch gebackenes Dinkelbrot\, Austausch in entspannter Atmosphäre und wertvolle Tipps rund um Geschmack\, Bekömmlichkeit und Nährstoffe. \nEgal\, ob du Anfänger:in bist oder deine Backkünste vertiefen möchtest – dieser Kurs verbindet Fachwissen\, Handwerk und echte Brotliebe. \nBacke dein eigenes Dinkel-Sauerteigbrot – aromatisch\, locker und mit ganz viel Herz.
URL:https://www.femvents.at/event/dinkelsauerteig-brotbackkurs/
CATEGORIES:Salzburg
ATTACH;FMTTYPE=image/jpeg:https://www.femvents.at/wp-content/uploads/2026/02/Brot-Nanni-32-scaled.jpeg
END:VEVENT
BEGIN:VEVENT
DTSTART;TZID=Europe/Vienna:20260529T150000
DTEND;TZID=Europe/Vienna:20260531T130000
DTSTAMP:20260419T224441
CREATED:20260215T130440Z
LAST-MODIFIED:20260215T130440Z
UID:10000815-1780066800-1780232400@www.femvents.at
SUMMARY:Beckenbodenretreat im Naturhotel Molzbachhof
DESCRIPTION:29.-31. Mai 2026 I Naturhotel Molzbachhof am Wechsel \nIn einer kleinen\, exklusiven Gruppe begleite ich dich durch dieses ganzheitliche und wohltuende Beckenboden-Retreat. \nEin starker Beckenboden ist weit mehr als Muskelkraft.\nEr schenkt dir Stabilität\, Präsenz\, innere Kraft und Vertrauen in deinen Körper. \nGönn dir eine bewusste Auszeit vom Alltag und tauche ein in ein Wochenende\, das dich wieder mit deiner Mitte verbindet – körperlich\, mental und emotional. \nWas erwartet dich? \n\nStabilisation der Mitte für einen starken Beckenboden und Rücken\nSanfte Entspannung für den Beckenboden\ngeführte Meditationen für Ruhe und neue Kraft\nYoga Nidra\nAustausch & Vernetzung im geschützten FrauenkreisBeitrag:\nRetreatkosten: 230 Euro\nUnterkunft: separat direkt beim Hotel Molzbachhof zu buchen\nTeilnehmerinnenzahl: limitiert auf max. 10 Frauen
URL:https://www.femvents.at/event/beckenbodenretreat-im-naturhotel-molzbachhof/
LOCATION:Naturhotel Molzbachhof\, Tratten 36\, Kirchberg am Wechsel\, Niederösterreich\, 2880\, Austria
CATEGORIES:Frauenkreis,Niederösterreich,Retreat,Wechseljahre
ATTACH;FMTTYPE=image/jpeg:https://www.femvents.at/wp-content/uploads/2026/02/Margit-Auner.jpg
ORGANIZER;CN="Margit Auner%2C Physiotherapeutin":MAILTO:margit.physio@gmx.at
GEO:47.6003072;16.001988
X-APPLE-STRUCTURED-LOCATION;VALUE=URI;X-ADDRESS=Naturhotel Molzbachhof Tratten 36 Kirchberg am Wechsel Niederösterreich 2880 Austria;X-APPLE-RADIUS=500;X-TITLE=Tratten 36:geo:16.001988,47.6003072
END:VEVENT
BEGIN:VEVENT
DTSTART;TZID=Europe/Vienna:20260529T180000
DTEND;TZID=Europe/Vienna:20260529T200000
DTSTAMP:20260419T224442
CREATED:20260413T165249Z
LAST-MODIFIED:20260413T165249Z
UID:10001070-1780077600-1780084800@www.femvents.at
SUMMARY:Rise Into Your Voice - Yoga & Stimme
DESCRIPTION:Ein Raum für Frauen\, die sich spüren\, ausdrücken und wachsen wollen. \nIn dieser 2-stündigen Yogaeinheit verbinden wir: \nYoga (60min.\, mit Ursi)\nErdend und zentrierend. Ein Ankommen bei dir. \nStimme (60min.\, mit Betty)\nAtem und Klang. Erlerne einfache Techniken und lass deine Stimme in dir wieder wachsen. \nAnmeldung: Nachricht an\nUrsi 06644287061\, u.eberl@physiologisch.at oder\nBettina Drachgschwandtner 0699/10473103\, post@logobetty.at \nEarly Bird bis 29.04. 58€\, dann 65€\nSalzburg \nYogamaterial ist vorhanden. \nBei Fragen schreibe uns gerne\, wir freuen uns auf dich! \nUrsi & Betty \nInstagram:\n@ursi.eberl\n@logobetty \n 
URL:https://www.femvents.at/event/rise-into-your-voice-yoga-stimme/
LOCATION:Praxis Physiologisch\, Paracelsusstraße 4/2\, Salzburg\, Salzburg\, 5020\, Austria
CATEGORIES:Salzburg
ATTACH;FMTTYPE=image/jpeg:https://www.femvents.at/wp-content/uploads/2026/04/08f35e61-838b-4d92-a91a-c7a6b9add6fd.jpg
GEO:47.8074952;13.0472501
X-APPLE-STRUCTURED-LOCATION;VALUE=URI;X-ADDRESS=Praxis Physiologisch Paracelsusstraße 4/2 Salzburg Salzburg 5020 Austria;X-APPLE-RADIUS=500;X-TITLE=Paracelsusstraße 4/2:geo:13.0472501,47.8074952
END:VEVENT
END:VCALENDAR