BEGIN:VCALENDAR
VERSION:2.0
PRODID:-//femvents.at - ECPv6.15.18//NONSGML v1.0//EN
CALSCALE:GREGORIAN
METHOD:PUBLISH
X-ORIGINAL-URL:https://www.femvents.at
X-WR-CALDESC:Veranstaltungen für femvents.at
REFRESH-INTERVAL;VALUE=DURATION:PT1H
X-Robots-Tag:noindex
X-PUBLISHED-TTL:PT1H
BEGIN:VTIMEZONE
TZID:Europe/Berlin
BEGIN:DAYLIGHT
TZOFFSETFROM:+0100
TZOFFSETTO:+0200
TZNAME:CEST
DTSTART:20250330T010000
END:DAYLIGHT
BEGIN:STANDARD
TZOFFSETFROM:+0200
TZOFFSETTO:+0100
TZNAME:CET
DTSTART:20251026T010000
END:STANDARD
BEGIN:DAYLIGHT
TZOFFSETFROM:+0100
TZOFFSETTO:+0200
TZNAME:CEST
DTSTART:20260329T010000
END:DAYLIGHT
BEGIN:STANDARD
TZOFFSETFROM:+0200
TZOFFSETTO:+0100
TZNAME:CET
DTSTART:20261025T010000
END:STANDARD
BEGIN:DAYLIGHT
TZOFFSETFROM:+0100
TZOFFSETTO:+0200
TZNAME:CEST
DTSTART:20270328T010000
END:DAYLIGHT
BEGIN:STANDARD
TZOFFSETFROM:+0200
TZOFFSETTO:+0100
TZNAME:CET
DTSTART:20271031T010000
END:STANDARD
END:VTIMEZONE
BEGIN:VEVENT
DTSTART;TZID=Europe/Berlin:20260608T190000
DTEND;TZID=Europe/Berlin:20260608T210000
DTSTAMP:20260420T001749
CREATED:20260415T083858Z
LAST-MODIFIED:20260415T083858Z
UID:10001103-1780945200-1780952400@www.femvents.at
SUMMARY:Round Table „Frauen in der Technik“ – Einladung zum Austausch
DESCRIPTION:  \nModeration: Tina Reisenbichler & Ricky Losmann-Hartl  \n  \nalpha MINT – Vernetzen. Verstärken. Verändern. \n5. alpha MINT Round Table \n  \n  \n\n  \nMit alphaMINT – TechWOMEN schafft der Club alpha eine Plattform\, auf der Frauen sich in MINT-Themen vernetzen\, stärken und weiterentwickeln können. Unter dem Leitsatz „Frauen & MINT: Vernetzen\, stärken\, wachsen“ bündelt die Veranstaltungsreihe Formate wie ‚im Gespräch mit‘\, Round Tables und Austausch-Events\, die Frauen in Mathematik\, Informatik\, Naturwissenschaften und Technik sichtbar machen und berufliche Chancen eröffnen. TechWOMEN unterstützt Frauen dabei\, ihre Talente selbstbewusst einzusetzen\, inspirierende Vorbilder kennenzulernen und gemeinsam Zukunft in Wissenschaft und Technik aktiv mitzugestalten.
URL:https://www.femvents.at/event/round-table-frauen-in-der-technik-einladung-zum-austausch-2/
LOCATION:Club alpha\, Stubenbastei 12/14\, Wien\, 1010\, Österreich
CATEGORIES:Diskussion,IT,Karriere,TechWomen,Wien,Wissenschaft
ATTACH;FMTTYPE=image/webp:https://www.femvents.at/wp-content/uploads/2026/04/round-table_mint_juni-IEa3nT.webp
ORGANIZER;CN="Club alpha":MAILTO:clubalpha@clubalpha.at
GEO:48.2063723;16.3776169
X-APPLE-STRUCTURED-LOCATION;VALUE=URI;X-ADDRESS=Club alpha Stubenbastei 12/14 Wien 1010 Österreich;X-APPLE-RADIUS=500;X-TITLE=Stubenbastei 12/14:geo:16.3776169,48.2063723
END:VEVENT
END:VCALENDAR