BEGIN:VCALENDAR
VERSION:2.0
PRODID:-//femvents.at - ECPv6.15.18//NONSGML v1.0//EN
CALSCALE:GREGORIAN
METHOD:PUBLISH
X-ORIGINAL-URL:https://www.femvents.at
X-WR-CALDESC:Veranstaltungen für femvents.at
REFRESH-INTERVAL;VALUE=DURATION:PT1H
X-Robots-Tag:noindex
X-PUBLISHED-TTL:PT1H
BEGIN:VTIMEZONE
TZID:Europe/Berlin
BEGIN:DAYLIGHT
TZOFFSETFROM:+0100
TZOFFSETTO:+0200
TZNAME:CEST
DTSTART:20250330T010000
END:DAYLIGHT
BEGIN:STANDARD
TZOFFSETFROM:+0200
TZOFFSETTO:+0100
TZNAME:CET
DTSTART:20251026T010000
END:STANDARD
BEGIN:DAYLIGHT
TZOFFSETFROM:+0100
TZOFFSETTO:+0200
TZNAME:CEST
DTSTART:20260329T010000
END:DAYLIGHT
BEGIN:STANDARD
TZOFFSETFROM:+0200
TZOFFSETTO:+0100
TZNAME:CET
DTSTART:20261025T010000
END:STANDARD
BEGIN:DAYLIGHT
TZOFFSETFROM:+0100
TZOFFSETTO:+0200
TZNAME:CEST
DTSTART:20270328T010000
END:DAYLIGHT
BEGIN:STANDARD
TZOFFSETFROM:+0200
TZOFFSETTO:+0100
TZNAME:CET
DTSTART:20271031T010000
END:STANDARD
END:VTIMEZONE
BEGIN:VEVENT
DTSTART;TZID=Europe/Berlin:20260611T190000
DTEND;TZID=Europe/Berlin:20260611T210000
DTSTAMP:20260420T003827
CREATED:20260415T083859Z
LAST-MODIFIED:20260415T083859Z
UID:10001105-1781204400-1781211600@www.femvents.at
SUMMARY:Zwischen Bühne und Leben | Im Gespräch mit Zoryana Kushpler
DESCRIPTION:Referentin: Zoryana Kushpler\nModeration: Ildikó Raimondi \n  \n  \nWas passiert\, wenn große Oper auf echtes Leben trifft? Zoryana Kushpler erzählt. \nDie Mezzosopranistin steht für Ausdruckskraft\, Vielseitigkeit und Leidenschaft – auf der Bühne wie im Unterricht. Als langjähriges Mitglied der Wiener Staatsoper und Professorin für Sologesang am Mozarteum prägt sie die Opernwelt ebenso wie die nächste Generation von Sängerinnen und Sängern. Ihre Wurzeln in der Ukraine\, ihre künstlerische Heimat in Österreich: eine Geschichte zwischen Kulturen\, Disziplin und Emotion. \nIm Gespräch mit Ildikó Raimondi entsteht ein Abend voller Einblicke\, überraschender Momente und feinem Humor. \n  \n\nZoryana Kushpler\, geboren in Lwiw (Ukraine)\, zählt zu den führenden Mezzosopranistinnen ihrer Generation. Ihre musikalische Ausbildung erhielt sie zunächst in ihrer Heimat\, später in Hamburg. Internationale Aufmerksamkeit erlangte sie durch den 1. Preis beim renommierten ARD-Musikwettbewerb in München.\nNach Engagements u. a. am Stadttheater Bern war sie von 2007 bis 2020 festes Ensemblemitglied der Wiener Staatsoper\, wo sie in zahlreichen zentralen Partien große Erfolge feierte. Darüber hinaus gastierte sie an bedeutenden Opern- und Konzertbühnen weltweit.\nNeben ihrer internationalen Tätigkeit als Opern- und Konzertsängerin widmet sie sich intensiv der pädagogischen Arbeit und ist seit 2023 Professorin für Gesang am Mozarteum Salzburg. \n  \nFoto: © beigestellt
URL:https://www.femvents.at/event/zwischen-buehne-und-leben-im-gespraech-mit-zoryana-kushpler/
LOCATION:Club alpha\, Stubenbastei 12/14\, Wien\, 1010\, Österreich
CATEGORIES:im Gespräch,Kunst & Kultur,Wien
ATTACH;FMTTYPE=image/webp:https://www.femvents.at/wp-content/uploads/2026/04/zoryana-kushpler-1gjiAQ.webp
ORGANIZER;CN="Club alpha":MAILTO:clubalpha@clubalpha.at
GEO:48.2063723;16.3776169
X-APPLE-STRUCTURED-LOCATION;VALUE=URI;X-ADDRESS=Club alpha Stubenbastei 12/14 Wien 1010 Österreich;X-APPLE-RADIUS=500;X-TITLE=Stubenbastei 12/14:geo:16.3776169,48.2063723
END:VEVENT
END:VCALENDAR