BEGIN:VCALENDAR
VERSION:2.0
PRODID:-//femvents.at - ECPv6.15.18//NONSGML v1.0//EN
CALSCALE:GREGORIAN
METHOD:PUBLISH
X-WR-CALNAME:femvents.at
X-ORIGINAL-URL:https://www.femvents.at
X-WR-CALDESC:Veranstaltungen für femvents.at
REFRESH-INTERVAL;VALUE=DURATION:PT1H
X-Robots-Tag:noindex
X-PUBLISHED-TTL:PT1H
BEGIN:VTIMEZONE
TZID:Europe/Vienna
BEGIN:DAYLIGHT
TZOFFSETFROM:+0100
TZOFFSETTO:+0200
TZNAME:CEST
DTSTART:20250330T010000
END:DAYLIGHT
BEGIN:STANDARD
TZOFFSETFROM:+0200
TZOFFSETTO:+0100
TZNAME:CET
DTSTART:20251026T010000
END:STANDARD
BEGIN:DAYLIGHT
TZOFFSETFROM:+0100
TZOFFSETTO:+0200
TZNAME:CEST
DTSTART:20260329T010000
END:DAYLIGHT
BEGIN:STANDARD
TZOFFSETFROM:+0200
TZOFFSETTO:+0100
TZNAME:CET
DTSTART:20261025T010000
END:STANDARD
BEGIN:DAYLIGHT
TZOFFSETFROM:+0100
TZOFFSETTO:+0200
TZNAME:CEST
DTSTART:20270328T010000
END:DAYLIGHT
BEGIN:STANDARD
TZOFFSETFROM:+0200
TZOFFSETTO:+0100
TZNAME:CET
DTSTART:20271031T010000
END:STANDARD
END:VTIMEZONE
BEGIN:VEVENT
DTSTART;TZID=Europe/Vienna:20260612T140000
DTEND;TZID=Europe/Vienna:20260614T120000
DTSTAMP:20260420T003701
CREATED:20260313T083029Z
LAST-MODIFIED:20260313T083029Z
UID:10000882-1781272800-1781438400@www.femvents.at
SUMMARY:Ground & Grow Retreat
DESCRIPTION:GROUND & GROW – A Summer Retreat to Reconnect with Yourself \nMit dem Juni ist das Jahr schon zur Hälfte vorbei. Ein guter Moment\, innezuhalten und wieder bewusster bei dir selbst einzuchecken: Wie geht es dir gerade wirklich? Was braucht dein Körper und was dein Kopf? \nGenau dafür haben wir unser Ground & Grow Retreat im Juni geplant – ein Wochenende mitten in der Natur\, mit Zeit für Reflexion\, Austausch und neue Perspektiven. \nMit Inhalten zu Mindset\, Zyklusgesundheit und Journaling möchten wir Impulse setzen und dazu einladen\, innezuhalten und zu reflektieren.\nEmbodiment-Einheiten sowie Mindful Movement aus Yoga und Pilates sollen dir helfen\, wieder mehr ins Spüren zu kommen und die Signale deines Körpers bewusster wahrzunehmen. \nDazwischen bleibt bewusst genug Zeit für dich – für ruhige Momente\, Natur und Austausch. \nWenn du mehr über das Retreat erfahren möchtest\, kommentiere den Post mit GROW und wir schicken dir alle Infos. \nVroni & Lena ✨
URL:https://www.femvents.at/event/ground-grow-retreat/
LOCATION:YogaFarm Austria – Find Your Way\, Bergl 33\, Gnesau\, Kärnten\, 9563\, Austria
CATEGORIES:Coaching,Kärnten,Meditation,Retreat,Workshop
ATTACH;FMTTYPE=image/jpeg:https://www.femvents.at/wp-content/uploads/2026/03/WhatsApp-Image-2026-03-13-at-09.00.18.jpeg
ORGANIZER;CN="Veronika Mayerhofer":MAILTO:office@veronika-mayerhofer.com
GEO:46.8100138;13.891316
X-APPLE-STRUCTURED-LOCATION;VALUE=URI;X-ADDRESS=YogaFarm Austria – Find Your Way Bergl 33 Gnesau Kärnten 9563 Austria;X-APPLE-RADIUS=500;X-TITLE=Bergl 33:geo:13.891316,46.8100138
END:VEVENT
BEGIN:VEVENT
DTSTART;TZID=Europe/Vienna:20260613T100000
DTEND;TZID=Europe/Vienna:20260613T170000
DTSTAMP:20260420T003701
CREATED:20260407T161300Z
LAST-MODIFIED:20260407T161921Z
UID:10001058-1781344800-1781370000@www.femvents.at
SUMMARY:von unsicher zu selbstsicher - der Posing Workshop
DESCRIPTION:In diesem Posing Workshop lernst du\, wie du dich im Alltag und vor der Kamera sicher\, natürlich und vorteilhaft zeigst.\nDu bekommst ein besseres Gefühl für deinen Körper\, verstehst deine Körpersprache und entwickelst mehr Präsenz und Ausstrahlung\, ganz ohne Vorkenntnisse. Für mehr Selbstbewusstsein.\nEin Tag\, an dem du lernst\, dich nicht mehr zu verstecken\, sondern dich bewusst und selbstbewusst zu zeigen\, auf Fotos und im Alltag und überall dort\, wo du sich zeigen musst.\nHier geht es nicht um klassisches „Model-Posing“. \nEs geht darum\, dass du verstehst: \n\ndass du schon fotogen bist\nwie du dich mit deinem Körpertyp vorteilhaft und schmeichelnd in Szene setzt.\nwie du gezielt mit gewissen Posen\, Doppelkinn vermeidest\, Beine länger wirken lassen kannst\,\nwie du in 2 Sekunden optisch 10 Kilo verlierst oder deinen Bauch kaschierst.\n\nWas dich erwartet \nIn einer kleinen Gruppe und in geschützter Atmosphäre arbeiten wir gemeinsam an: \n\nKörpersprache & Haltung\nAusdruck & Präsenz\nsicheren\, natürlichen Bewegungen vor der Kamera\neinfachen\, sofort umsetzbaren Posing-Techniken\ndeinem individuellen Stil\, abgestimmt auf dich und deinen Körper\n\nDu bekommst ehrliches Feedback\, praktische Übungen und konkrete Tools\, die du direkt im Alltag und bei Fotos anwenden kannst. \nÜber Sophia Grabner \nSophia Grabner ist Personal Branding Fotografin\, Posing Coach sowie ausgebildete Schauspielerin und Model.\nMit über 20 Jahren Erfahrung vor und hinter der Kamera unterstützt sie Frauen dabei\, ihre Präsenz zu entwickeln\, ihren Körper besser zu verstehen und ihre Wirkung bewusst einzusetzen.
URL:https://www.femvents.at/event/von-unsicher-zu-selbstsicher-der-posing-workshop/
LOCATION:Tanzhaus Graz\, Lagergasse 57\, Graz\, Steiermark\, 8020\, Austria
CATEGORIES:Steiermark,Workshop
ATTACH;FMTTYPE=image/png:https://www.femvents.at/wp-content/uploads/2026/04/posin2026.png
GEO:47.0620024;15.4332441
X-APPLE-STRUCTURED-LOCATION;VALUE=URI;X-ADDRESS=Tanzhaus Graz Lagergasse 57 Graz Steiermark 8020 Austria;X-APPLE-RADIUS=500;X-TITLE=Lagergasse 57:geo:15.4332441,47.0620024
END:VEVENT
END:VCALENDAR