BEGIN:VCALENDAR
VERSION:2.0
PRODID:-//femvents.at - ECPv6.15.18//NONSGML v1.0//EN
CALSCALE:GREGORIAN
METHOD:PUBLISH
X-WR-CALNAME:femvents.at
X-ORIGINAL-URL:https://www.femvents.at
X-WR-CALDESC:Veranstaltungen für femvents.at
REFRESH-INTERVAL;VALUE=DURATION:PT1H
X-Robots-Tag:noindex
X-PUBLISHED-TTL:PT1H
BEGIN:VTIMEZONE
TZID:Europe/Vienna
BEGIN:DAYLIGHT
TZOFFSETFROM:+0100
TZOFFSETTO:+0200
TZNAME:CEST
DTSTART:20250330T010000
END:DAYLIGHT
BEGIN:STANDARD
TZOFFSETFROM:+0200
TZOFFSETTO:+0100
TZNAME:CET
DTSTART:20251026T010000
END:STANDARD
BEGIN:DAYLIGHT
TZOFFSETFROM:+0100
TZOFFSETTO:+0200
TZNAME:CEST
DTSTART:20260329T010000
END:DAYLIGHT
BEGIN:STANDARD
TZOFFSETFROM:+0200
TZOFFSETTO:+0100
TZNAME:CET
DTSTART:20261025T010000
END:STANDARD
BEGIN:DAYLIGHT
TZOFFSETFROM:+0100
TZOFFSETTO:+0200
TZNAME:CEST
DTSTART:20270328T010000
END:DAYLIGHT
BEGIN:STANDARD
TZOFFSETFROM:+0200
TZOFFSETTO:+0100
TZNAME:CET
DTSTART:20271031T010000
END:STANDARD
END:VTIMEZONE
BEGIN:VEVENT
DTSTART;TZID=Europe/Vienna:20260619T090000
DTEND;TZID=Europe/Vienna:20260619T170000
DTSTAMP:20260420T003548
CREATED:20260413T165200Z
LAST-MODIFIED:20260413T165200Z
UID:10001073-1781859600-1781888400@www.femvents.at
SUMMARY:WIENERIN Female Health Summit
DESCRIPTION:Das erwartet dich beim WIENERIN Female Health Summit 2026\nDas Leitevent für Frauengesundheit und Selfcare in Wien am 19. Juni 2026\nMacht euch bereit für ein Event\, das euch stärkt\, begeistert und zum Strahlen bringt! Beim WIENERIN Female  Health Summit in der ARIANA am 19. Juni 2026 dreht sich alles um euch und eure Gesundheit. \nFreut euch auf spannende Panel-Talks und Keynotes mit führenden Expert:innen\, die euch wertvolle Tipps und Einblicke zu Themen wie Mental Health\, Longevity\, die Kraft des Trainings und Ernährung\, Hormone und Lust\, Medical Gaslighting sowie den neuesten Trends aus Beauty und Health geben. \nVertieft euer Wissen bei Workshops\, erlebt energiegeladene Workouts\, entdeckt innovative Produkte in der Experience Area unserer Partner:innen  und lasst euch beim Workshop von Lancôme  inspirieren. Hier findet ihr alles\, was Körper und Geist guttut – und eine Community\, die euch motiviert. \nSchnappt euch eure Freundinnen und seid dabei – für einen Tag voller Power\, Wissen\, Selfcare und guter Vibes! \nJetzt Tickets sichern und nichts vom Event für Frauengesundheit und Selfcare in Wien verpassen! \nDatum:  19. Juni 2026\, 09:00 Uhr bis 17:00 Uhr \nOrt:  ARIANA\, Christine-Touaillon-Straße 4\, 1220 Wien \nWas euch am WIENERIN Female Health Summit 2026 erwartet\n1. Expert:innenwissen hautnah\nUnsere hochkarätigen Speaker:innen – darunter führende Ärzt:innen\, Ernährungswissenschaftler:innen und Fitness-Coaches – teilen ihr Wissen zu den wichtigsten Themen rund um Frauengesundheit. \nHier geht es um die Zukunft von Female Health: Die fünf tiefgehenden Panels beleuchten Themen wie Longevity\, Menopause\, Hormone\, Mental Health und Körperwahrnehmung. Von praktischen Tipps für ein gesünderes Leben über die Herausforderungen von Medical Gaslighting bis hin zu einem neuen Blick auf Zyklus\, Lust und Selbstbild – hier wird nichts ausgelassen\, damit ihr fundiertes Wissen\, das euch wirklich weiterbringt\, sammelt und all eure Fragen beantwortet werden. Lasst euch inspirieren\, euren Körper besser zu verstehen und eure Gesundheit aktiv in die Hand zu nehmen. \n2. Bewegung\, die begeistert\nParallel zu den Talks könnt ihr euch bei exklusiven Workshops ausprobieren. Ob Yoga\, Beckenbodentraining\, Stretching\, Pilates\, Krafttraining oder zyklusbasierters Wissen – unsere Trainer:innen sorgen dafür\, dass ihr euch auspowert\, Wissen zu diversen Sportartern vertieft und neue Energie tankt. Die Teilnahme daran basiert vor Ort auf einem First-Come-First-Serve-Prinzip. Am besten einfach rechtzeitig vorbeikommen und einen der limiterten Plätze sichern. \n3. Experience Area & Goodies:\nEntdeckt innovative Produkte und Dienstleistungen unserer Partner:innen\, die euch dabei unterstützen\, euer Wohlbefinden auf das nächste Level zu bringen. Von gesunden Snacks über Produkttests bis hin zu lustigen Challenges  – hier findet ihr alles\, was euch begeistert\, motiviert und anregt. Natürlich darf ein prall gefülltes Goodie Bag am Ende des Tages nicht fehlen. \n4. Meta Discovery – Die Zukunft der Hautpflege mit Lancôme\nWusstet ihr\, dass das biologische Hautalter das einzige Alter ist\, das wir aktiv beeinflussen können? Taucht in dem Workshop ein in die bahnbrechende Welt der Longevity-Forschung und entdeckt die neue Lancôme Longevity MD (Meta Discovery) Pflegeserie hautnah. Gemeinsam mit den Lancôme Hautpflegeexpert:nnen entschlüsselt ihr das Geheimnis der Zell-Langlebigkeit und erfahrt\, wie ihr die Energie eurer Zellen gezielt reaktiviert\, um sichtbare Zeichen der Zeit nicht nur zu mildern\, sondern ihnen effektiv entgegenzuwirken. Für diesen Workshop ist eine separate Anmeldung nach dem Ticketkauf erforderlich. Wir kontaktieren Ticketkäufer:innen dafür vor dem Event. \nWarum ihr dabei sein solltet\nDer WIENERIN Female  Health Summit 2026  ist mehr als nur ein Event – er ist eine Plattform\, die euch stärkt\, informiert und inspiriert. Hier trefft ihr Gleichgesinnte\, könnt euch austauschen und neue Perspektiven gewinnen. Egal\, ob ihr euch intensiver mit eurer Gesundheit auseinandersetzen möchtet\, neue Trends kennenlernen wollt oder einfach einen Tag voller Inspiration und Selfcare genießen möchtet – dieses Event ist für euch gemacht.
URL:https://www.femvents.at/event/wienerin-female-health-summit/
LOCATION:Ariana Event Location\, Christine-Touaillon-Straße 4\, Wien\, Wien\, 1220\, Austria
CATEGORIES:Coaching,Vortrag,Wechseljahre,Wien
ATTACH;FMTTYPE=image/png:https://www.femvents.at/wp-content/uploads/2026/04/Female-Health-Summit.png
GEO:48.2228388;16.5054675
X-APPLE-STRUCTURED-LOCATION;VALUE=URI;X-ADDRESS=Ariana Event Location Christine-Touaillon-Straße 4 Wien Wien 1220 Austria;X-APPLE-RADIUS=500;X-TITLE=Christine-Touaillon-Straße 4:geo:16.5054675,48.2228388
END:VEVENT
END:VCALENDAR