BEGIN:VCALENDAR
VERSION:2.0
PRODID:-//femvents.at - ECPv6.15.18//NONSGML v1.0//EN
CALSCALE:GREGORIAN
METHOD:PUBLISH
X-WR-CALNAME:femvents.at
X-ORIGINAL-URL:https://www.femvents.at
X-WR-CALDESC:Veranstaltungen für femvents.at
REFRESH-INTERVAL;VALUE=DURATION:PT1H
X-Robots-Tag:noindex
X-PUBLISHED-TTL:PT1H
BEGIN:VTIMEZONE
TZID:Europe/Vienna
BEGIN:DAYLIGHT
TZOFFSETFROM:+0100
TZOFFSETTO:+0200
TZNAME:CEST
DTSTART:20250330T010000
END:DAYLIGHT
BEGIN:STANDARD
TZOFFSETFROM:+0200
TZOFFSETTO:+0100
TZNAME:CET
DTSTART:20251026T010000
END:STANDARD
BEGIN:DAYLIGHT
TZOFFSETFROM:+0100
TZOFFSETTO:+0200
TZNAME:CEST
DTSTART:20260329T010000
END:DAYLIGHT
BEGIN:STANDARD
TZOFFSETFROM:+0200
TZOFFSETTO:+0100
TZNAME:CET
DTSTART:20261025T010000
END:STANDARD
BEGIN:DAYLIGHT
TZOFFSETFROM:+0100
TZOFFSETTO:+0200
TZNAME:CEST
DTSTART:20270328T010000
END:DAYLIGHT
BEGIN:STANDARD
TZOFFSETFROM:+0200
TZOFFSETTO:+0100
TZNAME:CET
DTSTART:20271031T010000
END:STANDARD
END:VTIMEZONE
BEGIN:VTIMEZONE
TZID:Europe/Berlin
BEGIN:DAYLIGHT
TZOFFSETFROM:+0100
TZOFFSETTO:+0200
TZNAME:CEST
DTSTART:20250330T010000
END:DAYLIGHT
BEGIN:STANDARD
TZOFFSETFROM:+0200
TZOFFSETTO:+0100
TZNAME:CET
DTSTART:20251026T010000
END:STANDARD
BEGIN:DAYLIGHT
TZOFFSETFROM:+0100
TZOFFSETTO:+0200
TZNAME:CEST
DTSTART:20260329T010000
END:DAYLIGHT
BEGIN:STANDARD
TZOFFSETFROM:+0200
TZOFFSETTO:+0100
TZNAME:CET
DTSTART:20261025T010000
END:STANDARD
BEGIN:DAYLIGHT
TZOFFSETFROM:+0100
TZOFFSETTO:+0200
TZNAME:CEST
DTSTART:20270328T010000
END:DAYLIGHT
BEGIN:STANDARD
TZOFFSETFROM:+0200
TZOFFSETTO:+0100
TZNAME:CET
DTSTART:20271031T010000
END:STANDARD
END:VTIMEZONE
BEGIN:VEVENT
DTSTART;TZID=Europe/Vienna:20260620T093000
DTEND;TZID=Europe/Vienna:20260620T123000
DTSTAMP:20260420T003550
CREATED:20260305T110217Z
LAST-MODIFIED:20260305T110217Z
UID:10000874-1781947800-1781958600@www.femvents.at
SUMMARY:Aromayoga Workshop(s) by Sister Space Circle
DESCRIPTION:Unser Workshop schenkt dir bewusste Zeit für dich – und gleichzeitig ein warmes Get-together mit Frauen\, die sich gegenseitig stärken & inspirieren ✨ \n💫 Workshop-Thema April: SELBSTLIEBE 💫 \n✨ Was dich erwartet:\n🧘‍♀️ Sanftes Yoga – für jedes Level geeignet\n🧠 Geführte Meditation zum Ankommen\n✍️ Journaling-Impulse für innere Klarheit\n🌿 Einführung in die Aromatherapie & praktische Anwendung\n🎁 Liebevoll zusammengestellte Goodie Bags\n🥤 Getränke & Snacks\n👭 Gemütlicher Austausch in entspannter Atmosphäre \n👩‍👩‍👧 Women only | ab 16 Jahren\nOb mit deiner besten Freundin\, Mama oder Oma – gemeinsam wird diese Auszeit noch schöner 🥰 \n📍 Ort: Schmiedingerstraße 1\, 5102 Anthering (Gymnastiksaal der Volksschule) \n💶 Preisübersicht:\n✨ Early Bird: 139 €\n✨ Regulär: 149 €\n👯‍♀️ Bring-a-Friend-Bonus: –15 € \n📩 Anmeldung & Infos:\nsisterspace.circle@gmail.com (Zahlung per Rechnung) \n🤍 Komm genau so\, wie du bist – wir freuen uns auf dich 🤍✨
URL:https://www.femvents.at/event/aromayoga-workshops-by-sister-space-circle/
LOCATION:Volksschule Anthering\, Schmiedingerstraße 1\, Anthering\, Salzburg\, 5102\, Austria
CATEGORIES:Frauenkreis,Meditation,Meetup,Salzburg,Sport,Workshop
ATTACH;FMTTYPE=image/jpeg:https://www.femvents.at/wp-content/uploads/2026/03/WhatsApp-Image-2026-03-05-at-11.51.51.jpeg
GEO:47.8813163;13.0116331
X-APPLE-STRUCTURED-LOCATION;VALUE=URI;X-ADDRESS=Volksschule Anthering Schmiedingerstraße 1 Anthering Salzburg 5102 Austria;X-APPLE-RADIUS=500;X-TITLE=Schmiedingerstraße 1:geo:13.0116331,47.8813163
END:VEVENT
BEGIN:VEVENT
DTSTART;TZID=Europe/Vienna:20260620T110000
DTEND;TZID=Europe/Vienna:20260621T170000
DTSTAMP:20260420T003550
CREATED:20260307T082246Z
LAST-MODIFIED:20260307T082246Z
UID:10000876-1781953200-1782061200@www.femvents.at
SUMMARY:Buchrausch - Die Buchmesse in Österreich
DESCRIPTION:📚✨ BUCHRAUSCH 2026 – Die Buchmesse in Österreich ✨📚 \nZwei Tage voller Geschichten\, Autorinnen und purem Buchrausch! \nAm 20. & 21. Juni 2026 verwandelt sich das Messezentrum Wels in den Treffpunkt für alle\, die Bücher lieben. Dich erwarten spannende Lesungen\, persönliche Begegnungen mit Autorinnen\, besondere Buchschätze und eine Community\, die deine Leidenschaft für Geschichten teilt. \n💥 Das erwartet dich: \n📖 Lesungen & Panels mit Autorinnen\n💬 Meet & Greets – triff deine Lieblingsautorinnen persönlich\n🛍️ Verlagsstände mit Büchern\, Special Editions & exklusiven Goodies\n🎁 Bookish Merch für echte Buchfans\n🖋️ Tattoo Area\n⭐ VIP Tickets inkl. Goodie Bag\n🌟 Special Guests \nStöbere durch zahlreiche Bücher\, entdecke neue Lieblingsgeschichten und verbringe ein Wochenende voller Inspiration\, Community und Buchliebe. \n📍 Messezentrum Wels\n📅 20.–21. Juni 2026 \n🕐 Öffnungszeiten:\nSamstag: 11:00 – 18:00 Uhr\nSonntag: 11:00 – 17:00 Uhr \n🎟️ Ticketverkauf hat bereits gestartet!! \n👉 Markiere deine buchverrückten Freund*innen\, mit denen du zur Buchrausch kommen willst!\n👉 Klicke auf „Zusagen“\, um keine Updates zu Special Guests\, Programm und Highlights zu verpassen. \nWir freuen uns auf ein Wochenende voller Bücher\, Begegnungen und unvergesslicher Momente mit euch!
URL:https://www.femvents.at/event/buchrausch-die-buchmesse-in-oesterreich/
LOCATION:Messezentrum Wels\, Messeplatz 1\, Wels\, Oberösterreich\, 4600\, Austria
ATTACH;FMTTYPE=image/jpeg:https://www.femvents.at/wp-content/uploads/2026/03/IMG_2121-1.jpeg
GEO:48.1519334;14.0188146
X-APPLE-STRUCTURED-LOCATION;VALUE=URI;X-ADDRESS=Messezentrum Wels Messeplatz 1 Wels Oberösterreich 4600 Austria;X-APPLE-RADIUS=500;X-TITLE=Messeplatz 1:geo:14.0188146,48.1519334
END:VEVENT
BEGIN:VEVENT
DTSTART;TZID=Europe/Berlin:20260620T193000
DTEND;TZID=Europe/Berlin:20260620T193000
DTSTAMP:20260420T003550
CREATED:20260415T083810Z
LAST-MODIFIED:20260415T083810Z
UID:10001086-1781983800-1781983800@www.femvents.at
SUMMARY:alpha unterwegs | Una Notte Italiana im Stadttheater Wr. Neustadt
DESCRIPTION:  \nDer Club alpha lädt im Rahmen von “alpha unterwegs” ins Stadtheater Wiener Neustadt ein: \nWiener Neustädter Instrumentalisten & Ildikó Raimondi \nUna Notte Italiana \n  \nDas Abschlusskonzert der Saison entführt Sie musikalisch nach Italien! Die Wiener Neustädter Instrumentalisten und Kammersängerin Ildiko Raimondi\, die nicht nur als Sängerin\, sondern auch als Moderatorin durch den Abend führt\, stimmen auf laue Sommernächte und Spaziergänge am Strand ein. Ein Abend voller mediterraner Klangfarben\, der Lust auf Sonne\, Meer und La Dolce Vita macht. \n  \n\nIldiko Raimondi\, Sopran\nMichael Salamon\, Dirigent\nWiener Neustädter Instrumentalisten\, Orchester\n\n  \n\n  \nDer Club alpha hat ein limitiertes Kartenkontingent reserviert. Es gilt\, wie immer\, das Prinzip first come\, first served! \nNach erfolgter Anmeldung über den Club alpha muss der Kartenpreis auf unser Konto überwiesen werden\, erst und nur dann gilt die Anmeldung als fixiert! \nDetails folgen in Kürze. \n  \n  \n  \n\nFoto: ©
URL:https://www.femvents.at/event/alpha-unterwegs-una-notte-italiana-im-stadttheater-wr-neustadt/
CATEGORIES:Kunst & Kultur,Wien
ATTACH;FMTTYPE=image/png:https://www.femvents.at/wp-content/uploads/2026/04/Grand-Opening1-IEN6eh.png
ORGANIZER;CN="Club alpha":MAILTO:clubalpha@clubalpha.at
END:VEVENT
BEGIN:VEVENT
DTSTART;TZID=Europe/Vienna:20260620T200000
DTEND;TZID=Europe/Vienna:20260620T200000
DTSTAMP:20260420T003550
CREATED:20260317T094651Z
LAST-MODIFIED:20260419T100949Z
UID:10000940-1781985600-1781985600@www.femvents.at
SUMMARY:Bgld./Neufeld LLL-Family & Friends Tanzabendtreff mit den JUKEBOX BANDITS „Surfin USA“
DESCRIPTION:Die „Jukebox Bandits“ nehmen uns mit  auf eine  Reise von „California to Haiwaii“. 🌸\nViele Hits der 50ziger und 60ziger werden zu hören sein. \nIhr könnt Kombination aus virtuoser Darbietung und authentischer Leidenschaft live mitzuerleben.\nDie Band lässt die legendären Hits der Interpreten dieser Zeit zum Leben erwecken und die Herzen höherschlagen. \n2 Stunden Musik\, Tanz\, Unterhaltung und die mitreißenden Gefühle einer Zeit\, die nie in Vergessenheit geraten werden. 🕺💃🏻 \nKulinarisch verwöhnt euch das Neufelder Seehotel&Restaurant.\nEinlass: 18.30 Uhr  \nKommt mit und und genieße. \n📩 Bitte um Platzreservierung:\ninfo@vereinlebenliebenlachen.at
URL:https://www.femvents.at/event/neufeld-lll-family-friends-tanzabendtreff-mit-den-jukebox-bandits-surfin-usa/
LOCATION:Neufeldersee Hotel&Restaurant\, Eisenstädter Straße 35\, Neufeld\, 2493
CATEGORIES:Burgenland,LLL Family & Friends Treff
ATTACH;FMTTYPE=image/jpeg:https://www.femvents.at/wp-content/uploads/2026/03/Sur-in-Christian-xPsEQX.jpg
GEO:47.8656397;16.3860933
X-APPLE-STRUCTURED-LOCATION;VALUE=URI;X-ADDRESS=Neufeldersee Hotel&Restaurant Eisenstädter Straße 35 Neufeld 2493;X-APPLE-RADIUS=500;X-TITLE=Eisenstädter Straße 35:geo:16.3860933,47.8656397
END:VEVENT
END:VCALENDAR