BEGIN:VCALENDAR
VERSION:2.0
PRODID:-//femvents.at - ECPv6.15.18//NONSGML v1.0//EN
CALSCALE:GREGORIAN
METHOD:PUBLISH
X-ORIGINAL-URL:https://www.femvents.at
X-WR-CALDESC:Veranstaltungen für femvents.at
REFRESH-INTERVAL;VALUE=DURATION:PT1H
X-Robots-Tag:noindex
X-PUBLISHED-TTL:PT1H
BEGIN:VTIMEZONE
TZID:Europe/Vienna
BEGIN:DAYLIGHT
TZOFFSETFROM:+0100
TZOFFSETTO:+0200
TZNAME:CEST
DTSTART:20250330T010000
END:DAYLIGHT
BEGIN:STANDARD
TZOFFSETFROM:+0200
TZOFFSETTO:+0100
TZNAME:CET
DTSTART:20251026T010000
END:STANDARD
BEGIN:DAYLIGHT
TZOFFSETFROM:+0100
TZOFFSETTO:+0200
TZNAME:CEST
DTSTART:20260329T010000
END:DAYLIGHT
BEGIN:STANDARD
TZOFFSETFROM:+0200
TZOFFSETTO:+0100
TZNAME:CET
DTSTART:20261025T010000
END:STANDARD
BEGIN:DAYLIGHT
TZOFFSETFROM:+0100
TZOFFSETTO:+0200
TZNAME:CEST
DTSTART:20270328T010000
END:DAYLIGHT
BEGIN:STANDARD
TZOFFSETFROM:+0200
TZOFFSETTO:+0100
TZNAME:CET
DTSTART:20271031T010000
END:STANDARD
END:VTIMEZONE
BEGIN:VEVENT
DTSTART;TZID=Europe/Vienna:20260722T180000
DTEND;TZID=Europe/Vienna:20260722T220000
DTSTAMP:20260420T021930
CREATED:20260317T094653Z
LAST-MODIFIED:20260414T073944Z
UID:10000943-1784743200-1784757600@www.femvents.at
SUMMARY:*ABGESAGT* Baden LLL-Frauen Tanz Treff für VIP’s und die\, die es noch werden wollen
DESCRIPTION:
URL:https://www.femvents.at/event/baden-lll-frauen-tanz-treff-fuer-vips-und-die-die-es-noch-werden-wollen-ladies-night-oldies-60er-70er/
LOCATION:LEZ – Leesdorfer Event Zentrum\, Göschlgasse 1\, Baden\, 2500
CATEGORIES:Burgenland,LLL-FrauenTanz Treff
ATTACH;FMTTYPE=image/jpeg:https://www.femvents.at/wp-content/uploads/2026/03/LLL-Frauen_Tanz_Treffs-mit-Herzen_Konfetti-2026-QSXXi3.jpg
ORGANIZER;CN="LEBEN%2C LIEBEN%2C LACHEN &#8211%3B endlich wei%C3%9F ich wie!":MAILTO:info@vereinlebenliebenlachen.at
GEO:48.003221;16.2491114
X-APPLE-STRUCTURED-LOCATION;VALUE=URI;X-ADDRESS=LEZ – Leesdorfer Event Zentrum Göschlgasse 1 Baden 2500;X-APPLE-RADIUS=500;X-TITLE=Göschlgasse 1:geo:16.2491114,48.003221
END:VEVENT
END:VCALENDAR