BEGIN:VCALENDAR
VERSION:2.0
PRODID:-//femvents.at - ECPv6.15.18//NONSGML v1.0//EN
CALSCALE:GREGORIAN
METHOD:PUBLISH
X-WR-CALNAME:femvents.at
X-ORIGINAL-URL:https://www.femvents.at
X-WR-CALDESC:Veranstaltungen für femvents.at
REFRESH-INTERVAL;VALUE=DURATION:PT1H
X-Robots-Tag:noindex
X-PUBLISHED-TTL:PT1H
BEGIN:VTIMEZONE
TZID:Europe/Vienna
BEGIN:DAYLIGHT
TZOFFSETFROM:+0100
TZOFFSETTO:+0200
TZNAME:CEST
DTSTART:20250330T010000
END:DAYLIGHT
BEGIN:STANDARD
TZOFFSETFROM:+0200
TZOFFSETTO:+0100
TZNAME:CET
DTSTART:20251026T010000
END:STANDARD
BEGIN:DAYLIGHT
TZOFFSETFROM:+0100
TZOFFSETTO:+0200
TZNAME:CEST
DTSTART:20260329T010000
END:DAYLIGHT
BEGIN:STANDARD
TZOFFSETFROM:+0200
TZOFFSETTO:+0100
TZNAME:CET
DTSTART:20261025T010000
END:STANDARD
BEGIN:DAYLIGHT
TZOFFSETFROM:+0100
TZOFFSETTO:+0200
TZNAME:CEST
DTSTART:20270328T010000
END:DAYLIGHT
BEGIN:STANDARD
TZOFFSETFROM:+0200
TZOFFSETTO:+0100
TZNAME:CET
DTSTART:20271031T010000
END:STANDARD
END:VTIMEZONE
BEGIN:VEVENT
DTSTART;TZID=Europe/Vienna:20260723T180000
DTEND;TZID=Europe/Vienna:20260723T233000
DTSTAMP:20260420T021647
CREATED:20260108T130644Z
LAST-MODIFIED:20260108T130644Z
UID:10000645-1784829600-1784849400@www.femvents.at
SUMMARY:Success Soirée - Summer Edition
DESCRIPTION:Die Success Soirée Salzburg lädt Businessfrauen zu einem besonderen After-Work-Event ein\, das Networking\, Inspiration und Feierlaune auf einzigartige Weise verbindet. Dieses außergewöhnliche Format bietet eine Bühne – in Form einer Tanzfläche – für Sichtbarkeit\, Austausch und Motivation. Mit starken Keynotes\, echten Begegnungen und Tanz unter der Disco-Kugelschafft die Success Soirée einen Raum\, in dem Frauen einander applaudieren\, gemeinsam feiern und miteinander wachsen.Ganz im Sinne von Sisterhood. \nKeynote Michaela Altenberger\n„Longevity & mentale Klarheit“ \nMichaela Altenberger arbeitet dort\, wo Hochleistung Alltag ist. In ihrer Keynote spricht sie über das Nervensystem\, innere Daueranspannung & unbewusste Programme\, die unser Denken\, Entscheiden und Handeln steuern.\nEin Impuls darüber\, wie echte Kraft entsteht – durch mentale Klarheit statt Selbstoptimierung. \nSpecial Impulse\nDr. Alexandra Vivien Haller\n„Mental Health: Burnout ist eine Illusion“ \nDr. Alexandra Vivien Haller stellt die provokante Frage\, ob Burnout wirklich unvermeidbar ist –\noder ob mentale Gesundheit trainierbar und gestaltbar wird.\nEin Blick auf Mental Health Biohacking\, Glück und nachhaltige Leistungsfähigkeit. \nWie bleiben wir mental klar\, gesund und leistungsfähig – nachhaltig und bewusst?\nImpulse zu mentaler Stärke\, Fokus und neuen Perspektiven auf Gesundheit. \n🎟 Ticket: 30\,00 € – all inclusive\n🥂 Welcome Drink\n🍴 Fingerfood\n🎤 Keynotes & Impulse\n🎧 DJ\, Musik & Tanzfläche\n🤝 Moderiertes Netzwerken \nNetzwerken darf leicht sein – so auch der Preis.\nGanz schön viel Abend für 30 Euro. \n 
URL:https://www.femvents.at/event/success-soiree-summer-edition/
LOCATION:Club Balboa Salzburg\, Gstättengasse 7\, Salzburg\, Salzburg\, 5020\, Austria
CATEGORIES:After Work,Salzburg
ATTACH;FMTTYPE=image/png:https://www.femvents.at/wp-content/uploads/2026/01/1-1.png
GEO:47.8051393;13.0380686
X-APPLE-STRUCTURED-LOCATION;VALUE=URI;X-ADDRESS=Club Balboa Salzburg Gstättengasse 7 Salzburg Salzburg 5020 Austria;X-APPLE-RADIUS=500;X-TITLE=Gstättengasse 7:geo:13.0380686,47.8051393
END:VEVENT
END:VCALENDAR