BEGIN:VCALENDAR
VERSION:2.0
PRODID:-//femvents.at - ECPv6.15.18//NONSGML v1.0//EN
CALSCALE:GREGORIAN
METHOD:PUBLISH
X-WR-CALNAME:femvents.at
X-ORIGINAL-URL:https://www.femvents.at
X-WR-CALDESC:Veranstaltungen für femvents.at
REFRESH-INTERVAL;VALUE=DURATION:PT1H
X-Robots-Tag:noindex
X-PUBLISHED-TTL:PT1H
BEGIN:VTIMEZONE
TZID:Europe/Vienna
BEGIN:DAYLIGHT
TZOFFSETFROM:+0100
TZOFFSETTO:+0200
TZNAME:CEST
DTSTART:20250330T010000
END:DAYLIGHT
BEGIN:STANDARD
TZOFFSETFROM:+0200
TZOFFSETTO:+0100
TZNAME:CET
DTSTART:20251026T010000
END:STANDARD
BEGIN:DAYLIGHT
TZOFFSETFROM:+0100
TZOFFSETTO:+0200
TZNAME:CEST
DTSTART:20260329T010000
END:DAYLIGHT
BEGIN:STANDARD
TZOFFSETFROM:+0200
TZOFFSETTO:+0100
TZNAME:CET
DTSTART:20261025T010000
END:STANDARD
BEGIN:DAYLIGHT
TZOFFSETFROM:+0100
TZOFFSETTO:+0200
TZNAME:CEST
DTSTART:20270328T010000
END:DAYLIGHT
BEGIN:STANDARD
TZOFFSETFROM:+0200
TZOFFSETTO:+0100
TZNAME:CET
DTSTART:20271031T010000
END:STANDARD
END:VTIMEZONE
BEGIN:VEVENT
DTSTART;TZID=Europe/Vienna:20260801T190000
DTEND;TZID=Europe/Vienna:20260801T213000
DTSTAMP:20260420T021636
CREATED:20251217T075316Z
LAST-MODIFIED:20251217T080234Z
UID:10000586-1785610800-1785619800@www.femvents.at
SUMMARY:frauen.tempel | conscious.love - conscious.touch -conscious.tantra
DESCRIPTION:der frauen.kreis in wiener neustadt \nein heiliger raum für frauen\, um sich selbst in ihrer ganzheit zu spüren. sanft. wild. sinnlich. \nwir kommen zusammen\, um uns zu nähren\, zu erinnern und die verbindung zu uns selbst und anderen frauen zu stärken. \nzum ankommen. loslassen. zum spüren. \nhier darfst Du sein. \nwir ehren unsere weiblichkeit\, nähren die verbindung zu uns selbst und zu anderen frauen. \ngemeinsam erinnern wir uns an die kraft des weiblichen seins. an die hingabe\, die weisheit\, die lust\, die unendliche tiefe. \nim frauen.tempel entsteht ein feld von vertrauen\, nähe und verbindung. ein ort\, an dem Du einfach Du sein darfst. \nwas Dich erwartet: \n🌙 Dich im kreis anderer frauen sicher fühlen\n🌙 alte spannungen\, rollen & erwartungen ablegen\n🌙 Deine weibliche essenz erinnern\n🌙 rituale\, die Dein herz öffnen\n🌙 intuitive bewegung & körper.weisheit\n🌙 spüren\, halten\, getragen werden\n🌙 nähe • präsenz • gehalten sein\n🌙 zurück in DEINE kraft & weichheit \ndatum:  \n\n08.01.2026 I 19:00\n05.02.2026 I 19:00\nmärz & april = frauen.tempel spezial\n07.05.2026 I 19:001\n11.06.2026 I 19:00\n\ninvestition: 44.- pro person / abend \nfriends.bonus: bring Deine freundin mit & zahlt 33.- statt 44.- pro person/abend \nort: wiener neustadt \npraxis bettina.energyflow I ENERGYFLOW – achtsam.bewusst.spüren\, singergasse 20 \nteilnehmer:innen: mind. 4 I max. 8 bis 10 fraun
URL:https://www.femvents.at/event/frauen-tempel-conscious-love-conscious-touch-conscious-tantra/
LOCATION:praxis bettina.energyflow | ENERGYFLOW – achtsam.bewusst.spüren\, Singergasse 20\, 2700 Wiener Neustadt\, Niederösterreich\, 2700\, Austria
CATEGORIES:Frauenkreis,Niederösterreich
ATTACH;FMTTYPE=image/png:https://www.femvents.at/wp-content/uploads/2025/12/inbound419833073240641360.png
ORGANIZER;CN="mag. bettina fankhauser":MAILTO:info@bettina-energyflow.at
GEO:47.8132475;16.2398859
X-APPLE-STRUCTURED-LOCATION;VALUE=URI;X-ADDRESS=praxis bettina.energyflow | ENERGYFLOW – achtsam.bewusst.spüren Singergasse 20 2700 Wiener Neustadt Niederösterreich 2700 Austria;X-APPLE-RADIUS=500;X-TITLE=Singergasse 20:geo:16.2398859,47.8132475
END:VEVENT
END:VCALENDAR