BEGIN:VCALENDAR
VERSION:2.0
PRODID:-//femvents.at - ECPv6.15.18//NONSGML v1.0//EN
CALSCALE:GREGORIAN
METHOD:PUBLISH
X-WR-CALNAME:femvents.at
X-ORIGINAL-URL:https://www.femvents.at
X-WR-CALDESC:Veranstaltungen für femvents.at
REFRESH-INTERVAL;VALUE=DURATION:PT1H
X-Robots-Tag:noindex
X-PUBLISHED-TTL:PT1H
BEGIN:VTIMEZONE
TZID:Europe/Vienna
BEGIN:DAYLIGHT
TZOFFSETFROM:+0100
TZOFFSETTO:+0200
TZNAME:CEST
DTSTART:20250330T010000
END:DAYLIGHT
BEGIN:STANDARD
TZOFFSETFROM:+0200
TZOFFSETTO:+0100
TZNAME:CET
DTSTART:20251026T010000
END:STANDARD
BEGIN:DAYLIGHT
TZOFFSETFROM:+0100
TZOFFSETTO:+0200
TZNAME:CEST
DTSTART:20260329T010000
END:DAYLIGHT
BEGIN:STANDARD
TZOFFSETFROM:+0200
TZOFFSETTO:+0100
TZNAME:CET
DTSTART:20261025T010000
END:STANDARD
BEGIN:DAYLIGHT
TZOFFSETFROM:+0100
TZOFFSETTO:+0200
TZNAME:CEST
DTSTART:20270328T010000
END:DAYLIGHT
BEGIN:STANDARD
TZOFFSETFROM:+0200
TZOFFSETTO:+0100
TZNAME:CET
DTSTART:20271031T010000
END:STANDARD
END:VTIMEZONE
BEGIN:VEVENT
DTSTART;TZID=Europe/Vienna:20260903T170000
DTEND;TZID=Europe/Vienna:20260906T140000
DTSTAMP:20260420T054144
CREATED:20250902T090653Z
LAST-MODIFIED:20250902T090737Z
UID:10000220-1788454800-1788703200@www.femvents.at
SUMMARY:HeilRetreat "Von der Stille ins Leben"
DESCRIPTION:Wissen wir um unsere weibliche Kraft und wie wir sie nähren können\, finden wir wie von selbst unseren ureigenen Rhythmus um uns ungeachtet aller Herausforderungen wieder ins Leben zu verlieben. \nHeilung und Transformation \n\n\nIm lichtdurchfluteten „Dom“ eines einzigartigen Kraftplatzes öffnen sich dir neue Räume der Achtsamkeit und der Stille\, der Verbindung\, der Freude und der Lebenskraft. All das für dich\, um tief in dir selbst anzukommen. \nDer Titel ist Programm: „Von der Stille ins Leben“ bedeutet nicht\, dem Alltag zu entfliehen. Es bedeutet\, dir eine Auszeit zu gönnen\, um deine eigene Quelle der Kraft wieder zu entdecken\, aus der du gestärkt\, klar und lebendig ins Leben zurückkehren kannst. \nWas dich im Retreat erwartet: \n\nGeführte Meditationen und wahre Momente der Stille\nElemente des Feuers als Symbol für Transformation und Lebenskraft\nReflexionsimpulse\, die dir helfen\, dir selbst wieder näherzukommen\nEine ehrliche Gemeinschaft unter Frauen in der Natur\, mit Ritualen und Achtsamkeit\nEchte Verbindung spüren zu dir und anderen Frauen\nStärken deines intuitiven Ausdrucks\nTiefes Ankommen auch in deinem Körper\nspirituelles Wissen und Werkzeuge für den Alltag\nVegane\, biologische\, regionale Küche – frisch\, saisonal\, bewusst zubereitetMein Angebot wird auch immer intuitiv den Gruppenbedürfnissen angepasst.\n\nWann ist dieses Retreat perfekt für dich? \nWenn du spürst: \n\nIch brauche Raum zum Durchatmen\nIch möchte hören\, was meine innere Stimme mir sagt.\nIch habe mich selbst aus den Augen verloren.\nIch möchte mein inneres Feuer neu entfachen.\nIch sehne mich danach\, mich wieder genährt\, verbunden und lebendig zu fühlen.\n\nDann ist dieses Retreat dein Kraftort\, dein Moment\, dein Neubeginn. \nVon Frau zu Frau: Es darf leicht sein\, es darf tief gehen\, es darf ganz dir gehören. \nWenn du bereit bist\, die äußere Lautstärke gegen innere Klarheit zu tauschen\, wenn du dir wünschst\, dich selbst wieder ganz zu spüren und deinem inneren Feuer Raum zu geben – dann heiße ich dich von Herzen willkommen. \n„Von der Stille ins Leben“ – das Retreat für Frauen\, die tiefe Transformation erleben wollen. \nInteresse\, Fragen\, Herzklopfen?\nDann ist vielleicht gerade jetzt der perfekte Moment\, deinem „Ja“ zu folgen. \nAnmeldung und weitere Infos: sende mir eine Anfragemail \nWähle deine Unterkunft und reserviere sie direkt beim Seminarzentrum \n 
URL:https://www.femvents.at/event/heilretreat-von-der-stille-ins-leben/
LOCATION:Seminarzentrum „der baum“\, Am Inslingbach 17\, Inzersdorf\, Oberösterreich\, 4565\, Austria
CATEGORIES:Retreat
ATTACH;FMTTYPE=image/png:https://www.femvents.at/wp-content/uploads/2025/09/Bild-fuer-derbaum.png
ORGANIZER;CN="Herzweise - Astrid Schad-Gotschy":MAILTO:amadea@astridschad.com
GEO:47.9275133;14.0729128
X-APPLE-STRUCTURED-LOCATION;VALUE=URI;X-ADDRESS=Seminarzentrum „der baum“ Am Inslingbach 17 Inzersdorf Oberösterreich 4565 Austria;X-APPLE-RADIUS=500;X-TITLE=Am Inslingbach 17:geo:14.0729128,47.9275133
END:VEVENT
BEGIN:VEVENT
DTSTART;VALUE=DATE:20260906
DTEND;VALUE=DATE:20260907
DTSTAMP:20260420T054144
CREATED:20260410T091247Z
LAST-MODIFIED:20260410T091247Z
UID:10001062-1788652800-1788739199@www.femvents.at
SUMMARY:NÖ Frauenlauf
DESCRIPTION:Am Sonntag\, 6. September 2026\, findet der 20. NÖ Frauenlauf im Sportzentrum NÖ rund um den Ratzersdorfer See und Viehofner See statt. Eingeladen sind alle\, egal ob jung oder alt und egal\, ob Anfängerin\, Hobby- oder Profiläuferin oder Nordic Walkerin -gemeinsam können wir etwas Gutes tun und die Aktion ‚Laufen gegen Krebs‘ tatkräftig unterstützen. Für jeden gelaufenen Kilometer wird Geld für den Kampf gegen Krebs erlaufen.
URL:https://www.femvents.at/event/noe-frauenlauf/
LOCATION:Sportzentrum NÖ\, Niederösterreich\, Austria
CATEGORIES:Niederösterreich,Sport
ATTACH;FMTTYPE=image/png:https://www.femvents.at/wp-content/uploads/2026/04/femventsBild.png
GEO:48.108077;15.8049558
END:VEVENT
END:VCALENDAR