BEGIN:VCALENDAR
VERSION:2.0
PRODID:-//femvents.at - ECPv6.15.18//NONSGML v1.0//EN
CALSCALE:GREGORIAN
METHOD:PUBLISH
X-WR-CALNAME:femvents.at
X-ORIGINAL-URL:https://www.femvents.at
X-WR-CALDESC:Veranstaltungen für femvents.at
REFRESH-INTERVAL;VALUE=DURATION:PT1H
X-Robots-Tag:noindex
X-PUBLISHED-TTL:PT1H
BEGIN:VTIMEZONE
TZID:Europe/Vienna
BEGIN:DAYLIGHT
TZOFFSETFROM:+0100
TZOFFSETTO:+0200
TZNAME:CEST
DTSTART:20250330T010000
END:DAYLIGHT
BEGIN:STANDARD
TZOFFSETFROM:+0200
TZOFFSETTO:+0100
TZNAME:CET
DTSTART:20251026T010000
END:STANDARD
BEGIN:DAYLIGHT
TZOFFSETFROM:+0100
TZOFFSETTO:+0200
TZNAME:CEST
DTSTART:20260329T010000
END:DAYLIGHT
BEGIN:STANDARD
TZOFFSETFROM:+0200
TZOFFSETTO:+0100
TZNAME:CET
DTSTART:20261025T010000
END:STANDARD
BEGIN:DAYLIGHT
TZOFFSETFROM:+0100
TZOFFSETTO:+0200
TZNAME:CEST
DTSTART:20270328T010000
END:DAYLIGHT
BEGIN:STANDARD
TZOFFSETFROM:+0200
TZOFFSETTO:+0100
TZNAME:CET
DTSTART:20271031T010000
END:STANDARD
END:VTIMEZONE
BEGIN:VEVENT
DTSTART;TZID=Europe/Vienna:20261011T093000
DTEND;TZID=Europe/Vienna:20261011T130000
DTSTAMP:20260420T091342
CREATED:20260109T102714Z
LAST-MODIFIED:20260109T102714Z
UID:10000661-1791711000-1791723600@www.femvents.at
SUMMARY:Hypnose Workshop: Begegnung mit dir SELBST
DESCRIPTION:Sonntag\, 11. Oktober 2026\, von 9:30 – 13:00 Uhr: Am Mental Health Weekend\, begleitet dich Natalie Kohl in eine Erfahrung\, bei der Hypnose dich dorthin führt\, wo dein bewusster Verstand nicht mehr greift. \nTauche ein in einen Raum voller Ruhe\, Vertrauen und Herzenergie. In diesem besonderen Workshop lernst Du\, wie Du mit Hypnose\, inneren Bildern und einfachen Übungen Deine Selbstliebe und Deinen Selbstwert von innen heraus stärkst.  \nWarum Hypnose: „Weil sie ehrlich und wirkungsvoll ist – weil sie Menschen wieder spüren lässt\, was längst in ihnen angelegt ist: Selbstliebe\, Vertrauen und innere Stärke.“  \nWas Dich erwartet: \n\nSanfte Einführung in die Welt der Hypnose: echt\, sicher\, alltagstauglich\nErleben\, wie Dein Unterbewusstsein Dich unterstützt\, anstatt Dich zu bremsen\nAlte Glaubenssätze lösen („Ich bin nicht genug“) und neue innere Stärke aufbauen\nGruppenhypnose: Eine geführte Reise zu Deinem inneren Selbst\nKreative Integration: Gestalte Dein persönliches Symbol für Selbstliebe\nTools & Übungen für Deinen Alltag … spürbar\, leicht umsetzbar\, wirkungsvoll 
URL:https://www.femvents.at/event/hypnose-workshop-begegnung-mit-dir-selbst-2/
LOCATION:liebestrunken I SELF LOVE CLUB\, Lederergasse 3\, Salzburg\, Salzburg\, 5020\, Austria
CATEGORIES:Salzburg,Workshop
ATTACH;FMTTYPE=image/png:https://www.femvents.at/wp-content/uploads/2026/01/Copy.png
ORGANIZER;CN="SELF LOVE CLUB @liebestrunken":MAILTO:hey@liebestrunken.com
GEO:47.802268;13.0445985
X-APPLE-STRUCTURED-LOCATION;VALUE=URI;X-ADDRESS=liebestrunken I SELF LOVE CLUB Lederergasse 3 Salzburg Salzburg 5020 Austria;X-APPLE-RADIUS=500;X-TITLE=Lederergasse 3:geo:13.0445985,47.802268
END:VEVENT
END:VCALENDAR