BEGIN:VCALENDAR
VERSION:2.0
PRODID:-//femvents.at - ECPv6.15.18//NONSGML v1.0//EN
CALSCALE:GREGORIAN
METHOD:PUBLISH
X-WR-CALNAME:femvents.at
X-ORIGINAL-URL:https://www.femvents.at
X-WR-CALDESC:Veranstaltungen für femvents.at
REFRESH-INTERVAL;VALUE=DURATION:PT1H
X-Robots-Tag:noindex
X-PUBLISHED-TTL:PT1H
BEGIN:VTIMEZONE
TZID:Europe/Vienna
BEGIN:DAYLIGHT
TZOFFSETFROM:+0100
TZOFFSETTO:+0200
TZNAME:CEST
DTSTART:20260329T010000
END:DAYLIGHT
BEGIN:STANDARD
TZOFFSETFROM:+0200
TZOFFSETTO:+0100
TZNAME:CET
DTSTART:20261025T010000
END:STANDARD
BEGIN:DAYLIGHT
TZOFFSETFROM:+0100
TZOFFSETTO:+0200
TZNAME:CEST
DTSTART:20270328T010000
END:DAYLIGHT
BEGIN:STANDARD
TZOFFSETFROM:+0200
TZOFFSETTO:+0100
TZNAME:CET
DTSTART:20271031T010000
END:STANDARD
BEGIN:DAYLIGHT
TZOFFSETFROM:+0100
TZOFFSETTO:+0200
TZNAME:CEST
DTSTART:20280326T010000
END:DAYLIGHT
BEGIN:STANDARD
TZOFFSETFROM:+0200
TZOFFSETTO:+0100
TZNAME:CET
DTSTART:20281029T010000
END:STANDARD
END:VTIMEZONE
BEGIN:VEVENT
DTSTART;VALUE=DATE:20270130
DTEND;VALUE=DATE:20270329
DTSTAMP:20260423T002945
CREATED:20260109T103411Z
LAST-MODIFIED:20260109T103411Z
UID:10000666-1801267200-1806278399@www.femvents.at
SUMMARY:Lehrgang zertifizierte Kreativtrainerin
DESCRIPTION:In 2 Seminar-Wochenenden in deinen neuen Lebensentwurf starten\nKreativität ist mehr als Malen\, Schreiben oder Basteln. Sie ist Ausdruck deiner inneren Welt – deiner Emotionen\, Gedanken\, Erinnerungen und Sehnsüchte. Kreativität bedeutet\, Verbindungen zu schaffen: zwischen Kopf und Herz\, Gefühl und Handlung\, dir und deiner Umgebung. \nIn einer Zeit\, in der vieles rational\, schnell und laut ist\, wird Kreativität zu einem Anker der Achtsamkeit. Sie öffnet Räume\, in denen Menschen sich selbst wieder spüren\, Stress abbauen\, Vertrauen entwickeln und Mut zur eigenen Stimme finden. \nKreativität ist ein Weg zur Selbstbegegnung und gleichzeitig ein kraftvolles Werkzeug in der Erwachsenenbildung. Denn wenn Erwachsene kreativ werden\, entstehen nicht nur schöne Ergebnisse\, sondern Erkenntnisse: neue Perspektiven\, emotionale Zugänge und ein vertieftes Verständnis für sich selbst. \nKreativität in der Erwachsenenbildung \nKreative Methoden sind längst ein anerkannter Bestandteil moderner Lernprozesse. Sie aktivieren beide Gehirnhälften\, fördern neuronale Verknüpfungen\, stärken Motivation und helfen\, Wissen emotional zu verankern. \nAls Trainerin lernst du\, wie du kreative Techniken gezielt einsetzen kannst\, um Lerninhalte erfahrbar zu machen\, emotionale Tiefe zu schaffen und Gruppen auf eine intuitive\, lebendige Weise zu begleiten. \nTermine 2027\n\nSamstag\, 30. – Sonntag\, 31. Januar 2027 (Seminarteil 1)\nFreitag\, 26. Februar 2027 I 18:00 – 20:00 Uhr (Online-Live-Mentoring)\nSamstag\, 27. – Sonntag\, 28. März 2027 (Seminarteil 2)
URL:https://www.femvents.at/event/lehrgang-zertifizierte-kreativtrainerin/
LOCATION:liebestrunken I SELF LOVE CLUB\, Lederergasse 3\, Salzburg\, Salzburg\, 5020\, Austria
CATEGORIES:Salzburg
ATTACH;FMTTYPE=image/png:https://www.femvents.at/wp-content/uploads/2026/01/open-heart-w.png
ORGANIZER;CN="SELF LOVE CLUB @liebestrunken":MAILTO:hey@liebestrunken.com
GEO:47.802268;13.0445985
X-APPLE-STRUCTURED-LOCATION;VALUE=URI;X-ADDRESS=liebestrunken I SELF LOVE CLUB Lederergasse 3 Salzburg Salzburg 5020 Austria;X-APPLE-RADIUS=500;X-TITLE=Lederergasse 3:geo:13.0445985,47.802268
END:VEVENT
BEGIN:VEVENT
DTSTART;VALUE=DATE:20270227
DTEND;VALUE=DATE:20270301
DTSTAMP:20260423T002945
CREATED:20260109T103354Z
LAST-MODIFIED:20260109T103354Z
UID:10000665-1803686400-1803859199@www.femvents.at
SUMMARY:Ausbildung Kreativ-Selbstliebe-Trainerin
DESCRIPTION:Werde Kreativ-Selbstliebe-Trainerin und verändere (dein) Leben\n\n\n\nDiese Ausbildung ist für dich\, wenn du Selbstliebe nicht nur erklären\, sondern erlebbar machen willst. Kreativ bedeutet hier: Arbeit über Erfahrung statt Theorie – über Ausdruck\, Körperwahrnehmung\, Schreiben und bewusste Prozesse\, die echte innere Veränderung ermöglichen. \nAls Kreativ-Selbstliebe-Trainerin schaffst du Räume\, in denen Menschen sich sicher fühlen\, sich zeigen dürfen und nachhaltige Selbstliebe entwickeln. \nDie Ausbildung verbindet fundiertes Wissen\, kreative Methoden und einen hohen Praxisanteil – für echte Tiefe\, Klarheit und Wirkung. \nDein Lehrgang zur Kreativ-Selbstliebe-Trainerin: \n\n4 Module mit Selbstliebe-Fokus per Online-Videokurs inkl. ausführlichem Skript und Praxis-Übungen im Selbststudium\nBonusmodul: Unternehmertum – Positionierung & Sichtbarkeit\, Marketing\, Versicherung & Steuern als Skript\nfreiwillige Telegram-Gruppe für Austausch mit Sparring-Partner\nPraxis-Seminarwochenende Samstag und Sonntag mit Schwerpunkt Kreativarbeit\nAbschluss mit Zertifikat
URL:https://www.femvents.at/event/ausbildung-kreativ-selbstliebe-trainerin-2/
LOCATION:liebestrunken I SELF LOVE CLUB\, Lederergasse 3\, Salzburg\, Salzburg\, 5020\, Austria
CATEGORIES:Salzburg
ATTACH;FMTTYPE=image/png:https://www.femvents.at/wp-content/uploads/2026/01/boost-your-monday-1.png
ORGANIZER;CN="SELF LOVE CLUB @liebestrunken":MAILTO:hey@liebestrunken.com
GEO:47.802268;13.0445985
X-APPLE-STRUCTURED-LOCATION;VALUE=URI;X-ADDRESS=liebestrunken I SELF LOVE CLUB Lederergasse 3 Salzburg Salzburg 5020 Austria;X-APPLE-RADIUS=500;X-TITLE=Lederergasse 3:geo:13.0445985,47.802268
END:VEVENT
END:VCALENDAR