BEGIN:VCALENDAR
VERSION:2.0
PRODID:-//femvents.at - ECPv6.15.18//NONSGML v1.0//EN
CALSCALE:GREGORIAN
METHOD:PUBLISH
X-ORIGINAL-URL:https://www.femvents.at
X-WR-CALDESC:Veranstaltungen für femvents.at
REFRESH-INTERVAL;VALUE=DURATION:PT1H
X-Robots-Tag:noindex
X-PUBLISHED-TTL:PT1H
BEGIN:VTIMEZONE
TZID:Europe/Vienna
BEGIN:DAYLIGHT
TZOFFSETFROM:+0100
TZOFFSETTO:+0200
TZNAME:CEST
DTSTART:20240331T010000
END:DAYLIGHT
BEGIN:STANDARD
TZOFFSETFROM:+0200
TZOFFSETTO:+0100
TZNAME:CET
DTSTART:20241027T010000
END:STANDARD
BEGIN:DAYLIGHT
TZOFFSETFROM:+0100
TZOFFSETTO:+0200
TZNAME:CEST
DTSTART:20250330T010000
END:DAYLIGHT
BEGIN:STANDARD
TZOFFSETFROM:+0200
TZOFFSETTO:+0100
TZNAME:CET
DTSTART:20251026T010000
END:STANDARD
BEGIN:DAYLIGHT
TZOFFSETFROM:+0100
TZOFFSETTO:+0200
TZNAME:CEST
DTSTART:20260329T010000
END:DAYLIGHT
BEGIN:STANDARD
TZOFFSETFROM:+0200
TZOFFSETTO:+0100
TZNAME:CET
DTSTART:20261025T010000
END:STANDARD
END:VTIMEZONE
BEGIN:VEVENT
DTSTART;TZID=Europe/Vienna:20250208T090000
DTEND;TZID=Europe/Vienna:20250208T100000
DTSTAMP:20260423T111724
CREATED:20250710T154725Z
LAST-MODIFIED:20250710T154803Z
UID:10000101-1739005200-1739008800@www.femvents.at
SUMMARY:Sommerkurs am See in Linz
DESCRIPTION: Hoopdance.Love – Bewegung\, Flow & Freude!\nEin Ort für Bewegung\, Flow und Lebensfreude – komm jederzeit dazu! \nErlebe Hoopdance.Love – eine einzigartige Mischung aus Hoopdance\, Yoga Hooping und Hoopilates\, die deinen Körper stärkt\, deine Flexibilität verbessert und dich mit positiver Energie erfüllt!\n Ort: Pichlinger See\, Linz (Nähe Monkeys Island) Wann: 2.\, 9.\, 16.\, 23. August\, Samstags um 9:00 Uhr Dauer: 60 Minuten\n Preise:• Drop-in: 15 €\nWas du mitbringen solltest: Eine eigene Matte Falls möglich\, deinen eigenen Reifen – falls nicht\, gibt es welche zum Ausleihen\n Trainerin: Sylvia\n Anfänger willkommen – komm vorbei und erlebe den Flow! \n Mehr erfahren: www.hoopdance.love
URL:https://www.femvents.at/event/sommerkurs-am-see-in-linz-2/
LOCATION:Pichlinger See Linz\, Raffelstettnerstraße 56\, Linz\, Oberösterreich\, 4030\, Austria
CATEGORIES:Frauenkreis,Kurs,Sport
ATTACH;FMTTYPE=image/jpeg:https://www.femvents.at/wp-content/uploads/2025/07/20250701_043508329_iOS.jpg
ORGANIZER;CN="Hoopdance.Love":MAILTO:hello@sylviatomek.com
GEO:48.235676;14.3876507
X-APPLE-STRUCTURED-LOCATION;VALUE=URI;X-ADDRESS=Pichlinger See Linz Raffelstettnerstraße 56 Linz Oberösterreich 4030 Austria;X-APPLE-RADIUS=500;X-TITLE=Raffelstettnerstraße 56:geo:14.3876507,48.235676
END:VEVENT
END:VCALENDAR