BEGIN:VCALENDAR
VERSION:2.0
PRODID:-//femvents.at - ECPv6.15.18//NONSGML v1.0//EN
CALSCALE:GREGORIAN
METHOD:PUBLISH
X-ORIGINAL-URL:https://www.femvents.at
X-WR-CALDESC:Veranstaltungen für femvents.at
REFRESH-INTERVAL;VALUE=DURATION:PT1H
X-Robots-Tag:noindex
X-PUBLISHED-TTL:PT1H
BEGIN:VTIMEZONE
TZID:Europe/Vienna
BEGIN:DAYLIGHT
TZOFFSETFROM:+0100
TZOFFSETTO:+0200
TZNAME:CEST
DTSTART:20250330T010000
END:DAYLIGHT
BEGIN:STANDARD
TZOFFSETFROM:+0200
TZOFFSETTO:+0100
TZNAME:CET
DTSTART:20251026T010000
END:STANDARD
BEGIN:DAYLIGHT
TZOFFSETFROM:+0100
TZOFFSETTO:+0200
TZNAME:CEST
DTSTART:20260329T010000
END:DAYLIGHT
BEGIN:STANDARD
TZOFFSETFROM:+0200
TZOFFSETTO:+0100
TZNAME:CET
DTSTART:20261025T010000
END:STANDARD
BEGIN:DAYLIGHT
TZOFFSETFROM:+0100
TZOFFSETTO:+0200
TZNAME:CEST
DTSTART:20270328T010000
END:DAYLIGHT
BEGIN:STANDARD
TZOFFSETFROM:+0200
TZOFFSETTO:+0100
TZNAME:CET
DTSTART:20271031T010000
END:STANDARD
END:VTIMEZONE
BEGIN:VEVENT
DTSTART;TZID=Europe/Vienna:20260628T140000
DTEND;TZID=Europe/Vienna:20260701T120000
DTSTAMP:20260420T022024
CREATED:20260313T083641Z
LAST-MODIFIED:20260401T084952Z
UID:10000883-1782655200-1782907200@www.femvents.at
SUMMARY:Das 1. Mentales Trainingscamp in den Bergen
DESCRIPTION:Du trainierst hart – aber deine Leistung ist nicht immer abrufbar?\nZweifel. Druck. Overthinking. \nMentale Strategien entscheiden oft darüber\, ob du dein Potenzial für deine Projekte wirklich nutzen kannst. \nGenau daran arbeiten wir beim Mentalen Trainingscamp im Ammererhof.\n4 Tage in den Bergen. \nSportpsychologie\, Embodiment & Breathwork –\nfür Fokus\, mentale Regeneration und Klarheit. \n📅 28.06.–01.07.2026\n👥 max. 12 Plätze\n🏅für Athlet:innen jeder Disziplin!
URL:https://www.femvents.at/event/das-1-mentales-trainingscamp-in-den-bergen/
LOCATION:Ammererhof\, Rauris | Österreich\, Austria
CATEGORIES:Coaching,Meditation,Retreat,Salzburg,Sport,Workshop
ATTACH;FMTTYPE=image/jpeg:https://www.femvents.at/wp-content/uploads/2026/03/WhatsApp-Image-2026-03-12-at-17.56.17.jpeg
ORGANIZER;CN="Veronika Mayerhofer":MAILTO:office@veronika-mayerhofer.com
GEO:47.516231;14.550072
END:VEVENT
BEGIN:VEVENT
DTSTART;TZID=Europe/Vienna:20260701T163000
DTEND;TZID=Europe/Vienna:20260701T180000
DTSTAMP:20260420T022024
CREATED:20260317T091730Z
LAST-MODIFIED:20260317T091730Z
UID:10000936-1782923400-1782928800@www.femvents.at
SUMMARY:Körperliebe statt Körperkritik
DESCRIPTION:Treffpunkt Frauenwissen\n\nIn diesem Impuls erfahren die Teilnehmenden\, wie sie einen liebevolleren\, achtsameren Blick auf ihren eigenen Körper entwickeln können. Statt sich von Selbstzweifeln oder äußeren Erwartungen leiten zu lassen\, lernen sie einfache Wege kennen\, um mehr Wertschätzung\, Vertrauen und innere Ruhe zu kultivieren. Kurze Reflexionsübungen und alltagstaugliche Impulse unterstützen dabei\, den eigenen Körper als Verbündeten wahrzunehmen und eine stärkende\, freundliche Beziehung zu sich selbst aufzubauen. \n\n\nmit Jana SIMBÜRGER
URL:https://www.femvents.at/event/koerperliebe-statt-koerperkritik/
LOCATION:Linz
CATEGORIES:Oberösterreich,Workshop
ATTACH;FMTTYPE=image/png:https://www.femvents.at/wp-content/uploads/2025/06/femvents_eventbild.png
END:VEVENT
BEGIN:VEVENT
DTSTART;TZID=Europe/Vienna:20260701T183000
DTEND;TZID=Europe/Vienna:20260701T203000
DTSTAMP:20260420T022024
CREATED:20260128T111318Z
LAST-MODIFIED:20260128T111318Z
UID:10000722-1782930600-1782937800@www.femvents.at
SUMMARY:FRAU iDA Vernetzungstreffen
DESCRIPTION:Beim FRAU iDA Vernetzungstreffen im Juli geben Mag.a Birgit Schön und Viktoria Reisinger\, BA\, MA\, spannende Einblicke in das Thema „Frauen und ihre Pension“. In dieser kurzen Vorstellung beleuchten sie\, wie Frauen ihre finanzielle Zukunft bewusst gestalten\, mögliche Lücken in der Pensionsvorsorge erkennen und aktiv schließen können \nWir setzen wieder unsere Videokonferenzkamera mit 360° Rundum-Überblick ein\, damit wir allen\, die an diesem Abend nicht nach Zwettl kommen können\, die Möglichkeit bieten\, sich zu vernetzen und austauschen zu können. Dank Owlivia\, wie wir sie liebevoll nennen\, können wir Interessierte online via Zoom zuschalten – sie erleben das Treffen\, als wären sie im selben Raum. Wir freuen uns\, wenn du unser innovatives Angebot nutzt – hier der Zoom-Link: https://us06web.zoom.us/j/85665550790
URL:https://www.femvents.at/event/frau-ida-vernetzungstreffen-9/
LOCATION:FRAU iDA\, Hauptplatz 16\, Zwettl\, Niederösterreich\, 3910\, Austria
CATEGORIES:Meditation,Netzwerk-Treffen,Niederösterreich,Online-Event
ATTACH;FMTTYPE=image/jpeg:https://www.femvents.at/wp-content/uploads/2026/01/1.1_Logo_FRAUiDA-4.jpg
ORGANIZER;CN="FRAU iDA":MAILTO:office@frau-ida.at
GEO:48.6041614;15.167567
X-APPLE-STRUCTURED-LOCATION;VALUE=URI;X-ADDRESS=FRAU iDA Hauptplatz 16 Zwettl Niederösterreich 3910 Austria;X-APPLE-RADIUS=500;X-TITLE=Hauptplatz 16:geo:15.167567,48.6041614
END:VEVENT
BEGIN:VEVENT
DTSTART;TZID=Europe/Vienna:20260703T190000
DTEND;TZID=Europe/Vienna:20260703T233000
DTSTAMP:20260420T022024
CREATED:20260210T135916Z
LAST-MODIFIED:20260218T081545Z
UID:10000793-1783105200-1783121400@www.femvents.at
SUMMARY:Ladies Night
DESCRIPTION:Wir sind die Frauengruppe der HOSI Salzburg. Seit 2015 organisieren wir jeden Monat einen Abend nur für Frauen*\, unabhängig von sexueller Orientierung. Die Ladies Night bietet queeren Frauen* in Salzburg einen geschützten Raum\, um gemeinsam zu feiern oder einen gemütlichen Abend miteinander zu verbringen. \nWir freuen uns immer über neue Gesichter – kommt gerne vorbei! \nWas machen wir?\nVon Getränke-Specials über Lesbenfilmnächte\, Tanzabende\, Lesungen\, bis hin zu gemütlichem Beisammensein\, das alles gibt es jeden ersten Freitag im Monat\, speziell für Frauen*  in der HOSI Salzburg.* \n*Die „Ladies Night“ richtet sich an Frauen jeglicher sexuellen Orientierung  sowie trans*\, inter* und nicht-binäre Menschen.
URL:https://www.femvents.at/event/ladies-night-5/
LOCATION:HOSI Salzburg – Queere Interessevertretung\, Franz-Josef-Straße 22\, Salzburg\, Salzburg\, 5020\, Austria
CATEGORIES:Salzburg
ATTACH;FMTTYPE=image/png:https://www.femvents.at/wp-content/uploads/2026/02/Ladies-Night.png
ORGANIZER;CN="HOSI Salzburg - Queere Interessenvertretung":MAILTO:office@hosi.or.at
GEO:47.8060803;13.0482441
X-APPLE-STRUCTURED-LOCATION;VALUE=URI;X-ADDRESS=HOSI Salzburg – Queere Interessevertretung Franz-Josef-Straße 22 Salzburg Salzburg 5020 Austria;X-APPLE-RADIUS=500;X-TITLE=Franz-Josef-Straße 22:geo:13.0482441,47.8060803
END:VEVENT
BEGIN:VEVENT
DTSTART;VALUE=DATE:20260707
DTEND;VALUE=DATE:20260718
DTSTAMP:20260420T022024
CREATED:20260205T164557Z
LAST-MODIFIED:20260205T164557Z
UID:10000769-1783382400-1784332799@www.femvents.at
SUMMARY:Entdecke die Mongolei auf Pferden
DESCRIPTION:Horse Trek zur Khentii-Provinz – auf den Spuren von Chinggis Khan\n\n\nDie Mongolei ist ein selten besuchtes Reiseland\, das auf jeder Bucketlist einer Outdoor-Reisenden stehen sollte – ein Ort\, der mit seiner unberührten Weite und authentischen Nomadenkultur ein unvergleichliches\, einmaliges Erlebnis verspricht.\n\n\nBereise die Mongolei so ursprünglich\, wie sie nur zu Pferd möglich ist. Mein exklusiver Horse Trek führt dich in die Khentii-Provinz – das geheimnisvolle Herzland und die Geburtsstätte von Chinggis Khan. \nIn einer kleinen\, sorgfältig begleiteten Gruppe reiten wir durch endlose Steppe\, stille Wälder\, klare Flüsse und jahrhundertealte Nomadenlandschaften. Jede Etappe verbindet Natur\, Geschichte\, Abenteuer und eine tiefe Ruhe\, die man nur in der Weite der Mongolei findet. \nDieser Trek wurde für Frauen entwickelt\, die authentische Erlebnisse suchen\, die Nähe zu Pferden lieben und eine Reise wollen\, die Kraft schenkt und zugleich unvergesslich bleibt. \n\nNur 10 Plätze: kleine\, persönliche Gruppe. \nWarum ein Horse Trek in die Mongolei?\nWeil es Reisen gibt – und es gibt Erlebnisse\, die etwas in uns bewegen. \nEin Horse Trek in der Mongolei gehört zu Letzteren. Hier reiten wir nicht einfach durch eine Landschaft – wir tauchen ein in ein Land\, das seine Ursprünglichkeit bewahrt hat wie kaum ein anderer Ort der Welt. \nWir folgen den Spuren der Nomaden\, durchqueren wilde Natur und spüren\, wie mit jedem Kilometer eine innere Ruhe einkehrt. Ein Horse Trek in der Mongolei ist mehr als ein Reitabenteuer – er ist ein Weg\, sich selbst wieder näherzukommen\, Kraft zu schöpfen und eine Verbundenheit zu erleben\, die nur in dieser unendlichen Landschaft entsteht. \nFür Frauen\, die Natur lieben\, Abenteuer suchen und das Ursprüngliche spüren wollen\, ist die Mongolei zu Pferd ein Reiseerlebnis\, das lange nachklingt. \nDas detaillierte Reiseprogramm findest du auf meiner Website: www.ladies-who-travel.com
URL:https://www.femvents.at/event/entdecke-die-mongolei-auf-pferden/
CATEGORIES:Frauenkreis,Meetup,Retreat,Sport
ATTACH;FMTTYPE=image/jpeg:https://www.femvents.at/wp-content/uploads/2026/02/Ladies-who-travel_Mongolei_023-low.jpg
ORGANIZER;CN="Ladies Who Travel - Sabrina Weber":MAILTO:hello@ladies-who-travel.com
END:VEVENT
BEGIN:VEVENT
DTSTART;TZID=Europe/Vienna:20260710T160000
DTEND;TZID=Europe/Vienna:20260710T200000
DTSTAMP:20260420T022024
CREATED:20260413T085407Z
LAST-MODIFIED:20260413T085407Z
UID:10001069-1783699200-1783713600@www.femvents.at
SUMMARY:Ladies Day
DESCRIPTION:✨LADIES DAY✨ \n10. Juli 2026\, 16:00-20:00 Uhr \nGersthoferstraße 109/12 \n1180 Wien \nEIN NACHMITTAG NUR FÜR DICH – VOLLER WOHLBEFINDEN UND INSPIRATION 🪷 \nEs gibt Buffet und ein gut gefülltes Goddiebag 🎁 \nSichere dir dein Ticket 15 Euro: 👇🏼 \nhttps://silvia-hummel.at/produkt/ladies-day/ \nGlg Ich freue mich auf dich 🤩 \nSilvia Hummel 🐝
URL:https://www.femvents.at/event/ladies-day-3/
LOCATION:Gemeinschaftspraxis Ladykompass\, Gersthoferstrasse 109/12\, Wien\, Wien\, 1180\, Austria
CATEGORIES:Coaching,Frauenkreis,Wien,Workshop
ATTACH;FMTTYPE=image/jpeg:https://www.femvents.at/wp-content/uploads/2026/04/IMG_2641.jpeg
ORGANIZER;CN="Silvia Hummel":MAILTO:Info@ladykompass.at
GEO:48.2369512;16.3231968
X-APPLE-STRUCTURED-LOCATION;VALUE=URI;X-ADDRESS=Gemeinschaftspraxis Ladykompass Gersthoferstrasse 109/12 Wien Wien 1180 Austria;X-APPLE-RADIUS=500;X-TITLE=Gersthoferstrasse 109/12:geo:16.3231968,48.2369512
END:VEVENT
BEGIN:VEVENT
DTSTART;TZID=Europe/Vienna:20260710T180000
DTEND;TZID=Europe/Vienna:20260710T220000
DTSTAMP:20260420T022024
CREATED:20260317T094652Z
LAST-MODIFIED:20260419T100950Z
UID:10000942-1783706400-1783720800@www.femvents.at
SUMMARY:Bgld./Neufeld LLL-BUSINESS Ladies Update von und mit LLL Obfrau Susanne E. Tichy
DESCRIPTION:🌸✨ Hallo liebe Unternehmerinnen & Business-Frauen ✨🌸 \nUnser Verein bietet den LLL Business Ladies viele Möglichkeiten\, sich zu präsentieren\, sichtbar zu werden und das Vereinsangebot optimal zu nutzen. \nDamit ihr genau wisst\, welche Chancen und Angebote euch im Verein zur Verfügung stehen\, starten wir heuer die neue Informationsreihe „LLL Business Ladies Update“. \nBei diesen Treffen stelle ich euch persönlich alle Angebote des Vereins vor – von Präsentationsmöglichkeiten bis hin zu gemeinsamen Aktionen. \nNach der Präsentation (ca. 90 Minuten) gibt es Raum für Fragen\, Austausch und gemütliches Netzwerken. \n💡 Das LLL Business Ladies Update ist kostenfrei und für alle interessierten Ladies zugänglich. \n\n       Einlass jeweils 18:00 Uhr | Beginn 18:30 Uhr\n💼 Gemeinsam wachsen.\n💬 Gemeinsam lernen.\n💖 Gemeinsam erfolgreich sein.\nIch freue mich darauf\, euch die vielen Möglichkeiten im Verein näherzubringen und gemeinsam zu schauen\, wie wir uns gegenseitig unterstützen können. \n📩 Bitte um Platzreservierung\ninfo@vereinlebenliebenlachen.at
URL:https://www.femvents.at/event/neufeld-lll-business-ladies-update-von-und-mit-lll-obfrau-susanne-e-tichy/
LOCATION:Neufeldersee Hotel&Restaurant\, Eisenstädter Straße 35\, Neufeld\, 2493
CATEGORIES:Burgenland,LLL,LLL Business Treff,L💛L🧡L🩷 Frauentreff
ATTACH;FMTTYPE=image/png:https://www.femvents.at/wp-content/uploads/2026/03/LLL-Business-Ladies-Update-Logo-zzVGKJ.png
ORGANIZER;CN="LEBEN%2C LIEBEN%2C LACHEN &#8211%3B endlich wei%C3%9F ich wie!":MAILTO:info@vereinlebenliebenlachen.at
GEO:47.8656397;16.3860933
X-APPLE-STRUCTURED-LOCATION;VALUE=URI;X-ADDRESS=Neufeldersee Hotel&Restaurant Eisenstädter Straße 35 Neufeld 2493;X-APPLE-RADIUS=500;X-TITLE=Eisenstädter Straße 35:geo:16.3860933,47.8656397
END:VEVENT
BEGIN:VEVENT
DTSTART;TZID=Europe/Vienna:20260711T090000
DTEND;TZID=Europe/Vienna:20260712T130000
DTSTAMP:20260420T022024
CREATED:20260208T121526Z
LAST-MODIFIED:20260208T121526Z
UID:10000781-1783760400-1783861200@www.femvents.at
SUMMARY:Erentrudisalm Retreat 11. & 12.07.26
DESCRIPTION:Bewegung – Sport – positives ICH \nDEIN Retreat auf der Erentrudisalm Salzburg – Stille. Kraft. Verbindung. \nTauche 1\,5 Tage lang ein in ein ganzheitliches Erlebnis voller Energie\, Entspannung und Lebensfreude: \n\nHIIT\, sanfte Bewegung & Naturspaziergänge\nAchtsamkeitsübungen & Atemtechniken\nImpulse aus der Positiven Psychologie\nGemeinsame Wanderung & Austausch\nZeit für dein ICH – bewusst & präsent
URL:https://www.femvents.at/event/erentrudisalm-retreat-11-12-07-26/
LOCATION:Erentrudisalm Elsbethen Salzburg\, Gfalls 9\, Elsbethen\, Salzburg\, 5061\, Austria
CATEGORIES:Kurs,Meditation,Meetup,Österreichweit,Retreat,Salzburg,Soundhealing,Sport
ATTACH;FMTTYPE=image/png:https://www.femvents.at/wp-content/uploads/2026/02/1-1.png
ORGANIZER;CN="im Sinn Claudia Strubegger":MAILTO:claudia@im-sinn.at
GEO:47.7531083;13.1155974
X-APPLE-STRUCTURED-LOCATION;VALUE=URI;X-ADDRESS=Erentrudisalm Elsbethen Salzburg Gfalls 9 Elsbethen Salzburg 5061 Austria;X-APPLE-RADIUS=500;X-TITLE=Gfalls 9:geo:13.1155974,47.7531083
END:VEVENT
BEGIN:VEVENT
DTSTART;TZID=Europe/Vienna:20260715T183000
DTEND;TZID=Europe/Vienna:20260715T203000
DTSTAMP:20260420T022024
CREATED:20260128T111422Z
LAST-MODIFIED:20260128T111422Z
UID:10000723-1784140200-1784147400@www.femvents.at
SUMMARY:FRAU SEiN Seminar: Frauen und ihre Pension
DESCRIPTION:Dieses Seminar richtet sich an Frauen\, die sich über das Pensionssystem und die eigene Absicherung informieren möchten. Es vermittelt verständliche Grundlagen dazu\, wie das Pensionssystem funktioniert und welche Faktoren die Pensionshöhe beeinflussen. \nEin besonderer Schwerpunkt liegt auf der Vorsorge: Welche Möglichkeiten gibt es\, frühzeitig Maßnahmen zu ergreifen\, um die finanzielle Sicherheit im Alter zu gewährleisten? Praktische Tipps und individuelle Fragestellungen werden aufgegriffen\, um den Teilnehmenden ein besseres Verständnis und eine stärkere Handlungskompetenz zu vermitteln. \nTerminanfrage unter:\nTel: 02822/2134020\nE-Mail: frausein@frau-ida.at
URL:https://www.femvents.at/event/frau-sein-seminar-frauen-und-ihre-pension/
LOCATION:FRAU iDA\, Hauptplatz 16\, Zwettl\, Niederösterreich\, 3910\, Austria
CATEGORIES:Niederösterreich,Vortrag,Workshop
ATTACH;FMTTYPE=image/jpeg:https://www.femvents.at/wp-content/uploads/2026/01/Logo-FRAU-SEiN-4.jpg
ORGANIZER;CN="FRAU iDA":MAILTO:office@frau-ida.at
GEO:48.6041614;15.167567
X-APPLE-STRUCTURED-LOCATION;VALUE=URI;X-ADDRESS=FRAU iDA Hauptplatz 16 Zwettl Niederösterreich 3910 Austria;X-APPLE-RADIUS=500;X-TITLE=Hauptplatz 16:geo:15.167567,48.6041614
END:VEVENT
BEGIN:VEVENT
DTSTART;TZID=Europe/Vienna:20260722T180000
DTEND;TZID=Europe/Vienna:20260722T220000
DTSTAMP:20260420T022024
CREATED:20260317T094653Z
LAST-MODIFIED:20260414T073944Z
UID:10000943-1784743200-1784757600@www.femvents.at
SUMMARY:*ABGESAGT* Baden LLL-Frauen Tanz Treff für VIP’s und die\, die es noch werden wollen
DESCRIPTION:
URL:https://www.femvents.at/event/baden-lll-frauen-tanz-treff-fuer-vips-und-die-die-es-noch-werden-wollen-ladies-night-oldies-60er-70er/
LOCATION:LEZ – Leesdorfer Event Zentrum\, Göschlgasse 1\, Baden\, 2500
CATEGORIES:Burgenland,LLL-FrauenTanz Treff
ATTACH;FMTTYPE=image/jpeg:https://www.femvents.at/wp-content/uploads/2026/03/LLL-Frauen_Tanz_Treffs-mit-Herzen_Konfetti-2026-QSXXi3.jpg
ORGANIZER;CN="LEBEN%2C LIEBEN%2C LACHEN &#8211%3B endlich wei%C3%9F ich wie!":MAILTO:info@vereinlebenliebenlachen.at
GEO:48.003221;16.2491114
X-APPLE-STRUCTURED-LOCATION;VALUE=URI;X-ADDRESS=LEZ – Leesdorfer Event Zentrum Göschlgasse 1 Baden 2500;X-APPLE-RADIUS=500;X-TITLE=Göschlgasse 1:geo:16.2491114,48.003221
END:VEVENT
BEGIN:VEVENT
DTSTART;TZID=Europe/Vienna:20260723T180000
DTEND;TZID=Europe/Vienna:20260723T233000
DTSTAMP:20260420T022024
CREATED:20260108T130644Z
LAST-MODIFIED:20260108T130644Z
UID:10000645-1784829600-1784849400@www.femvents.at
SUMMARY:Success Soirée - Summer Edition
DESCRIPTION:Die Success Soirée Salzburg lädt Businessfrauen zu einem besonderen After-Work-Event ein\, das Networking\, Inspiration und Feierlaune auf einzigartige Weise verbindet. Dieses außergewöhnliche Format bietet eine Bühne – in Form einer Tanzfläche – für Sichtbarkeit\, Austausch und Motivation. Mit starken Keynotes\, echten Begegnungen und Tanz unter der Disco-Kugelschafft die Success Soirée einen Raum\, in dem Frauen einander applaudieren\, gemeinsam feiern und miteinander wachsen.Ganz im Sinne von Sisterhood. \nKeynote Michaela Altenberger\n„Longevity & mentale Klarheit“ \nMichaela Altenberger arbeitet dort\, wo Hochleistung Alltag ist. In ihrer Keynote spricht sie über das Nervensystem\, innere Daueranspannung & unbewusste Programme\, die unser Denken\, Entscheiden und Handeln steuern.\nEin Impuls darüber\, wie echte Kraft entsteht – durch mentale Klarheit statt Selbstoptimierung. \nSpecial Impulse\nDr. Alexandra Vivien Haller\n„Mental Health: Burnout ist eine Illusion“ \nDr. Alexandra Vivien Haller stellt die provokante Frage\, ob Burnout wirklich unvermeidbar ist –\noder ob mentale Gesundheit trainierbar und gestaltbar wird.\nEin Blick auf Mental Health Biohacking\, Glück und nachhaltige Leistungsfähigkeit. \nWie bleiben wir mental klar\, gesund und leistungsfähig – nachhaltig und bewusst?\nImpulse zu mentaler Stärke\, Fokus und neuen Perspektiven auf Gesundheit. \n🎟 Ticket: 30\,00 € – all inclusive\n🥂 Welcome Drink\n🍴 Fingerfood\n🎤 Keynotes & Impulse\n🎧 DJ\, Musik & Tanzfläche\n🤝 Moderiertes Netzwerken \nNetzwerken darf leicht sein – so auch der Preis.\nGanz schön viel Abend für 30 Euro. \n 
URL:https://www.femvents.at/event/success-soiree-summer-edition/
LOCATION:Club Balboa Salzburg\, Gstättengasse 7\, Salzburg\, Salzburg\, 5020\, Austria
CATEGORIES:After Work,Salzburg
ATTACH;FMTTYPE=image/png:https://www.femvents.at/wp-content/uploads/2026/01/1-1.png
GEO:47.8051393;13.0380686
X-APPLE-STRUCTURED-LOCATION;VALUE=URI;X-ADDRESS=Club Balboa Salzburg Gstättengasse 7 Salzburg Salzburg 5020 Austria;X-APPLE-RADIUS=500;X-TITLE=Gstättengasse 7:geo:13.0380686,47.8051393
END:VEVENT
BEGIN:VEVENT
DTSTART;TZID=Europe/Vienna:20260726T110000
DTEND;TZID=Europe/Vienna:20260726T140000
DTSTAMP:20260420T022024
CREATED:20260324T105519Z
LAST-MODIFIED:20260414T073944Z
UID:10000960-1785063600-1785074400@www.femvents.at
SUMMARY:Bgld./Purbach LLL-Family & Friends Treff mit LIVE MUSIK „Sandhouse“ mit LLL-Botschafterin Veronika Sederl
DESCRIPTION:🌼 Lust\, einfach mal rauszukommen und neue Menschen kennenlernen\, dann ist der Family & Friends Treff genau das richtige für dich. \n🌸 Lachen\, plaudern\, durchatmen & neue Energie tanken? \nEin Ort für echte Begegnungen\, ehrliche Gespräche und diese kleinen Herzensmomente\, die so unglaublich gut tun 💫\n🌷 Egal ob du ganz neu bist oder schon öfter dabei warst –\n🧁 komm genauso\, wie du bist!\nHier ist Platz für dich\, dein Lächeln und alles\, was dich gerade bewegt 🫶\n💃 Wir freuen uns riesig auf dich! 💕 \nBitte Platzreservierung 🤗\ninfo@vereinlebenliebenlachen.at
URL:https://www.femvents.at/event/bgld-purbach-lll-family-friends-treff-mit-live-musik-sandhouse-mit-lll-botschafterin-veronika-sederl-2/
LOCATION:die Sandhofer Heurigen-Restaurant  Birgit Müller-Sandhofer\, Am Kellerplatz 47K\, Purbach\, 7083\, Austria
CATEGORIES:Burgenland,LLL Family & Friends Treff
ATTACH;FMTTYPE=image/png:https://www.femvents.at/wp-content/uploads/2026/03/Sandhofer-2026-lp1Tif.png
ORGANIZER;CN="LEBEN%2C LIEBEN%2C LACHEN &#8211%3B endlich wei%C3%9F ich wie!":MAILTO:info@vereinlebenliebenlachen.at
GEO:47.9161318;16.6925972
X-APPLE-STRUCTURED-LOCATION;VALUE=URI;X-ADDRESS=die Sandhofer Heurigen-Restaurant  Birgit Müller-Sandhofer Am Kellerplatz 47K Purbach 7083 Austria;X-APPLE-RADIUS=500;X-TITLE=Am Kellerplatz 47K:geo:16.6925972,47.9161318
END:VEVENT
END:VCALENDAR