BEGIN:VCALENDAR
VERSION:2.0
PRODID:-//femvents.at - ECPv6.15.18//NONSGML v1.0//EN
CALSCALE:GREGORIAN
METHOD:PUBLISH
X-WR-CALNAME:femvents.at
X-ORIGINAL-URL:https://www.femvents.at
X-WR-CALDESC:Veranstaltungen für femvents.at
REFRESH-INTERVAL;VALUE=DURATION:PT1H
X-Robots-Tag:noindex
X-PUBLISHED-TTL:PT1H
BEGIN:VTIMEZONE
TZID:Europe/Vienna
BEGIN:DAYLIGHT
TZOFFSETFROM:+0100
TZOFFSETTO:+0200
TZNAME:CEST
DTSTART:20250330T010000
END:DAYLIGHT
BEGIN:STANDARD
TZOFFSETFROM:+0200
TZOFFSETTO:+0100
TZNAME:CET
DTSTART:20251026T010000
END:STANDARD
BEGIN:DAYLIGHT
TZOFFSETFROM:+0100
TZOFFSETTO:+0200
TZNAME:CEST
DTSTART:20260329T010000
END:DAYLIGHT
BEGIN:STANDARD
TZOFFSETFROM:+0200
TZOFFSETTO:+0100
TZNAME:CET
DTSTART:20261025T010000
END:STANDARD
BEGIN:DAYLIGHT
TZOFFSETFROM:+0100
TZOFFSETTO:+0200
TZNAME:CEST
DTSTART:20270328T010000
END:DAYLIGHT
BEGIN:STANDARD
TZOFFSETFROM:+0200
TZOFFSETTO:+0100
TZNAME:CET
DTSTART:20271031T010000
END:STANDARD
END:VTIMEZONE
BEGIN:VEVENT
DTSTART;TZID=Europe/Vienna:20261103T183000
DTEND;TZID=Europe/Vienna:20261103T203000
DTSTAMP:20260420T091454
CREATED:20260122T071340Z
LAST-MODIFIED:20260122T071340Z
UID:10000700-1793730600-1793737800@www.femvents.at
SUMMARY:Kintsugi & Tusche auf Reispapier: Selbstliebe zwischen Brüchen & Blüten
DESCRIPTION:Japanischer Kulturfeiertag am Dienstag\, 3. November von 18:30–20:30 Uhr \nDer japanische Kulturfeiertag steht für Wertschätzung von Kultur\, Kunst\, Wissen und persönlicher Entwicklung. Er lädt dazu ein\, innezuhalten und zu ehren\, was Menschen innerlich wie äußerlich formt. \nIn der japanischen Philosophie geht es nicht um Perfektion\, sondern um Bedeutung\, Tiefe und Wahrhaftigkeit. Genau hier setzen wir an. \nWas dich erwartet: \nDieser Workshop verbindet zwei kraftvolle japanische Ausdrucksformen mit einem modernen Selbstliebe-Kontext: \n\nKintsugiDie Kunst\, Zerbrochenes mit Gold zu reparieren\, steht sinnbildlich dafür\, dass unsere Brüche Teil unserer Geschichte sind und dass genau sie uns einzigartig machen. Nicht verstecken\, nicht glätten… sondern Veredeln.\nTusche & Reispapier (Sumi-e inspiriert)Mit Tusche auf feinem Reispapier entstehen Kirschblüten. Ein Symbol für Vergänglichkeit\, Neubeginn und die Schönheit des Moments.
URL:https://www.femvents.at/event/kintsugi-tusche-auf-reispapier-selbstliebe-zwischen-bruechen-blueten/
LOCATION:liebestrunken I SELF LOVE CLUB\, Lederergasse 3\, Salzburg\, Salzburg\, 5020\, Austria
CATEGORIES:Salzburg,Workshop
ATTACH;FMTTYPE=image/png:https://www.femvents.at/wp-content/uploads/2026/01/embrace-love-date-night.png
ORGANIZER;CN="SELF LOVE CLUB @liebestrunken":MAILTO:hey@liebestrunken.com
GEO:47.802268;13.0445985
X-APPLE-STRUCTURED-LOCATION;VALUE=URI;X-ADDRESS=liebestrunken I SELF LOVE CLUB Lederergasse 3 Salzburg Salzburg 5020 Austria;X-APPLE-RADIUS=500;X-TITLE=Lederergasse 3:geo:13.0445985,47.802268
END:VEVENT
BEGIN:VEVENT
DTSTART;TZID=Europe/Vienna:20261103T183000
DTEND;TZID=Europe/Vienna:20261103T203000
DTSTAMP:20260420T091454
CREATED:20260416T071036Z
LAST-MODIFIED:20260416T071036Z
UID:10001121-1793730600-1793737800@www.femvents.at
SUMMARY:Selbsthilfegruppentreffen für Endometriosebetroffene
DESCRIPTION:Für Anmeldungen zu Gruppentreffen in Wien schreibe bitte formlos an: endopower.wien@gmail.com\nUnser Ziel – Ablauf eines Treffens\nUnsere SHG möchte einen offenen und lockeren Austausch bieten und verhindern\, dass sich Endometriose Betroffene alleine fühlen. \nAlle zwei Monate findet das Austauschcafé statt\, in dessen Rahmen die Teilnehmenden ca zwei Stunden Zeit haben ihre Erfahrungen und Sorgen zu teilen und sich gegenseitig Tipps zu geben (einander zu empowern). \nWir organisieren derzeit keine Vorträge oder geben Themen vor – diese ergeben sich in der (Gruppen-) Diskussion.
URL:https://www.femvents.at/event/selbsthilfegruppentreffen-fuer-endometriosebetroffene-6/
LOCATION:Wien\, wien\, Wien\, 1060\, Austria
CATEGORIES:After Work,Frauenkreis,Meetup,Netzwerk-Treffen,Stammtisch,Wien
ATTACH;FMTTYPE=image/png:https://www.femvents.at/wp-content/uploads/2025/10/Cafe.png
ORGANIZER;CN="EndoPower.Wien":MAILTO:endopower.wien@gmail.com
GEO:48.1945985;16.3504336
END:VEVENT
BEGIN:VEVENT
DTSTART;TZID=Europe/Vienna:20261104T170000
DTEND;TZID=Europe/Vienna:20261111T183000
DTSTAMP:20260420T091454
CREATED:20260206T165926Z
LAST-MODIFIED:20260206T165926Z
UID:10000774-1793811600-1794421800@www.femvents.at
SUMMARY:Narben verstehen und behandeln
DESCRIPTION:In diesem 2-teiligen Workshop lernst du\, wie Narben den Körper beeinflussen und wie du sie mit gezielten\, sanften Techniken positiv unterstützen kannst. Du bekommst verständliches Wissen aus der physiotherapeutischen Narbentherapie und praktische Übungen für zuhause – praxisnah\, verständlich und direkt anwendbar. \nMehr Infos: https://physioschwar.at/angebote/#angebote_workshops
URL:https://www.femvents.at/event/narben-verstehen-und-behandeln/
LOCATION:Frauengesundheitszentrum
CATEGORIES:Steiermark,Workshop
ATTACH;FMTTYPE=image/png:https://www.femvents.at/wp-content/uploads/2026/02/physio-schwar-angebote-narbenbehandlung-und-geweberegeneration.png
ORGANIZER;CN="Frauengesundheitszentrum":MAILTO:frauen.gesundheit@fgz.co.at
END:VEVENT
BEGIN:VEVENT
DTSTART;TZID=Europe/Vienna:20261104T180000
DTEND;TZID=Europe/Vienna:20261104T200000
DTSTAMP:20260420T091454
CREATED:20260407T074045Z
LAST-MODIFIED:20260414T073944Z
UID:10001051-1793815200-1793822400@www.femvents.at
SUMMARY:Bgld./ Neufeld LLL-BUSINESS Frauentreff mit LLL-Botschafterin Susanne E. Tichy
DESCRIPTION:🌸✨ Hallo liebe Unternehmerinnen & Business-Frauen ✨🌸 \n🌼 Lust auf Austausch auf Augenhöhe?\n🌸 Inspirierende Gespräche\, neue Impulse & wertvolle Kontakte?\nDann komm zu unserem LLL-BUSINESS FRAUENTREFF 💚🧡🩷 \nEin Raum für Vernetzung\, Erfahrungsaustausch und echtes Miteinander 💫\n🌷 Egal ob selbstständig\, in Gründung oder beruflich neu orientiert –\n🧁 komm genau so\, wie du bist!\nHier ist Platz für deine Ideen\, deine Visionen und alles\, was dich beruflich bewegt 🫶 \n💼 Gemeinsam wachsen.\n💬 Gemeinsam lernen.\n💖 Gemeinsam erfolgreich sein. \n💃 Wir freuen uns sehr auf dich! \n📩 Bitte um Platzreservierung\ninfo@vereinlebenliebenlachen.at
URL:https://www.femvents.at/event/bgld-neufeld-lll-business-frauentreff-mit-lll-botschafterin-susanne-e-tichy-4/
LOCATION:Neufeldersee Hotel&Restaurant\, Eisenstädter Straße 35\, Neufeld\, 2493
CATEGORIES:Burgenland,LLL
ATTACH;FMTTYPE=image/jpeg:https://www.femvents.at/wp-content/uploads/2026/03/Business-Treff-Neufeld-CycA2i.jpg
ORGANIZER;CN="LEBEN%2C LIEBEN%2C LACHEN &#8211%3B endlich wei%C3%9F ich wie!":MAILTO:info@vereinlebenliebenlachen.at
GEO:47.8656397;16.3860933
X-APPLE-STRUCTURED-LOCATION;VALUE=URI;X-ADDRESS=Neufeldersee Hotel&Restaurant Eisenstädter Straße 35 Neufeld 2493;X-APPLE-RADIUS=500;X-TITLE=Eisenstädter Straße 35:geo:16.3860933,47.8656397
END:VEVENT
BEGIN:VEVENT
DTSTART;TZID=Europe/Vienna:20261104T183000
DTEND;TZID=Europe/Vienna:20261104T203000
DTSTAMP:20260420T091454
CREATED:20260128T113609Z
LAST-MODIFIED:20260128T113609Z
UID:10000730-1793817000-1793824200@www.femvents.at
SUMMARY:FRAU iDA Vernetzungstreffen
DESCRIPTION:Das FRAU iDA Vernetzungstreffen bietet Raum für Austausch\, Inspiration und gegenseitige Unterstützung. In entspannter Atmosphäre haben Teilnehmerinnen die Möglichkeit\, neue Kontakte zu knüpfen\, Erfahrungen zu teilen und voneinander zu lernen. \nNeben spannenden Kurzimpulsen zu aktuellen Themen aus Beruf\, Persönlichkeit und Gesundheit erwartet die Besucherinnen ein anregendes Miteinander – ideal\, um sich zu vernetzen\, neue Perspektiven zu gewinnen und gestärkt in den (Berufs-)Alltag zurückzukehren. \nOb zum Kennenlernen\, Wiedersehen oder gemeinsamen Weiterdenken – das Vernetzungstreffen lädt dazu ein\, Frauen miteinander ins Gespräch zu bringen und gemeinsam Ideen für eine erfolgreiche und selbstbestimmte Zukunft zu entwickeln. \nWir setzen wieder unsere Videokonferenzkamera mit 360° Rundum-Überblick ein\, damit wir allen\, die an diesem Abend nicht nach Zwettl kommen können\, die Möglichkeit bieten\, sich zu vernetzen und austauschen zu können. Dank Owlivia\, wie wir sie liebevoll nennen\, können wir Interessierte online via Zoom zuschalten – sie erleben das Treffen\, als wären sie im selben Raum. Wir freuen uns\, wenn du unser innovatives Angebot nutzt – hier der Zoom-Link: https://us06web.zoom.us/j/85665550790
URL:https://www.femvents.at/event/frau-ida-vernetzungstreffen-13/
LOCATION:FRAU iDA\, Hauptplatz 16\, Zwettl\, Niederösterreich\, 3910\, Austria
CATEGORIES:Netzwerk-Treffen,Niederösterreich,Online-Event
ATTACH;FMTTYPE=image/jpeg:https://www.femvents.at/wp-content/uploads/2026/01/FRAU_iDA_Logo.jpg
ORGANIZER;CN="FRAU iDA":MAILTO:office@frau-ida.at
GEO:48.6041614;15.167567
X-APPLE-STRUCTURED-LOCATION;VALUE=URI;X-ADDRESS=FRAU iDA Hauptplatz 16 Zwettl Niederösterreich 3910 Austria;X-APPLE-RADIUS=500;X-TITLE=Hauptplatz 16:geo:15.167567,48.6041614
END:VEVENT
BEGIN:VEVENT
DTSTART;TZID=Europe/Vienna:20261106T190000
DTEND;TZID=Europe/Vienna:20261106T233000
DTSTAMP:20260420T091454
CREATED:20260210T140126Z
LAST-MODIFIED:20260210T140126Z
UID:10000797-1793991600-1794007800@www.femvents.at
SUMMARY:Ladies Night
DESCRIPTION:Wir sind die Frauengruppe der HOSI Salzburg. Seit 2015 organisieren wir jeden Monat einen Abend nur für Frauen*\, unabhängig von sexueller Orientierung. Die Ladies Night bietet queeren Frauen* in Salzburg einen geschützten Raum\, um gemeinsam zu feiern oder einen gemütlichen Abend miteinander zu verbringen. \nWir freuen uns immer über neue Gesichter – kommt gerne vorbei! \nWas machen wir?\nVon Getränke-Specials über Lesbenfilmnächte\, Tanzabende\, Lesungen\, bis hin zu gemütlichem Beisammensein\, das alles gibt es jeden ersten Freitag im Monat\, speziell für Frauen*  in der HOSI Salzburg.* \n*Die „Ladies Night“ richtet sich an Frauen jeglicher sexuellen Orientierung  sowie trans*\, inter* und nicht-binäre Menschen.
URL:https://www.femvents.at/event/ladies-night-9/
LOCATION:HOSI Salzburg – Queere Interessevertretung\, Franz-Josef-Straße 22\, Salzburg\, Salzburg\, 5020\, Austria
CATEGORIES:Salzburg
ATTACH;FMTTYPE=image/png:https://www.femvents.at/wp-content/uploads/2026/02/Ladies-Night.png
ORGANIZER;CN="HOSI Salzburg - Queere Interessenvertretung":MAILTO:office@hosi.or.at
GEO:47.8060803;13.0482441
X-APPLE-STRUCTURED-LOCATION;VALUE=URI;X-ADDRESS=HOSI Salzburg – Queere Interessevertretung Franz-Josef-Straße 22 Salzburg Salzburg 5020 Austria;X-APPLE-RADIUS=500;X-TITLE=Franz-Josef-Straße 22:geo:13.0482441,47.8060803
END:VEVENT
BEGIN:VEVENT
DTSTART;TZID=Europe/Vienna:20261125T183000
DTEND;TZID=Europe/Vienna:20261125T203000
DTSTAMP:20260420T091454
CREATED:20260128T113622Z
LAST-MODIFIED:20260128T113622Z
UID:10000731-1795631400-1795638600@www.femvents.at
SUMMARY:FRAU SEiN Seminar: Sicher und selbstbestimmt – Gewaltprävention für Frauen
DESCRIPTION:In diesem Seminar werden grundlegende Aufklärung zu Gewalt\,\nverschiedenen Gewaltformen sowie dem Gewaltkreislauf und\ndessen Auswirkungen auf Frauen vermittelt. Durch\nRessourcenarbeit und praktische Übungen lernen\nTeilnehmerinnen\, Warnsignale frühzeitig zu erkennen\, ihre\neigenen Stärken zu aktivieren und sich in herausfordernden\nSituationen zu behaupten. Informationsinput wird mit Raum für\nAustausch und Fragen kombiniert\, um Verständnis für Frauen in\nGewaltbeziehungen zu fördern und individuelle\nHandlungsmöglichkeiten zu entwickeln. Ziel ist es\, Frauen zu\nsensibilisieren\, sie zu stärken und ihre Fähigkeit zur\nselbstbestimmten und sicheren Lebensgestaltung zu unterstützen. \nTerminanfrage unter:\nTel: 02822/2134020\nE-Mail: frausein@frau-ida.at \n\nÜber die Referentin\nAndrea Lienbacher ist Polizistin/ jahrelange Präventionsbeamtin für Gewalt in der Privatsphäre\, Dipl. Mentaltrainerin\, Dipl. Lebens- und Sozialberaterin u.S.
URL:https://www.femvents.at/event/frau-sein-seminar-sicher-und-selbstbestimmt-gewaltpraevention-fuer-frauen/
LOCATION:FRAU iDA\, Hauptplatz 16\, Zwettl\, Niederösterreich\, 3910\, Austria
CATEGORIES:Niederösterreich,Vortrag,Workshop
ATTACH;FMTTYPE=image/jpeg:https://www.femvents.at/wp-content/uploads/2026/01/Logo-FRAU-SEiN-8.jpg
ORGANIZER;CN="FRAU iDA":MAILTO:office@frau-ida.at
GEO:48.6041614;15.167567
X-APPLE-STRUCTURED-LOCATION;VALUE=URI;X-ADDRESS=FRAU iDA Hauptplatz 16 Zwettl Niederösterreich 3910 Austria;X-APPLE-RADIUS=500;X-TITLE=Hauptplatz 16:geo:15.167567,48.6041614
END:VEVENT
BEGIN:VEVENT
DTSTART;VALUE=DATE:20261127
DTEND;VALUE=DATE:20261130
DTSTAMP:20260420T091454
CREATED:20260109T102802Z
LAST-MODIFIED:20260109T102802Z
UID:10000663-1795737600-1795996799@www.femvents.at
SUMMARY:Lehrgang Selbstliebe-Trainerin im Seminar
DESCRIPTION:Werde Selbstliebe-Trainerin und verändere (dein) Leben\n\n\n\n\nWir sind überzeugt: Du kannst nur so tief mit anderen gehen\, wie du selbst gegangen bist. \n\n\nViele Ausbildungen lehren Theorien – aber Transformation passiert in dir. Unser Zertifikat-Lehrgang führt dich durch deine eigene Veränderung\, bevor du sie an andere weitergibst. Denn du kannst Selbstliebe nicht nur erklären. Du musst sie selbst erleben. \nDiese Ausbildung ist für dich\, wenn du nicht nur Impulse geben möchtest\, sondern echte Veränderung begleiten willst … bei dir selbst und in anderen. Wenn du nicht nur über Selbstliebe sprechen möchtest\, sondern sie in jeder Zelle deines Körpers spüren willst\, um als Wegweiser für andere zu dienen. Wenn du bereit bist\, tief zu gehen – in dein eigenes Erleben\, in deine Blockaden und in dein persönliches Wachstum. Denn nur wer diesen Weg selbst geht\, kann ihn auch für andere öffnen und sie auf ihrer Reise zu wahrer Selbstliebe begleiten. \nUnsere Ausbildung bietet dir die Möglichkeit\, dich nicht nur weiterzuentwickeln\, sondern Menschen mit einer hochwertigen\, fundierten Methodik und tiefgreifendem Wissen zu begleiten. Du wirst lernen\, wie du Selbstliebe nicht nur verstehst\, sondern sie als lebensverändernde Kraft erlebst und weitergibst.
URL:https://www.femvents.at/event/lehrgang-selbstliebe-trainerin-im-seminar-2/
LOCATION:liebestrunken I SELF LOVE CLUB\, Lederergasse 3\, Salzburg\, Salzburg\, 5020\, Austria
CATEGORIES:Salzburg,Workshop
ATTACH;FMTTYPE=image/jpeg:https://www.femvents.at/wp-content/uploads/2026/01/K2_9706-1-scaled.jpg
ORGANIZER;CN="SELF LOVE CLUB @liebestrunken":MAILTO:hey@liebestrunken.com
GEO:47.802268;13.0445985
X-APPLE-STRUCTURED-LOCATION;VALUE=URI;X-ADDRESS=liebestrunken I SELF LOVE CLUB Lederergasse 3 Salzburg Salzburg 5020 Austria;X-APPLE-RADIUS=500;X-TITLE=Lederergasse 3:geo:13.0445985,47.802268
END:VEVENT
END:VCALENDAR