BEGIN:VCALENDAR
VERSION:2.0
PRODID:-//femvents.at - ECPv6.15.18//NONSGML v1.0//EN
CALSCALE:GREGORIAN
METHOD:PUBLISH
X-ORIGINAL-URL:https://www.femvents.at
X-WR-CALDESC:Veranstaltungen für femvents.at
REFRESH-INTERVAL;VALUE=DURATION:PT1H
X-Robots-Tag:noindex
X-PUBLISHED-TTL:PT1H
BEGIN:VTIMEZONE
TZID:Europe/Berlin
BEGIN:DAYLIGHT
TZOFFSETFROM:+0100
TZOFFSETTO:+0200
TZNAME:CEST
DTSTART:20240331T010000
END:DAYLIGHT
BEGIN:STANDARD
TZOFFSETFROM:+0200
TZOFFSETTO:+0100
TZNAME:CET
DTSTART:20241027T010000
END:STANDARD
BEGIN:DAYLIGHT
TZOFFSETFROM:+0100
TZOFFSETTO:+0200
TZNAME:CEST
DTSTART:20250330T010000
END:DAYLIGHT
BEGIN:STANDARD
TZOFFSETFROM:+0200
TZOFFSETTO:+0100
TZNAME:CET
DTSTART:20251026T010000
END:STANDARD
BEGIN:DAYLIGHT
TZOFFSETFROM:+0100
TZOFFSETTO:+0200
TZNAME:CEST
DTSTART:20260329T010000
END:DAYLIGHT
BEGIN:STANDARD
TZOFFSETFROM:+0200
TZOFFSETTO:+0100
TZNAME:CET
DTSTART:20261025T010000
END:STANDARD
END:VTIMEZONE
BEGIN:VEVENT
DTSTART;TZID=Europe/Berlin:20250602T183000
DTEND;TZID=Europe/Berlin:20250602T203000
DTSTAMP:20260423T112435
CREATED:20250520T141252Z
LAST-MODIFIED:20250520T141742Z
UID:10000029-1748889000-1748896200@www.femvents.at
SUMMARY:Aroma Abend
DESCRIPTION:An diesem Abend wecken wir Deine Sinne und rücken Dein Wohlbefinden in den Mittelpunkt. \nDieser Abend steht im Zeichen der Gesundheit und der heilenden Kräfte der Natur.In einer entspannten Umgebung lernst Du die 12 wichtigsten ätherischen Öle kennen\, die nicht nur den Körper\, sondern auch Geist und Seele in Einklang bringen. \nIch zeige Dir verschiedenen Anwendungsmöglichkeiten – von der Förderung der Entspannung und des Schlafs über die Stärkung des Immunsystems bis hin zur Unterstützung bei Stress und emotionalen Herausforderungen. Weiters gebe ich Dir Tipps und Tricks wie Du ätherische Öle ganz leicht in Deinen Alltag integrieren kannst. \nWas erwartet Dich an diesem Abend? \n– Erfahre mehr über die Eigenschaften und Wirkungen der 12 ätherischen Öle und lerne\, wie sie Deine Gesundheit unterstützen. \n– Praktische Anwendungen: Probiere die verschiedenen Öle aus und erlebe ihre Wirkung direkt. \n– Austausch und Inspiration: Tausche Dich mit Gleichgesinnten aus und lass Dich von den positiven Erfahrungen und Geschichten anderer Frauen inspirieren. \nIch freue mich\, mit Dir mein Wissen rund um die Aromatherapie zu teilen und Dir somit ein Werkzeug für Deine Gesundheitsreise an die Hand zu geben. \nLassen uns gemeinsam in die wunderbare Welt der ätherischen Öle eintauchen! \nEntdecke\, wie Du durch einfache Rituale und Anwendungen Dein Wohlbefinden steigerst und Deine Lebensqualität verbesserst. \nIch freue mich auf Dich
URL:https://www.femvents.at/event/aroma-abend/
LOCATION:Wien\, wien\, Wien\, 1060\, Austria
CATEGORIES:Meetup
ATTACH;FMTTYPE=image/avif:https://www.femvents.at/wp-content/uploads/2025/05/https-cdn.evbuc_.com-images-986418083-270939892479-1-original.20250318-110618.avif
GEO:48.1945985;16.3504336
END:VEVENT
BEGIN:VEVENT
DTSTART;TZID=Europe/Berlin:20250602T190000
DTEND;TZID=Europe/Berlin:20250602T203000
DTSTAMP:20260423T112435
CREATED:20250521T081829Z
LAST-MODIFIED:20250521T081829Z
UID:10000030-1748890800-1748896200@www.femvents.at
SUMMARY:Frauen im Fokus
DESCRIPTION:Mut zur finanziellen Unabhängigkeit\nGeld ist vielfach ein unangenehmes Thema\, über das kaum jemand gerne spricht. Dennoch haben wir täglich damit zu tun. Jede Frau profitiert von finanzieller Unabhängigkeit. In diesem Vortrag geht es um mehr als nur Zahlen: im Fokus stehen Selbstbestimmung\, Sicherheit und die Freiheit\, das eigene Leben aktiv zu gestalten und für die Zukunft zu planen. Wir sehen uns an\, wie Teilzeitarbeit auf die zu erwartende Pension wirkt. Und wir setzen uns damit auseinander\, warum es gerade für Frauen so wichtig ist\, dass sie frühzeitig Verantwortung für ihre Finanzen übernehmen und wie das in jeder Lebensphase gelingen kann. So stellen Frauen heute die Weichen für morgen. \nDieser Vortrag ist für dich\, wenn du … \n\ndich mit deinen Finanzen beschäftigen möchtest\ndeine Altersvorsorge wichtig ist\nwissen möchtest\, wie du gut aufgestellt bist\n\nZielgruppe: Frauen jeden Alters\, vom Berufseinstieg bis zur Pension
URL:https://www.femvents.at/event/frauen-im-fokus/
LOCATION:Vereinsheim Golling\, Markt 106\, Golling\, 5440\, Austria
CATEGORIES:Coaching
ATTACH;FMTTYPE=image/jpeg:https://www.femvents.at/wp-content/uploads/2025/05/iStock-1294385206_Mut-zur-Vision.jpg
GEO:47.5960346;13.1671641
X-APPLE-STRUCTURED-LOCATION;VALUE=URI;X-ADDRESS=Vereinsheim Golling Markt 106 Golling 5440 Austria;X-APPLE-RADIUS=500;X-TITLE=Markt 106:geo:13.1671641,47.5960346
END:VEVENT
BEGIN:VEVENT
DTSTART;TZID=Europe/Berlin:20250603T180000
DTEND;TZID=Europe/Berlin:20250603T193000
DTSTAMP:20260423T112435
CREATED:20250515T102523Z
LAST-MODIFIED:20250515T102742Z
UID:10000026-1748973600-1748979000@www.femvents.at
SUMMARY:Female After Work - Das beste Netzwerkevent der Stadt
DESCRIPTION:Jeden Monat am ersten Dienstag: Das exklusive Networking-Event gehostet vom Female Membersclub Leaders in Heels 🔥 \nSchnupper dich in unsere Community aus ambitionierten Frauen\, Selbstständigen\, Angestellten\, die sich gegenseitig unterstützen und inspirieren. \nHier steht nicht nur der Austausch von Visitenkarten im Vordergrund\, sondern das echte Kennenlernen\, wertvolle Gespräche und der Aufbau langfristiger Beziehungen. \nLerne den Membersclub kennen.\nFür jedes Event stellen wir 10 Tickets für Nicht-Mitglieder zur Verfügung\, um den Club kennenzulernen. Einmalig kannst du dabei sein und dir ein Bild von unserer einzigartigen Atmosphäre machen.\nEntscheide danach ganz ohne Zwang\, ob du dem Club beitreten möchtest – es ist alles komplett unverbindlich! \nUnsere Mission ist es\, Frauen mehr zusammenzubringen und den Zusammenhalt zu stärken 🔥 \nhttps://leaders-in-heels.com/
URL:https://www.femvents.at/event/female-after-work-das-beste-netzwerkevent-der-stadt/
LOCATION:Wien\, wien\, Wien\, 1060\, Austria
CATEGORIES:Netzwerk-Treffen
ATTACH;FMTTYPE=image/avif:https://www.femvents.at/wp-content/uploads/2025/05/https___cdn.evbuc_.com_images_965093063_1294747781843_1_original.avif
GEO:48.1945985;16.3504336
END:VEVENT
END:VCALENDAR