BEGIN:VCALENDAR
VERSION:2.0
PRODID:-//femvents.at - ECPv6.15.18//NONSGML v1.0//EN
CALSCALE:GREGORIAN
METHOD:PUBLISH
X-ORIGINAL-URL:https://www.femvents.at
X-WR-CALDESC:Veranstaltungen für femvents.at
REFRESH-INTERVAL;VALUE=DURATION:PT1H
X-Robots-Tag:noindex
X-PUBLISHED-TTL:PT1H
BEGIN:VTIMEZONE
TZID:Europe/Vienna
BEGIN:DAYLIGHT
TZOFFSETFROM:+0100
TZOFFSETTO:+0200
TZNAME:CEST
DTSTART:20240331T010000
END:DAYLIGHT
BEGIN:STANDARD
TZOFFSETFROM:+0200
TZOFFSETTO:+0100
TZNAME:CET
DTSTART:20241027T010000
END:STANDARD
BEGIN:DAYLIGHT
TZOFFSETFROM:+0100
TZOFFSETTO:+0200
TZNAME:CEST
DTSTART:20250330T010000
END:DAYLIGHT
BEGIN:STANDARD
TZOFFSETFROM:+0200
TZOFFSETTO:+0100
TZNAME:CET
DTSTART:20251026T010000
END:STANDARD
BEGIN:DAYLIGHT
TZOFFSETFROM:+0100
TZOFFSETTO:+0200
TZNAME:CEST
DTSTART:20260329T010000
END:DAYLIGHT
BEGIN:STANDARD
TZOFFSETFROM:+0200
TZOFFSETTO:+0100
TZNAME:CET
DTSTART:20261025T010000
END:STANDARD
END:VTIMEZONE
BEGIN:VEVENT
DTSTART;TZID=Europe/Vienna:20250612T200000
DTEND;TZID=Europe/Vienna:20250612T210000
DTSTAMP:20260423T074928
CREATED:20250612T114714Z
LAST-MODIFIED:20250612T114849Z
UID:10000044-1749758400-1749762000@www.femvents.at
SUMMARY:Raus aus dem Mama Burnout
DESCRIPTION:„Ich hab mein Kind angeschrien – und mich danach mehr gehasst als je zuvor.“ \nEs war wieder einer dieser Tage. \nZu wenig Schlaf. \nZu viele „Mamaaaa!“s. \nZu wenig Ich. \nUnd dann ist es passiert: \nIch hab geschrien. \nLaut. Hart. \nNicht\, weil mein Kind zu viel war\, sondern weil ich zu leer war. \nUnd genau in diesem Moment hab ich gespürt: \nIch kann einfach nicht mehr. \nDas hat mir vor ein paar Tagen Claudia erzählt. \nZweifache Mama. Vollzeit-Heldin. \nUnd ich hab sofort gewusst: \nSie ist nicht allein mit diesem Gefühl. \nIch bin selbst Mama von zwei Kindern. \nUnd auch in meinem Leben gab es Phasen\, in denen ich gespürt habe\, wie dieser innere Schrei lauter wurde. \nNicht\, weil ich schwach war\, sondern weil auch ich zu lange stark sein musste. \nAber ich weiß: \nVerstehen allein reicht nicht. \nMan muss auch fühlen dürfen und die richtigen Werkzeuge zur Hand haben\, wenn’s wirklich brennt. \nWenn auch du dieses Gefühl kennst\, die Mischung aus Wut\, Schuld und Selbsthass\, dann will ich dir heute eins sagen: \nDu bist keine schlechte Mama. \nDu bist einfach erschöpft. \nUnd du darfst Hilfe annehmen. \nAuch wenn du noch stehst. Auch wenn du noch lächelst. \nWas\, wenn es nicht deine Geduld ist\, die fehlt\, sondern deine Kraft? \nWas\, wenn du nicht lernen musst\, ruhiger zu sein\, sondern wieder fühlen darfst\, was du brauchst? \nAm Donnerstag\, um 20 Uhr\, teile ich mit dir kostenlos im exklusiven Live-Call: \n🌟 Meinen besten Erste-Hilfe-Tipp gegen das tägliche „Ich kann nicht mehr“ \nEin Werkzeug\, das dich sofort zurück zu dir bringt – auch mitten im Chaos. \nOhne Schuld. Ohne Druck. Ohne perfekt sein zu müssen. \nKomm einfach in meine Gruppe 👇 \n❤️Selbstliebe für Powerfrauen by Kawa’s Happyplace \nDas wird eine kleine\, ehrliche\, heilsame Runde. \nNur für dich – wenn du gerade spürst: \n„So kann’s nicht weitergehen.“
URL:https://www.femvents.at/event/raus-aus-dem-mama-burnout/
LOCATION:Online-Event\, Austria
CATEGORIES:Coaching,Online-Event
ATTACH;FMTTYPE=image/jpeg:https://www.femvents.at/wp-content/uploads/2025/06/inbound3000160176442006786-scaled.jpg
ORGANIZER;CN="Psychologin Kathrin Waidulak":MAILTO:kathrin.waidulak@gmail.com
GEO:47.516231;14.550072
END:VEVENT
BEGIN:VEVENT
DTSTART;TZID=Europe/Vienna:20250613T200000
DTEND;TZID=Europe/Vienna:20250613T230000
DTSTAMP:20260423T074928
CREATED:20250602T140826Z
LAST-MODIFIED:20250602T140826Z
UID:10000033-1749844800-1749855600@www.femvents.at
SUMMARY:Mama Mia - Tanz mit mir!
DESCRIPTION:MAMA MIA – TANZ MIT MIR – ZWEITE RUNDE \nLadies aufgepasst! Diese Nacht gehört ganz allein euch! \nAm Freitag\, 13.06.2025 laden wir alle Frauen\, Mütter\, Power-Ladies und ihre Freundinnen in den glamourösen Inc. Club ein\, um gemeinsam zu feiern\, zu tanzen und einfach mal loszulassen. Weg vom Alltag. \nKein Männerabend – nur für Frauen! Das wird eure Party. \n(Einzige Ausnahme: Männer in Begleitung ihrer Partnerin oder Frau) \n▬▬▬▬▬▬▬▬▬▬▬▬▬▬▬▬▬▬▬▬▬▬▬▬▬▬ \nWAS EUCH ERWARTET  \n\nEine atemberaubender Club\, welcher euch verzaubert\nBegrüßungsshots für einen prickelnden Start\nMusik\, die Frauen lieben: Die größten Hits der 80er\, 90er\, 2000er und die besten aktuellen Chart-Hits – perfekt zum Mitsingen und Abtanzen\nStylische Partypics\, um die besten Momente festzuhalten\nEin magisches Lichterspiel\, das die Nacht unvergesslich macht\n\n▬▬▬▬▬▬▬▬▬▬▬▬▬▬▬▬▬▬▬▬▬▬▬▬▬▬ \nHARDFACTS  \n\nFreitag | 13 | 06 | 2025\nInc. Club (Schwarzenbergplatz 7\, 1030 Wien)\nEinlass ab 19:00 Uhr (bis 23:00 exklusive Ladies Night\, danach Clubbetrieb)\n18+ – nur für Frauen\nDresscode: Ziehe das an\, womit du dich wohl fühlst\n\n▬▬▬▬▬▬▬▬▬▬▬▬▬▬▬▬▬▬▬▬▬▬▬▬▬▬ \nFEIERN MIT STYLE?  \nReserviert euch einen der streng limitierten VIP-Tische und genießt die Nacht mit euren Freundinnen in bester Lage. \nReservierungen und Getränkepackages bitte direkt an office@mamamiaevent.at \n▬▬▬▬▬▬▬▬▬▬▬▬▬▬▬▬▬▬▬▬▬▬▬▬▬▬ \nWIR FREUEN UNS AUF EURE POWER UND EURE TANZMOVES \nLasst uns gemeinsam eine Nacht erleben\, die uns noch lange in Erinnerung bleibt – nur für euch\, Ladies. \nHinweis: Auch mit einem Ticket ist der Einlass nicht garantiert\, falls die Besucherin unter 18 Jahren oder stark alkoholisiert ist.
URL:https://www.femvents.at/event/mama-mia-tanz-mit-mir/
LOCATION:Inc. Hip-Hop-Club\, 7 Schwarzenbergplatz\, Wien\, Wien\, 1030 Wien\, Austria
CATEGORIES:Tanzveranstaltung
ATTACH;FMTTYPE=image/png:https://www.femvents.at/wp-content/uploads/2025/06/Bildschirmfoto-2025-06-02-um-15.57.15.png
ORGANIZER;CN="Mama Mia - Tanz mit mir!":MAILTO:office@mamamiaevent.at
GEO:48.1985383;16.377416
X-APPLE-STRUCTURED-LOCATION;VALUE=URI;X-ADDRESS=Inc. Hip-Hop-Club 7 Schwarzenbergplatz Wien Wien 1030 Wien Austria;X-APPLE-RADIUS=500;X-TITLE=7 Schwarzenbergplatz:geo:16.377416,48.1985383
END:VEVENT
BEGIN:VEVENT
DTSTART;TZID=Europe/Vienna:20250614T093000
DTEND;TZID=Europe/Vienna:20250614T113000
DTSTAMP:20260423T074928
CREATED:20250611T111401Z
LAST-MODIFIED:20250611T111743Z
UID:10000037-1749893400-1749900600@www.femvents.at
SUMMARY:Female Creative Breakfast Club
DESCRIPTION:🧡 Der Female creative breakfast club geht in die 3. Runde 🧡 \nLet’s get together!!! \nNach einem wunderbaren 1. Mal und viel Freude über das Zustande- und Zusammenkommen\, gibt es ein nächstes Mal!!! \nDiese Einladung richtet sich an Frauen\, die in der Kreativwirtschaft tätig sind\, egal ob angestellt oder selbstständig. Ja genau: Ihr seid gemeint! Fotografinnen\, Bloggerinnen\, Redakteurinnen\, Autorinnen\, Social Media Produzentinnen\, Marketingladies\, Floristinnen\, Illustratorinnen\, Grafikerinnen\, Verlagsinhaberinnen\, … oder wenn du dich angesprochen fühlst\, dann… \nSchaufel dir ein paar Stunden frei und sei dabei\, beim \n„Female creative breakfast club“. \nEin Zusammentreffen der besonderen Art. \nWir genießen gemeinsam Frühstück und lernen uns kennen\, Kollektives Brainstorming\, Problemstellungen aus anderen Blickwinkeln betrachten. \nAlles kann – Nix muss! \nDas Treffen ist\, was wir daraus machen \nIm Mittelpunkt stehen Netzwerkaufbau und -erweiterung\, Austausch und gegenseitiger Support unter kreativen Menschen. Come as you are! Dieses Event bietet den perfekten Rahmen\, um euch mit anderen kreativen Frauen zu vernetzen\, neue Perspektiven zu gewinnen und gemeinsam zu brainstormen. Egal\, ob du im Design\, in der Kunst\, der Medienbranche\, der digitalen Kreativszene\, … tätig bist – hier geht es darum\, voneinander zu lernen und Ideen zu formulieren\, die inspirieren und bewegen. \nLet´s get the party started \nKommt auf einen Kaffee und ein Croissant und habt euren kreativen Geist im Gepäck – wir freuen uns auf spannende Gespräche und eine tolle gemeinsame Zeit! \nSAVE THE DATE: \nWann:  14.06.2025   🕤  09:30 Uhr\nDauer: ca. 1\,5-2h \nWo: in Hallein – wird nach Anmeldung bekannt gegeben \nWie: Konsumation ist selbst zu zahlen \nBitte melde dich verbindlich bis 10. Juni 2025\, mit folgenden Daten über das Kontaktformular auf https://www.mirifaktur.com/female-creative-breakfast-club/ an: \nvollständiger Name\, Branche in der du tätig bist\, Emailadresse und Telefonnummer. \nEmailadresse dient der Informationsübermittlung und Telefonnummer für Notfälle meinerseits.
URL:https://www.femvents.at/event/female-creative-breakfast-ccub/
CATEGORIES:Netzwerk-Treffen,Stammtisch
ATTACH;FMTTYPE=image/jpeg:https://www.femvents.at/wp-content/uploads/2025/06/image.jpg
END:VEVENT
END:VCALENDAR