BEGIN:VCALENDAR
VERSION:2.0
PRODID:-//femvents.at - ECPv6.15.18//NONSGML v1.0//EN
CALSCALE:GREGORIAN
METHOD:PUBLISH
X-ORIGINAL-URL:https://www.femvents.at
X-WR-CALDESC:Veranstaltungen für femvents.at
REFRESH-INTERVAL;VALUE=DURATION:PT1H
X-Robots-Tag:noindex
X-PUBLISHED-TTL:PT1H
BEGIN:VTIMEZONE
TZID:Europe/Vienna
BEGIN:DAYLIGHT
TZOFFSETFROM:+0100
TZOFFSETTO:+0200
TZNAME:CEST
DTSTART:20240331T010000
END:DAYLIGHT
BEGIN:STANDARD
TZOFFSETFROM:+0200
TZOFFSETTO:+0100
TZNAME:CET
DTSTART:20241027T010000
END:STANDARD
BEGIN:DAYLIGHT
TZOFFSETFROM:+0100
TZOFFSETTO:+0200
TZNAME:CEST
DTSTART:20250330T010000
END:DAYLIGHT
BEGIN:STANDARD
TZOFFSETFROM:+0200
TZOFFSETTO:+0100
TZNAME:CET
DTSTART:20251026T010000
END:STANDARD
BEGIN:DAYLIGHT
TZOFFSETFROM:+0100
TZOFFSETTO:+0200
TZNAME:CEST
DTSTART:20260329T010000
END:DAYLIGHT
BEGIN:STANDARD
TZOFFSETFROM:+0200
TZOFFSETTO:+0100
TZNAME:CET
DTSTART:20261025T010000
END:STANDARD
END:VTIMEZONE
BEGIN:VEVENT
DTSTART;TZID=Europe/Vienna:20250616T183000
DTEND;TZID=Europe/Vienna:20250616T200000
DTSTAMP:20260423T074928
CREATED:20250616T110107Z
LAST-MODIFIED:20250616T120709Z
UID:10000057-1750098600-1750104000@www.femvents.at
SUMMARY:Impulsabend
DESCRIPTION:Lass dich inspirieren wieder bewusster mit dir selbst in Kontakt zu kommen!
URL:https://www.femvents.at/event/impulsabend/
CATEGORIES:Workshop
ATTACH;FMTTYPE=image/jpeg:https://www.femvents.at/wp-content/uploads/2025/06/499712487_10229889471926102_1364947021375897022_n.jpg
ORGANIZER;CN="Angelika Kamleitner":MAILTO:beratung@kamleitner.net
END:VEVENT
BEGIN:VEVENT
DTSTART;TZID=Europe/Vienna:20250618T180000
DTEND;TZID=Europe/Vienna:20250618T200000
DTSTAMP:20260423T074928
CREATED:20250610T173320Z
LAST-MODIFIED:20250610T180104Z
UID:10000036-1750269600-1750276800@www.femvents.at
SUMMARY:Mandala Malen Workshop
DESCRIPTION:Tauchen Sie ein in die Welt der Farben und Muster! \nIn diesem kreativen Workshop gestalten Sie Ihr ganz persönliches Mandala auf Leinwand – ganz nach Ihrem Stil. Vorkenntnisse sind nicht nötig\, nur die Freude am Malen! \nWas Sie erwartet: \n\nEine Einführung ins Mandala-Malen\nVerschiedene Materialien & Techniken\nRaum für Entspannung und kreative Entfaltung\nIhr eigenes Kunstwerk zum Mitnehmen\n\nPreis: €55\,00 pro Person (inkl. aller Materialien\, Kaffee\, Tee & Snacks) \nAnmeldung bis spätestens 15.06.2025 per E-Mail an: info@audryscreativestudio.com
URL:https://www.femvents.at/event/mandala-malen-workshop/
LOCATION:Zillingerstrasse 1\, 5300 Hallwang\, Zillingerstrasse 1\, Hallwang\, Salzburg\, 5300\, Austria
CATEGORIES:Workshop
ATTACH;FMTTYPE=image/png:https://www.femvents.at/wp-content/uploads/2025/06/Beige-and-Black-Cute-Creative-Playful-Painting-Workshop-Event-Facebook-Ad.png
ORGANIZER;CN="Audry's Creative Studio":MAILTO:info@audryscreatuvestudio.com
GEO:47.8494346;13.0951871
X-APPLE-STRUCTURED-LOCATION;VALUE=URI;X-ADDRESS=Zillingerstrasse 1 5300 Hallwang Zillingerstrasse 1 Hallwang Salzburg 5300 Austria;X-APPLE-RADIUS=500;X-TITLE=Zillingerstrasse 1:geo:13.0951871,47.8494346
END:VEVENT
BEGIN:VEVENT
DTSTART;TZID=Europe/Vienna:20250621T170000
DTEND;TZID=Europe/Vienna:20250621T213000
DTSTAMP:20260423T074928
CREATED:20250618T131539Z
LAST-MODIFIED:20250618T131727Z
UID:10000064-1750525200-1750541400@www.femvents.at
SUMMARY:Wohnzimmerkonzert
DESCRIPTION:EllasSoulmusic & Friends im TheSoulspace Salzburg! \nSongs aus dem Herzen\, die die Herzen berühren. Mantren zum gemeinsam singen\, oder einfach zuhören & genießen.\nVier Frauen sorgen für eine unglaublich magische Stimmung für echte Herzensmomente\, für wahres Miteinander und sonniger Lebensfreude. \nDie Sommersonnwende in Verbundenheit\, herzöffnender Musik und ganz viel Zauber zelebrieren.\nAußerdem bekommen wir ein unglaublich gutes Catering von Himmel und Erde. \nEin Abend für alle Sinne\, der Entspannung und der wohligen Verbindung. \n21.06.2025\, 17 Uhr im The Soulspace Salzburg \n(Komme gerne schon etwas früher\, um dir einen Platz und Getränke zu sichern!) \nAlexander-Girardi-Straße 39\, 5020 Salzburg \nOpen Door & offener Wertschätzungsbeitrag (bar)  \n  \n—> bitte um Voranmeldung\, um Plätze und Catherine zu organisieren.
URL:https://www.femvents.at/event/wohnzimmerkonzert/
LOCATION:The Soul Space\, Alexander-Girardi-Straße 39\, Salzburg\, 5020
CATEGORIES:Frauenkreis,Meetup
ATTACH;FMTTYPE=image/png:https://www.femvents.at/wp-content/uploads/2025/06/NEU.png
ORGANIZER;CN="EllasSoulfood - Ella Gappmaier":MAILTO:info@ellassoulfood.at
GEO:47.8014154;13.0448441
X-APPLE-STRUCTURED-LOCATION;VALUE=URI;X-ADDRESS=The Soul Space Alexander-Girardi-Straße 39 Salzburg 5020;X-APPLE-RADIUS=500;X-TITLE=Alexander-Girardi-Straße 39:geo:13.0448441,47.8014154
END:VEVENT
BEGIN:VEVENT
DTSTART;TZID=Europe/Vienna:20250622T100000
DTEND;TZID=Europe/Vienna:20250622T120000
DTSTAMP:20260423T074928
CREATED:20250606T105605Z
LAST-MODIFIED:20250607T081755Z
UID:10000034-1750586400-1750593600@www.femvents.at
SUMMARY:Twerking Workshop 🍑✨
DESCRIPTION:Ziel bei Selflove & Bootyshake 🥰 \nDeinen Körper lieben lernen. Deine innere & äußere Stärke zu finden. Dich daran zu erinnern wie einzigartig und toll du bist. Deine Bewegungsqualität & deine weibliche Energie zu entfalten.🌸💕 \nWas erwartet dich beim Workshop: \n\nWomen Empowerment\nPush für dein Selbstbewusstsein\nTechnics free body movement\nSafe Space to free your mind\nBewegungs-Tools für mehr Hüftflexibilität\nTwerking & Whining Technics\nChoreography & Fun\n\nWir als Frauen kreieren gemeinsam eine sichere Atmosphäre und füllen diese mit weiblicher Energie\, Spaß\, Sinnlichkeit\, guter rhythmischer Musik und Freude an unserem Körper. All diese Emotionen & erlernten Techniken packen wir dann am Ende noch in eine Choreografie. 😍 \nIch freue mich auf dich du Queen! \n*Why be moody when you can shake your booty!* \nLovely greetings Johanna
URL:https://www.femvents.at/event/twerking-workshop-johanna/
LOCATION:Dance Base Salzburg\, Weiserhofstraße 3\, Salzburg\, 5020\, Austria
CATEGORIES:Tanzveranstaltung
ATTACH;FMTTYPE=image/png:https://www.femvents.at/wp-content/uploads/2025/06/Twerking-Workshop-.zip-1.png
ORGANIZER;CN="Selflove &amp%3B Bootyshake by Johanna":MAILTO:info@selflove-bootyshake.com
GEO:47.8120247;13.0474994
X-APPLE-STRUCTURED-LOCATION;VALUE=URI;X-ADDRESS=Dance Base Salzburg Weiserhofstraße 3 Salzburg 5020 Austria;X-APPLE-RADIUS=500;X-TITLE=Weiserhofstraße 3:geo:13.0474994,47.8120247
END:VEVENT
END:VCALENDAR