BEGIN:VCALENDAR
VERSION:2.0
PRODID:-//femvents.at - ECPv6.15.18//NONSGML v1.0//EN
CALSCALE:GREGORIAN
METHOD:PUBLISH
X-ORIGINAL-URL:https://www.femvents.at
X-WR-CALDESC:Veranstaltungen für femvents.at
REFRESH-INTERVAL;VALUE=DURATION:PT1H
X-Robots-Tag:noindex
X-PUBLISHED-TTL:PT1H
BEGIN:VTIMEZONE
TZID:Europe/Vienna
BEGIN:DAYLIGHT
TZOFFSETFROM:+0100
TZOFFSETTO:+0200
TZNAME:CEST
DTSTART:20240331T010000
END:DAYLIGHT
BEGIN:STANDARD
TZOFFSETFROM:+0200
TZOFFSETTO:+0100
TZNAME:CET
DTSTART:20241027T010000
END:STANDARD
BEGIN:DAYLIGHT
TZOFFSETFROM:+0100
TZOFFSETTO:+0200
TZNAME:CEST
DTSTART:20250330T010000
END:DAYLIGHT
BEGIN:STANDARD
TZOFFSETFROM:+0200
TZOFFSETTO:+0100
TZNAME:CET
DTSTART:20251026T010000
END:STANDARD
BEGIN:DAYLIGHT
TZOFFSETFROM:+0100
TZOFFSETTO:+0200
TZNAME:CEST
DTSTART:20260329T010000
END:DAYLIGHT
BEGIN:STANDARD
TZOFFSETFROM:+0200
TZOFFSETTO:+0100
TZNAME:CET
DTSTART:20261025T010000
END:STANDARD
END:VTIMEZONE
BEGIN:VEVENT
DTSTART;TZID=Europe/Vienna:20250722T163000
DTEND;TZID=Europe/Vienna:20250722T193000
DTSTAMP:20260423T055907
CREATED:20250711T170734Z
LAST-MODIFIED:20250711T170734Z
UID:10000106-1753201800-1753212600@www.femvents.at
SUMMARY:Netzwerktreffen Graz
DESCRIPTION:Ziel ist es\, uns mit Gleichgesinnten Frauen zu vernetzen. Im Vordergrund steht der gegeseitige Austausch und Support. \n\nAnmeldung bis spätestens 18.7.25 am Vormittag. (ich@webdirwas.at)\n\nDer genaue Ort wird dir nach der Anmeldung bekanntgegeben.
URL:https://www.femvents.at/event/netzwerktreffen-graz/
LOCATION:Citypark Graz\, Graz\, Steiermark\, Austria
CATEGORIES:Netzwerk-Treffen
ATTACH;FMTTYPE=image/jpeg:https://www.femvents.at/wp-content/uploads/2025/07/inbound1111567544179094863.jpg
ORGANIZER;CN="webdirwas.at":MAILTO:ich@webdirwas.at
GEO:47.0678961;15.4417305
END:VEVENT
BEGIN:VEVENT
DTSTART;TZID=Europe/Vienna:20250723T180000
DTEND;TZID=Europe/Vienna:20250723T200000
DTSTAMP:20260423T055907
CREATED:20250717T140111Z
LAST-MODIFIED:20250717T140220Z
UID:10000127-1753293600-1753300800@www.femvents.at
SUMMARY:LLL-FrauenTanz-Treff
DESCRIPTION:Ein Raum für neue Begegnungen mit Tanzen und Spaß ~ wir feiern gemeinsam das Leben mit GUTER LAUNE Musik 💃🏻💃🏻💃🏻 \nDresscode: Sei DU selbst 🫶🏼\n#tanzenmachtglücklich \nAus organisatorischen Gründen und da es das erste Mal in Baden ist\, bitte per Email anmelden 💌 info@vereinlebenliebenlachen.at \nFür VIP’s (Vereins Interne Personen) und die\, die es noch werden wollen. 🙂
URL:https://www.femvents.at/event/lll-frauentanz-treff/
LOCATION:LEZ 2500 Baden\, Göschlgasse 1\, Baden\, 2500\, Austria
CATEGORIES:Tanzveranstaltung
ATTACH;FMTTYPE=image/jpeg:https://www.femvents.at/wp-content/uploads/2025/07/LLL-Flyer-Frauentanz.jpg
ORGANIZER;CN="Verein 'LEBEN%2C LIEBEN%2C LACHEN - endlich wei%C3%9F ich wie!'":MAILTO:info@vereinlebenliebenlachen.at
GEO:48.003221;16.2491114
X-APPLE-STRUCTURED-LOCATION;VALUE=URI;X-ADDRESS=LEZ 2500 Baden Göschlgasse 1 Baden 2500 Austria;X-APPLE-RADIUS=500;X-TITLE=Göschlgasse 1:geo:16.2491114,48.003221
END:VEVENT
BEGIN:VEVENT
DTSTART;TZID=Europe/Vienna:20250724T180000
DTEND;TZID=Europe/Vienna:20250724T233000
DTSTAMP:20260423T055907
CREATED:20250613T072038Z
LAST-MODIFIED:20250613T072038Z
UID:10000045-1753380000-1753399800@www.femvents.at
SUMMARY:Summer Success Soirée
DESCRIPTION:SUCCESS SOIRÉE\nDie „Success Soirée Salzburg“ lädt (Business-)Frauen zu einem besonderen Event ein\, das Networking\, Inspiration und Feierlaune miteinander verbindet. Dieses einzigartige After-Work-Format bietet eine Bühne – in Form einer Tanzfläche – für Sichtbarkeit\, Austausch und Motivation. Ganz im Sinne von „Sisterhood“ schafft das Event einen Raum und Rahmen\, in dem Frauen einander applaudieren\, feiern und miteinander wachsen können.
URL:https://www.femvents.at/event/summer-success-soiree/
LOCATION:Club Balboa Salzburg\, Gstättengasse 7\, Salzburg\, Salzburg\, 5020\, Austria
CATEGORIES:Netzwerk-Treffen
ATTACH;FMTTYPE=image/png:https://www.femvents.at/wp-content/uploads/2025/06/SCREEN_240725.png
GEO:47.8051393;13.0380686
X-APPLE-STRUCTURED-LOCATION;VALUE=URI;X-ADDRESS=Club Balboa Salzburg Gstättengasse 7 Salzburg Salzburg 5020 Austria;X-APPLE-RADIUS=500;X-TITLE=Gstättengasse 7:geo:13.0380686,47.8051393
END:VEVENT
BEGIN:VEVENT
DTSTART;TZID=Europe/Vienna:20250724T190000
DTEND;TZID=Europe/Vienna:20250724T200000
DTSTAMP:20260423T055907
CREATED:20250703T102440Z
LAST-MODIFIED:20250703T102440Z
UID:10000095-1753383600-1753387200@www.femvents.at
SUMMARY:Gründerinnen-Sprechstunde: Fempreneur
DESCRIPTION:Du möchtest dich selbstständig machen aber hast noch 1000 Fragen?\n💬 Komm zum zweiwöchentlichen Online-Expertinnen-Talk für Gründerinnen (in spe) zu allen Fragen rund um deine Selbstständigkeit! \nIn diesem kostenlosen Webinar erwartet dich: \n\nOffene Q&A-Session zu allen Themen der Unternehmensgründung\nPraxisnahe Antworten auf deine individuellen Herausforderungen\nVernetzung mit Gleichgesinnten in entspannter Atmosphäre\nWertvolle Impulse und konkrete Handlungsschritte\n\nDetails:\n🗓️ Jeden zweiten Donnerstag\n⏰ 19:00 Uhr\n💻 Via Zoom\n💰 Kostenlos \nBringe deine Fragen mit oder höre einfach zu und lass dich inspirieren.\nDieser interaktive Austausch ist perfekt für dich\, egal ob du… \n\nmit dem Gedanken spielst\, dich selbstständig zu machen\nkonkrete Schritte zur Gründung planst\nbereits gegründet hast und vor neuen Herausforderungen stehst\n\n👩‍💼 Über den Host:\nIsabella ist diplomierte psychologische Beraterin\, Business Coach\, Trainerin für Erwachsenenbildung und zertifiziert für systemische Aufstellungsarbeit. Mit 13+ Jahren Erfahrung als selbstständige Senior UX-Designerin bringt sie einen reichen Erfahrungsschatz in der Zusammenarbeit mit Kund:innen in ganz Europa mit. ✨ \n🔗 Melde dich jetzt für einen der nächsten Termine an!
URL:https://www.femvents.at/event/gruenderinnen-sprechstunde-fempreneur-2/
LOCATION:Online-Event\, Austria
CATEGORIES:After Work,Coaching,Frauenkreis,Meetup,Netzwerk-Treffen,Online-Event
ATTACH;FMTTYPE=image/png:https://www.femvents.at/wp-content/uploads/2025/07/Fempreneur-After-Work-femvents-1.png
ORGANIZER;CN="Mind Distillery":MAILTO:hello@mind-distillery.com
GEO:47.516231;14.550072
END:VEVENT
BEGIN:VEVENT
DTSTART;TZID=Europe/Vienna:20250725T160000
DTEND;TZID=Europe/Vienna:20250726T210000
DTSTAMP:20260423T055907
CREATED:20250702T093824Z
LAST-MODIFIED:20250702T093824Z
UID:10000089-1753459200-1753563600@www.femvents.at
SUMMARY:THE PULSE
DESCRIPTION:Dance Workshops brought to you by Maja\, Lena & Paula. \nWe’re bringing you our knowledge\, technique and passion for styles such as Dancehall\, Twerk + Soca\, Slow Wine\, Heels  & Reggaeton ♥️ \nSign Up via Link: \nhttps://form.jotform.com/251812952074356 \nYou can find us on Instagram for more Info: @lena__mercedes
URL:https://www.femvents.at/event/the-pulse/
LOCATION:Streetmotion Studio\, Viaduktbögen 7-10\, Innsbruck\, Tirol\, 6020\, Austria
CATEGORIES:Tanzveranstaltung
ATTACH;FMTTYPE=image/jpeg:https://www.femvents.at/wp-content/uploads/2025/07/59122f64-4c4b-46ad-8900-300c1bdf4d73.jpeg
GEO:47.269258;11.4040792
X-APPLE-STRUCTURED-LOCATION;VALUE=URI;X-ADDRESS=Streetmotion Studio Viaduktbögen 7-10 Innsbruck Tirol 6020 Austria;X-APPLE-RADIUS=500;X-TITLE=Viaduktbögen 7-10:geo:11.4040792,47.269258
END:VEVENT
BEGIN:VEVENT
DTSTART;TZID=Europe/Vienna:20250726T100000
DTEND;TZID=Europe/Vienna:20250726T123000
DTSTAMP:20260423T055907
CREATED:20250719T051730Z
LAST-MODIFIED:20250719T051753Z
UID:10000128-1753524000-1753533000@www.femvents.at
SUMMARY:Mini-Day-Retreat – Mama\, fühl dich!
DESCRIPTION:Mini-Day-Retreat exklusiv für Mamas: Loslassen. Vertrauen. Auftanken. \nSamstag\, 26. Juli 2025 von 10:00 – 12:30 UhrOrt: Self Love Club\, Lederergasse 3\, 5020 SalzburgPreis: Pay what you can. Pay what you feel.\nDu gibst vor Ort\, was dir möglich ist – ehrlich\, ohne Bewertung. \nLet’s be honest \nDu funktionierst. Du hältst alles zusammen. Aber wann spürst du dich selbst? Dieser kleine liebevolle Retreat ist deine Einladung\, innezuhalten. Dich zu fühlen. Und deinem Wunderkörper wieder zu vertrauen. \nWas dich erwartet: \n\nAnkommen auf der Matte – mit Atmung\, Nervensystem-Reset & sanftem Spüren\nLoslass-Ritual: Was darf heute gehen?\nMindful Flow Yoga: achtsame Bewegungen\, die dich zurück in deinen Körper – zurück zu DIR – bringen.\nCooldown & Reset: regenerierende Schlussentspannung zum bewussten Weichwerden und deine persönlichen Erste-Hilfe-Mantra… als Reminder für mehr Vertrauen im Mama-Alltag.\n\n💛 Kein Leistungsdruck. Kein Müssen. Nur du. Keine Vorkenntnisse notwendig. \nTeilnahme-Infos: \n\nPay what you can. Pay what you feel. Zahl direkt vor Ort\, was dir möglich ist – ehrlich\, frei\, wertschätzend.\nBring deine eigene (Yoga-)Matte mit.\nDoors open ab 09:30 Uhr – nach dieser Session öffnet direkt unser open (he)art café – bleib gern noch zum Nachspüren\, Matcha trinken oder einfach Sein. Du bestimmst das Tempo.
URL:https://www.femvents.at/event/mini-day-retreat-mama-fuehl-dich/
LOCATION:Salzburg Stadt
CATEGORIES:Kurs,Sport
ATTACH;FMTTYPE=image/jpeg:https://www.femvents.at/wp-content/uploads/2025/07/23_-__DSC8616-Verbessert-RR.jpg
ORGANIZER;CN="SELF LOVE CLUB @liebestrunken":MAILTO:hey@liebestrunken.com
END:VEVENT
BEGIN:VEVENT
DTSTART;TZID=Europe/Vienna:20250726T170000
DTEND;TZID=Europe/Vienna:20250726T210000
DTSTAMP:20260423T055907
CREATED:20250704T183928Z
LAST-MODIFIED:20250704T184004Z
UID:10000099-1753549200-1753563600@www.femvents.at
SUMMARY:SPECIAL Creative Self-care workshop
DESCRIPTION:BIRTHDAY SPECIAL EVENT \n1 year ago I decided to be brave enough to start The FLOW OF THE SOUL program: the perfect mix between Art and Yoga. I didn’t know if it would work out\, but I felt that I needed to do it. And I honestly never expected so many of you to trust and follow me. \nAnd guess what: this month I will also celebrate my 25 years on this beautiful Planet. 25 years of learning\, flowing and BLOOMING. \nDon’t these Birthdays deserve a celebration? \n✨For this special event\, I will guide you during 2h to:\n– relax your body (self-massage\, meditating awareness)\n– understand your soul (guided artistic exercise)\n– grow your mind (introspection\, discussion)\nAnd then a full evening of music\, food\, love (and much more)! \n🗓️ 26.07 • 17-21:00\n📍Hellbrunner Park\, Salzburg\n🎟️ 30€/person (painting material included)\nQuestions and registration in DM \nSo excited to share this with you ✨
URL:https://www.femvents.at/event/special-creative-self-care-workshop/
LOCATION:Hellbrunner Park\, exact location will be shared\, Salzburg\, 5020\, Austria
CATEGORIES:Workshop
ATTACH;FMTTYPE=image/jpeg:https://www.femvents.at/wp-content/uploads/2025/07/IMG_6542.jpeg
GEO:47.8051393;13.0380686
X-APPLE-STRUCTURED-LOCATION;VALUE=URI;X-ADDRESS=Hellbrunner Park exact location will be shared Salzburg 5020 Austria;X-APPLE-RADIUS=500;X-TITLE=exact location will be shared:geo:13.0380686,47.8051393
END:VEVENT
BEGIN:VEVENT
DTSTART;TZID=Europe/Vienna:20250727T170000
DTEND;TZID=Europe/Vienna:20250727T190000
DTSTAMP:20260423T055907
CREATED:20250722T153758Z
LAST-MODIFIED:20250722T153758Z
UID:10000141-1753635600-1753642800@www.femvents.at
SUMMARY:Frauenkreis in Seewalchen/Attersee
DESCRIPTION:Du möchtest in einem bewussten Rahmen innehalten\, dich mit dir selbst und anderen Frauen verbinden und neue Impulse für dein Leben mitnehmen? \nDieser Circle bietet dir genau das: einen geschützten Raum für ehrlichen Austausch\, persönliche Entwicklung und gelebte Sisterhood. \n\n17 Uhr\, ca. 2Stunden\nkleine Gruppe\nÜbungen\, Impulse\, Sharing Runden\, kurze Meditationen\, Breathwork\, embodiment Übungen\nThemen rund ums Leben\, Weiblichkeit\, Zyklus\, Persönlichkeit und alles was bewegt\n\n  \nInkludiert sind eine erdende Kakao-Zeremonie\, Tee & Getränke sowie kleine\, gesunde Snacks. \nDas Event findet im Studio Vollwunder in Seewalchen am Attersee statt – warm\, einladend und mit Platz für echte Verbindung. \nBring a Friend: Mit dem Friendsticket kommt ihr zu zweit – und spart dabei gemeinsam!
URL:https://www.femvents.at/event/frauenkreis-in-seewalchen-attersee/
LOCATION:Studio Vollwunder\, Attersee Straße 22\, Seewalchen\, Oberösterreich\, 4863\, Austria
CATEGORIES:Frauenkreis
ATTACH;FMTTYPE=image/jpeg:https://www.femvents.at/wp-content/uploads/2025/07/IMG_6795.jpeg
ORGANIZER;CN="Soulcircles | Alexandra Regensburger":MAILTO:hello@soulcircles.at
GEO:47.949564;13.5943458
X-APPLE-STRUCTURED-LOCATION;VALUE=URI;X-ADDRESS=Studio Vollwunder Attersee Straße 22 Seewalchen Oberösterreich 4863 Austria;X-APPLE-RADIUS=500;X-TITLE=Attersee Straße 22:geo:13.5943458,47.949564
END:VEVENT
END:VCALENDAR