BEGIN:VCALENDAR
VERSION:2.0
PRODID:-//femvents.at - ECPv6.15.18//NONSGML v1.0//EN
CALSCALE:GREGORIAN
METHOD:PUBLISH
X-WR-CALNAME:femvents.at
X-ORIGINAL-URL:https://www.femvents.at
X-WR-CALDESC:Veranstaltungen für femvents.at
REFRESH-INTERVAL;VALUE=DURATION:PT1H
X-Robots-Tag:noindex
X-PUBLISHED-TTL:PT1H
BEGIN:VTIMEZONE
TZID:Europe/Vienna
BEGIN:DAYLIGHT
TZOFFSETFROM:+0100
TZOFFSETTO:+0200
TZNAME:CEST
DTSTART:20240331T010000
END:DAYLIGHT
BEGIN:STANDARD
TZOFFSETFROM:+0200
TZOFFSETTO:+0100
TZNAME:CET
DTSTART:20241027T010000
END:STANDARD
BEGIN:DAYLIGHT
TZOFFSETFROM:+0100
TZOFFSETTO:+0200
TZNAME:CEST
DTSTART:20250330T010000
END:DAYLIGHT
BEGIN:STANDARD
TZOFFSETFROM:+0200
TZOFFSETTO:+0100
TZNAME:CET
DTSTART:20251026T010000
END:STANDARD
BEGIN:DAYLIGHT
TZOFFSETFROM:+0100
TZOFFSETTO:+0200
TZNAME:CEST
DTSTART:20260329T010000
END:DAYLIGHT
BEGIN:STANDARD
TZOFFSETFROM:+0200
TZOFFSETTO:+0100
TZNAME:CET
DTSTART:20261025T010000
END:STANDARD
END:VTIMEZONE
BEGIN:VEVENT
DTSTART;TZID=Europe/Vienna:20250901T190000
DTEND;TZID=Europe/Vienna:20250901T210000
DTSTAMP:20260423T002551
CREATED:20250827T123146Z
LAST-MODIFIED:20250827T123146Z
UID:10000208-1756753200-1756760400@www.femvents.at
SUMMARY:Zykluswissen Crashkurs
DESCRIPTION:Erfahre in 2 Stunden Online Workshop alles\, was du über die Periode\, die 4 Zyklusphasen und weibliche Hormone wissen musst.\nLass mich dir an diesem Abend eine neue\, spannende Welt zeigen\, die deinen Alltag – und vielleicht sogar dein Leben – gewaltig verändern kann. Zum Besseren!
URL:https://www.femvents.at/event/zykluswissen-crashkurs-online-workshop/
LOCATION:Online-Event\, Austria
CATEGORIES:Frauenkreis,Online-Event,Vortrag
ATTACH;FMTTYPE=image/jpeg:https://www.femvents.at/wp-content/uploads/2025/08/Sandra-Langschwert.jpg
ORGANIZER;CN="Sandra Langschwert":MAILTO:hallo@imzyklus.at
GEO:47.516231;14.550072
END:VEVENT
BEGIN:VEVENT
DTSTART;TZID=Europe/Vienna:20250903T180000
DTEND;TZID=Europe/Vienna:20250903T200000
DTSTAMP:20260423T002551
CREATED:20250714T133951Z
LAST-MODIFIED:20250714T133951Z
UID:10000114-1756922400-1756929600@www.femvents.at
SUMMARY:FRAU iDA Vernetzungstreffen
DESCRIPTION:Gegenseitige Inspiration\, Unterstützung und Austausch: Lerne neue spannende Menschen und Konzepte kennen\, die dich weiterbringen! Bei unserem kostenlosen Treffen\, welches regelmäßig jeden ersten Mittwochs im Monat stattfindet  – komm vorbei! \nWir setzen wieder unsere Videokonferenzkamera mit 360° Rundum-Überblick ein\, damit wir allen\, die an diesem Abend nicht nach Zwettl kommen können\, die Möglichkeit bieten\, sich zu vernetzen und austauschen zu können. Dank Owlivia\, wie wir sie liebevoll nennen\, können wir Interessierte online via Zoom zuschalten – sie erleben das Treffen\, als wären sie im selben Raum. Wir freuen uns\, wenn du unser innovatives Angebot nutzt – hier der Zoom-Link: https://us06web.zoom.us/j/85665550790
URL:https://www.femvents.at/event/frau-ida-vernetzungstreffen-september/
LOCATION:FRAU iDA\, Hauptplatz 16\, Zwettl\, Niederösterreich\, 3910\, Austria
CATEGORIES:Netzwerk-Treffen
ATTACH;FMTTYPE=image/png:https://www.femvents.at/wp-content/uploads/2025/07/FRAU-iDA-2-1.png
ORGANIZER;CN="FRAU iDA":MAILTO:office@frau-ida.at
GEO:48.6041614;15.167567
X-APPLE-STRUCTURED-LOCATION;VALUE=URI;X-ADDRESS=FRAU iDA Hauptplatz 16 Zwettl Niederösterreich 3910 Austria;X-APPLE-RADIUS=500;X-TITLE=Hauptplatz 16:geo:15.167567,48.6041614
END:VEVENT
BEGIN:VEVENT
DTSTART;TZID=Europe/Vienna:20250904T190000
DTEND;TZID=Europe/Vienna:20250904T200000
DTSTAMP:20260423T002551
CREATED:20250717T135607Z
LAST-MODIFIED:20250717T140037Z
UID:10000123-1757012400-1757016000@www.femvents.at
SUMMARY:Gründerinnen-Sprechstunde: Fempreneur
DESCRIPTION:Du möchtest dich selbstständig machen aber hast noch 1000 Fragen?\n💬 Komm zum zweiwöchentlichen Online-Expertinnen-Talk für Gründerinnen (in spe) zu allen Fragen rund um deine Selbstständigkeit! \nIn diesem kostenlosen Webinar erwartet dich: \n\nOffene Q&A-Session zu allen Themen der Unternehmensgründung\nPraxisnahe Antworten auf deine individuellen Herausforderungen\nVernetzung mit Gleichgesinnten in entspannter Atmosphäre\nWertvolle Impulse und konkrete Handlungsschritte\n\nDetails:\n🗓️ Jeden zweiten Donnerstag\n⏰ 19:00 Uhr\n💻 Via Zoom\n💰 Kostenlos \nBringe deine Fragen mit oder höre einfach zu und lass dich inspirieren.\nDieser interaktive Austausch ist perfekt für dich\, egal ob du… \n\nmit dem Gedanken spielst\, dich selbstständig zu machen\nkonkrete Schritte zur Gründung planst\nbereits gegründet hast und vor neuen Herausforderungen stehst\n\n👩‍💼 Über den Host:\nIsabella ist diplomierte psychologische Beraterin\, Business Coach\, Trainerin für Erwachsenenbildung und zertifiziert für systemische Aufstellungsarbeit. Mit 13+ Jahren Erfahrung als selbstständige Senior UX-Designerin bringt sie einen reichen Erfahrungsschatz in der Zusammenarbeit mit Kund:innen in ganz Europa mit. ✨ \n🔗 Melde dich jetzt für einen der nächsten Termine an!
URL:https://www.femvents.at/event/gruenderinnen-sprechstunde-fempreneur-6/
LOCATION:Online-Event\, Austria
CATEGORIES:After Work,Coaching,Frauenkreis,Netzwerk-Treffen,Online-Event,Stammtisch,Workshop
ATTACH;FMTTYPE=image/png:https://www.femvents.at/wp-content/uploads/2025/07/Fempreneur-After-Work-femvents-6.png
ORGANIZER;CN="Mind Distillery":MAILTO:hello@mind-distillery.com
GEO:47.516231;14.550072
END:VEVENT
BEGIN:VEVENT
DTSTART;TZID=Europe/Vienna:20250905T160000
DTEND;TZID=Europe/Vienna:20250909T110000
DTSTAMP:20260423T002551
CREATED:20250707T141847Z
LAST-MODIFIED:20250707T141900Z
UID:10000100-1757088000-1757415600@www.femvents.at
SUMMARY:re-wilded womb Retreat
DESCRIPTION:freu dich auf eine intensive 5tägige Reise in der wir abtauchen werden in unsere weibliche Körperinnen\, Kraft & Er0tik. ein unterstützter\, geführter Rahmen der dich in die Facette der Wilden Frau & der heiligen Hure in dir begleiten darf um dort Medizin für dein kompromissloses Selbstbewusstsein als Frau zu schöpfen- in deinen Visionen vom Leben\, als auch in deiner authentisch gelebten Weiblichkeit\, Schwesternschaft und Sexualität. \ndich erwarten schamanische & tantrische Rituale wie zB.: Gebärmutterreinigung\, YoniSteaming Zeremonie\, Visionssuche\, womb-awakening & feminine embodyment Praktiken\, Kakaorituale\,  schamanische Reisen\, Initiationsrituale für die Wolfsfrau & die Hure\, Frauenkreis\, soultalk\, Lagerfeuer uvm! \nich lade alle Schwestern auf diese Reise ein\, die in einem weiblichen Körper stecken und das Leben unter der Oberfläche entdecken möchten. wenn du neu bist in diesem Gebiet und wenn du bereits tiefe Arbeit um deine Weiblichkeit vollbringst!
URL:https://www.femvents.at/event/re-wilded-womb-retreat/
LOCATION:1000Kraut Hof\, Hinterholz 28\, Laimbach am Ostrong\, Niederösterreich\, 3663\, Austria
CATEGORIES:Frauenkreis,Retreat
ATTACH;FMTTYPE=image/png:https://www.femvents.at/wp-content/uploads/2025/07/6.png
ORGANIZER;CN="%C3%84NNI":MAILTO:anna.gruber7598@gmail.com
GEO:48.3062541;15.1257701
X-APPLE-STRUCTURED-LOCATION;VALUE=URI;X-ADDRESS=1000Kraut Hof Hinterholz 28 Laimbach am Ostrong Niederösterreich 3663 Austria;X-APPLE-RADIUS=500;X-TITLE=Hinterholz 28:geo:15.1257701,48.3062541
END:VEVENT
BEGIN:VEVENT
DTSTART;TZID=Europe/Vienna:20250906T090000
DTEND;TZID=Europe/Vienna:20250906T120000
DTSTAMP:20260423T002551
CREATED:20250805T213317Z
LAST-MODIFIED:20250805T213317Z
UID:10000157-1757149200-1757160000@www.femvents.at
SUMMARY:Erfolgreich und motiviert ans Ziel
DESCRIPTION:Visionboards– Kreativität– Meditation \nZiele setzen. Wege finden. Erfolgreich sein. \nKreativ und im Innen – mit viel Herz\, Liebe und Motivation. \nWir arbeiten mit den Fragen: \n\nWas sind meine Ziele?\nWo will ich hin?\nWas wünsche ich mir?\n\nMittels Visionboards\, Meditationen\, ätherischen Ölen und Impulsen aus der Positiven Psychologie nehmen wir uns Zeit für unsere Ziele \nDein Workshop in „Deine Praxis“ Oberalm \nZiele. Wünsche. Visionen.
URL:https://www.femvents.at/event/erfolgreich-und-motiviert-ans-ziel/
LOCATION:DEINE PRAXIS Oberalm\, Salzburg\, Österreich\, Halleiner Landesstraße 40\, Oberalm\, Salzburg\, 5411\, Austria
CATEGORIES:After Work,Coaching,Frauenkreis,Kurs,Meetup,Netzwerk-Treffen,Workshop
ATTACH;FMTTYPE=image/jpeg:https://www.femvents.at/wp-content/uploads/2025/08/WS-Visionboards-6.9.25-S2.jpg
ORGANIZER;CN="im Sinn Claudia Strubegger":MAILTO:claudia@im-sinn.at
GEO:47.699157;13.0999683
X-APPLE-STRUCTURED-LOCATION;VALUE=URI;X-ADDRESS=DEINE PRAXIS Oberalm Salzburg Österreich Halleiner Landesstraße 40 Oberalm Salzburg 5411 Austria;X-APPLE-RADIUS=500;X-TITLE=Halleiner Landesstraße 40:geo:13.0999683,47.699157
END:VEVENT
BEGIN:VEVENT
DTSTART;TZID=Europe/Vienna:20250906T143000
DTEND;TZID=Europe/Vienna:20250906T170000
DTSTAMP:20260423T002551
CREATED:20250814T123342Z
LAST-MODIFIED:20250814T123342Z
UID:10000172-1757169000-1757178000@www.femvents.at
SUMMARY:Kinderwunschkreis - Gehalten im Vertrauen
DESCRIPTION:Im Kinderwunsch-Frauenkreis schaffen wir einen geschützten Raum\, in dem du dich zeigen darfst – mit allem\, was gerade da ist: Hoffnung. Zweifel. Trauer. Sehnsucht. Mut.\nWir kommen mit uns selbst und miteinander in Verbindung\, schöpfen Kraft und lernen\, (wieder) zu vertrauen.\n\n☆ Zwischen Wissen & Intuition – Zyklus- und Fruchtbarkeitswissen\, verbunden mit deiner inneren Stimme\n☆ Zwischen Wissenschaft & Spiritualität – Medizin\, Rituale und die stille Kraft der Natur\n☆ Zwischen mentaler Stärke & emotionalem Halt – Mentaltraining und ehrlicher Austausch\n\nDer Frauenkreis ist für dich\, wenn du dir ein Kind wünschst\, dich stärken willst oder dir mehr Verbundenheit wünschst.\nDu bist nicht allein – und du bist mehr als dein Kinderwunsch.
URL:https://www.femvents.at/event/kinderwunschkreis-gehalten-im-vertrauen/
LOCATION:The Soul Space\, Alexander-Girardi-Straße 39\, Salzburg\, 5020
CATEGORIES:Frauenkreis
ATTACH;FMTTYPE=image/jpeg:https://www.femvents.at/wp-content/uploads/2025/08/IMG_0493-1-scaled.jpeg
ORGANIZER;CN="Doula Cynthia":MAILTO:Hallo@doulacynthia.com
GEO:47.8014154;13.0448441
X-APPLE-STRUCTURED-LOCATION;VALUE=URI;X-ADDRESS=The Soul Space Alexander-Girardi-Straße 39 Salzburg 5020;X-APPLE-RADIUS=500;X-TITLE=Alexander-Girardi-Straße 39:geo:13.0448441,47.8014154
END:VEVENT
BEGIN:VEVENT
DTSTART;TZID=Europe/Vienna:20250906T180000
DTEND;TZID=Europe/Vienna:20250906T200000
DTSTAMP:20260423T002551
CREATED:20250826T153512Z
LAST-MODIFIED:20250826T153512Z
UID:10000197-1757181600-1757188800@www.femvents.at
SUMMARY:Body | Intimacy Frauenkreis 🍓
DESCRIPTION:Dieses Mal mit Dresscode: Sensual 🍓 du hast nix passendes? Dann wird’s aber Zeit 😉 \nWir tauchen in deine Sinnlichkeit ein – zart\, wild\, verspielt. Ein Abend\, der deinem Körper\, deiner Lust am Leben und deiner inneren Kraft gewidmet ist. \nStell dir vor: ein Raum nur für dich\, ohne Vergleiche\, ohne Müssen – einfach Spüren\, Atmen\, Sein. 🌹\nMit Frauen\, die wie du nach Lebendigkeit\, Tiefe & Verbindung rufen. \nEine Ode an deine Life-Force. 🔥\nEin Returning Home.\nEine Befreiung deiner Lust. \nBist du dabei? 🥂
URL:https://www.femvents.at/event/body-intimacy-frauenkreis-%f0%9f%8d%93/
LOCATION:The Soul Space\, Alexander-Girardi-Straße 39\, Salzburg\, 5020
CATEGORIES:Coaching,Frauenkreis,Workshop
ATTACH;FMTTYPE=image/png:https://www.femvents.at/wp-content/uploads/2025/08/1.png
ORGANIZER;CN="Sophie Itzlinger | Female Intimacy Guidance":MAILTO:kontakt@wildfemininelove.com
GEO:47.8014154;13.0448441
X-APPLE-STRUCTURED-LOCATION;VALUE=URI;X-ADDRESS=The Soul Space Alexander-Girardi-Straße 39 Salzburg 5020;X-APPLE-RADIUS=500;X-TITLE=Alexander-Girardi-Straße 39:geo:13.0448441,47.8014154
END:VEVENT
END:VCALENDAR