BEGIN:VCALENDAR
VERSION:2.0
PRODID:-//femvents.at - ECPv6.15.18//NONSGML v1.0//EN
CALSCALE:GREGORIAN
METHOD:PUBLISH
X-ORIGINAL-URL:https://www.femvents.at
X-WR-CALDESC:Veranstaltungen für femvents.at
REFRESH-INTERVAL;VALUE=DURATION:PT1H
X-Robots-Tag:noindex
X-PUBLISHED-TTL:PT1H
BEGIN:VTIMEZONE
TZID:Europe/Vienna
BEGIN:DAYLIGHT
TZOFFSETFROM:+0100
TZOFFSETTO:+0200
TZNAME:CEST
DTSTART:20240331T010000
END:DAYLIGHT
BEGIN:STANDARD
TZOFFSETFROM:+0200
TZOFFSETTO:+0100
TZNAME:CET
DTSTART:20241027T010000
END:STANDARD
BEGIN:DAYLIGHT
TZOFFSETFROM:+0100
TZOFFSETTO:+0200
TZNAME:CEST
DTSTART:20250330T010000
END:DAYLIGHT
BEGIN:STANDARD
TZOFFSETFROM:+0200
TZOFFSETTO:+0100
TZNAME:CET
DTSTART:20251026T010000
END:STANDARD
BEGIN:DAYLIGHT
TZOFFSETFROM:+0100
TZOFFSETTO:+0200
TZNAME:CEST
DTSTART:20260329T010000
END:DAYLIGHT
BEGIN:STANDARD
TZOFFSETFROM:+0200
TZOFFSETTO:+0100
TZNAME:CET
DTSTART:20261025T010000
END:STANDARD
END:VTIMEZONE
BEGIN:VEVENT
DTSTART;TZID=Europe/Vienna:20251028T090000
DTEND;TZID=Europe/Vienna:20251028T120000
DTSTAMP:20260423T002644
CREATED:20250925T110114Z
LAST-MODIFIED:20250925T110114Z
UID:10000333-1761642000-1761652800@www.femvents.at
SUMMARY:Finanzen für Frauen (Live-Online-Seminar)
DESCRIPTION:Wie wir Stolpersteine vermeiden und langfristige finanzielle Entscheidungen treffen \nFinanzen für Frauen“ ist ein 3-stündiger Online-Workshop\, in dem Themen rund ums Geld\, mit den teilnehmenden Frauen\, bearbeitet werden. Dabei wird auf die Bedürfnisse und Interessen\, sowie das Vorwissen der Teilnehmerinnen eingegangen. Die Teilnehmerinnen erhalten Inputs zu Möglichkeiten der finanziellen Planung\, beschäftigen sich mit den häufigsten finanziellen Stolpersteinen\, können sich Expertinnen-Tipps mitnehmen und erhalten Antworten auf ihre „Geldfragen“. Lebensentscheidungen\, die eine langfristige Auswirkung auf die finanzielle Situation haben\, wie z.B.: Teilzeitarbeit\, werden ebenso zum Thema wie Informationen rund um die Pension. \nSeminarleitung: Julia Strablegg-Muchitsch / Schuldenberatung Steiermark \nHinweis: Dieses Seminar wird als Live-Online-Veranstaltung abgehalten \nVeranstaltet von: \nLEA – Let’s empower Austria\nÖsterreichischer Fonds zur Stärkung und Förderung von Frauen und Mädchen\nhttps://letsempoweraustria.at\nInstagram | LinkedIn
URL:https://www.femvents.at/event/finanzen-fuer-frauen-live-online-seminar-2/
LOCATION:Live-Online-Seminar
CATEGORIES:Online-Event
ATTACH;FMTTYPE=image/jpeg:https://www.femvents.at/wp-content/uploads/2025/09/lea-11.jpg
END:VEVENT
BEGIN:VEVENT
DTSTART;TZID=Europe/Vienna:20251028T160000
DTEND;TZID=Europe/Vienna:20251028T190000
DTSTAMP:20260423T002644
CREATED:20250916T062957Z
LAST-MODIFIED:20250916T062957Z
UID:10000287-1761667200-1761678000@www.femvents.at
SUMMARY:Digifit - Da bin ich mir sicher. Sicherheit & Datenschutz
DESCRIPTION:Ich habe nichts zu verbergen. Oder doch? Der Umgang mit persönlichen Daten\, die Privatsphäre\, der Schutz von Geräten und Identität sind Themen dieses Webinars. Wir sehen uns die Sicherheitseinstellungen an und Maßnahmen zum Schutz des Computers oder Smartphones. Die Erstellung eines Kundenkontos ist ebenso Teil des Webinars wie sichere Passwörter. Und wir gehen folgenden Fragen nach: Wer hat Interesse an meinen Daten? Was weiß Google über mich? Was sind Phishing und ScamMails? Wie schütze ich mich vor Betrug? \nWebinar – Online via zoom. Den Link zur Teilnahme erhalten Sie nach Anmeldung. \nDie Veranstaltung ist kostenlos\, bitte melden Sie sich an. \nEine Veranstaltung von \nFrau & Arbeit gGmbH\nSterneckstraße 31/3\n5020 Salzburg \nwww.frau-und-arbeit.at
URL:https://www.femvents.at/event/digifit-da-bin-ich-mir-sicher-sicherheit-datenschutz/
LOCATION:Webinar\, Online via Zoom
CATEGORIES:Coaching
ATTACH;FMTTYPE=image/jpeg:https://www.femvents.at/wp-content/uploads/2025/09/digifit_foto_neu-2.jpg
ORGANIZER;CN="Frau &amp%3B Arbeit":MAILTO:b.karl@frau-und-arbeit.at
END:VEVENT
BEGIN:VEVENT
DTSTART;TZID=Europe/Vienna:20251028T180000
DTEND;TZID=Europe/Vienna:20251028T190000
DTSTAMP:20260423T002644
CREATED:20251014T100044Z
LAST-MODIFIED:20251014T100044Z
UID:10000390-1761674400-1761678000@www.femvents.at
SUMMARY:Brustgesundheit und Ernährung -  Impulsvortrag im Brustgesundheitsmonat Oktober
DESCRIPTION:Um unsere Gesundheit langfristig zu erhalten\, braucht es zweierlei: Wissen über Vorsorgemöglichkeiten und Untersuchungsmethoden – und zugleich eine ausgewogene Ernährung\, die unseren Körper mit allen wichtigen Nährstoffen versorgt. Nur wenn beides zusammenspielt\, können wir Krankheiten vorbeugen und unser Wohlbefinden nachhaltig stärken. \nDie Ernährungsberaterin und Expertin für essentielle Nährstoffe\, Anita Helmliner\, gibt Einblicke in eine typgerechte Ernährung und zeigt auf\, wie essentielle Nährstoffe dazu beitragen können\, Zivilisationskrankheiten vorzubeugen.\nDarüber hinaus spricht die Diplomierte Gesundheits- und Krankenpflegerin sowie Expertin für Brustgesundheit\, Katharina König\, über die Bedeutung der Brustselbstuntersuchung. Sie vermittelt wertvolles Wissen rund um die Brustgesundheit und stellt die MammaCare-Methode als wirksame Technik zur Selbstuntersuchung vor. \nSo verbindet der Vortrag die beiden zentralen Säulen einer ganzheitlichen Gesundheitsvorsorge: eine bewusste Ernährung und das aktive Achten auf die eigene Brustgesundheit.
URL:https://www.femvents.at/event/brustgesundheit-und-ernaehrung-impulsvortrag-im-brustgesundheitsmonat-oktober-2/
LOCATION:all about period\, Lerchenfelderstrasse 65\, Wien\, Wien\, 1070\, Austria
CATEGORIES:Vortrag,Wien
ATTACH;FMTTYPE=image/png:https://www.femvents.at/wp-content/uploads/2025/10/Vortrag-All-About-Period-Wien.png
ORGANIZER;CN="Katharina K%C3%B6nig und Anita Helmlinger":MAILTO:kontakt@katharinakoenig.at
GEO:48.206719;16.3466189
X-APPLE-STRUCTURED-LOCATION;VALUE=URI;X-ADDRESS=all about period Lerchenfelderstrasse 65 Wien Wien 1070 Austria;X-APPLE-RADIUS=500;X-TITLE=Lerchenfelderstrasse 65:geo:16.3466189,48.206719
END:VEVENT
BEGIN:VEVENT
DTSTART;TZID=Europe/Vienna:20251028T180000
DTEND;TZID=Europe/Vienna:20251028T200000
DTSTAMP:20260423T002644
CREATED:20251010T115902Z
LAST-MODIFIED:20251010T115902Z
UID:10000376-1761674400-1761681600@www.femvents.at
SUMMARY:Networking Abend nur für Unternehmerinnen
DESCRIPTION:Ein exklusiver Abend für Frauen\, um sich zu vernetzen\, neue Kontakte zu knüpfen und gemeinsam Erfahrungen auszutauschen. \nNetworking Abend nur für Unternehmerinnen \nFür uns spielt das gegenseitige vernetzen und der Gemeinschaftssinn eine wichtige Rolle. Wir wissen\, dass geschäftliche Netzwerke\, wo sich Unternehmerinnen gegenseitig unterstützen sehr erfolgreich sein können. \nUnd genau zu einem solchen Netzwerk möchten wir Dich hiermit einladen. \nWomen’s Mindset will Unternehmerinnen aus verschiedenen Bereichen zusammenbringen. \nNutze die Möglichkeit mit anderen spannenden Unternehmerinnen oder noch werdenden Unternehmerinnen verschiedener Branchen in Austausch zu gehen. \nHaben wir Dich neugierig gemacht? \nDann freuen wir uns schon darauf\, Dich zu unserem Treffen persönlich begrüßen zu können. \nDu wirst alle Damen bei einem\, „Speed-Need“ alle kennenlernen und neue Ideen und Anregungen für Deine brennenden Themen sammeln. \nFür Getränke und Snacks ist ausreichend gesorgt. \nAuf einen schönen informativen und erlebnisreichen Abend mit dir\, \nfreuen sich @Vivi Ramani & @Bella Volen. \nNatürlich sind wir für Fragen auch gerne telefonisch erreichbar: \nVivi Ramani: [+43 660 110 15 25](tel:+43 660 110 15 25) – www.womensmindset.at \nBella Volen: [+43 699 132 29 826](tel:+43 699 132 29 826) – www.bella-volen.com \nHinweis zu Fotos und Videos: \nWir weisen darauf hin\, dass am Veranstaltungsort Fotos und Videos angefertigt und zum Zweck der Veranstaltungsdokumentation im Internet und in Drucksorten veröffentlicht werden. \nAnfahrt： \nDie Galerie ist ein Geschäftslokal\, direkt auf der Straße und befindet sich zwischen dem Rathaus und Café Bendl.
URL:https://www.femvents.at/event/networking-abend-nur-fuer-unternehmerinnen-3/
LOCATION:BELLA VOLEN Gallery
CATEGORIES:Netzwerk-Treffen
ATTACH;FMTTYPE=image/jpeg:https://www.femvents.at/wp-content/uploads/2025/10/Networking4.jpg
ORGANIZER;CN="Women%C2%B4s Mindset":MAILTO:office@womensmindset.at
END:VEVENT
BEGIN:VEVENT
DTSTART;TZID=Europe/Vienna:20251029T183000
DTEND;TZID=Europe/Vienna:20251029T203000
DTSTAMP:20260423T002644
CREATED:20251009T070815Z
LAST-MODIFIED:20251015T075440Z
UID:10000370-1761762600-1761769800@www.femvents.at
SUMMARY:THE:Reflect & Connect
DESCRIPTION:🆕Wir haben mit diesem neuen Format einen monatlichen Empowerment-Call. Gemeinsam reflektieren wir die Highlights und Herausforderungen des vergangenen Monats\, setzen neue Ziele und Intentionen und tauschen uns in Kleingruppen aus. „Reflect & Connect“ bietet jeden letzten Mittwoch des Monats Raum für ehrlichen Austausch\, gegenseitige Unterstützung und frische Inspiration – damit jede gestärkt und klar in den neuen Monat starten kann. \n🧡„Reflect & Connect“ richtet sich an die Mitglieder der Sorority\, die sich gegenseitig stärken\, vernetzen und sichtbar machen wollen. Eingeladen sind alle\, die Lust auf ehrlichen Austausch\, Reflexion und Inspiration haben. Die Calls leben von Offenheit und Vertrauen. Alles\, was geteilt wird\, bleibt im Raum. Je ehrlicher und authentischer wir uns austauschen\, desto mehr profitieren alle. \n📌// Was? THE:Reflect & Connect\n⏰ // Wann? Mi\,29.10.2025\, von 18:30 – 23:00 Uhr\n📍// Wo? Online \n👩🏻// mit? Iris Muche\n👸🏻// Wer? Für alle Frauen und als Frauen gelesene Personen\n✍🏻// Anmeldung unter event@sorority.at\n💰// kostenlos für Sorority Mitglieder – Sorority Jahresmitgliedschaft € 48\,-
URL:https://www.femvents.at/event/thereflect-connect/
LOCATION:Online-Event\, Austria
CATEGORIES:After Work,Frauenkreis,Netzwerk-Treffen,Online-Event
ATTACH;FMTTYPE=image/jpeg:https://www.femvents.at/wp-content/uploads/2025/10/Kopie-von-FB-Header-Event-16.jpg
ORGANIZER;CN="THE%3ASorority":MAILTO:events@sorority.at
GEO:47.516231;14.550072
END:VEVENT
BEGIN:VEVENT
DTSTART;TZID=Europe/Vienna:20251029T183000
DTEND;TZID=Europe/Vienna:20251029T210000
DTSTAMP:20260423T002644
CREATED:20251023T151601Z
LAST-MODIFIED:20251023T151601Z
UID:10000430-1761762600-1761771600@www.femvents.at
SUMMARY:Creative Textile Painting / Printing & Abstract Embroidery Workshop
DESCRIPTION:Textile Painting & Abstract Embroidery Workshop on 29.10 at Studio Katz in Boots in Salzburg! 🧵🎨 \nJoin us for an evening with a group of young\, creative internationals.\nWe’ll paint\, print\, and embroider on fabric\, creating colorful\, textured art pieces while enjoying a cozy\, creative evening with drinks\, snacks\, and good vibes. \nCome and join us for a cozy evening filled with creativity\, laughter\, yummy snacks and good wine. \nWednesday 29. 10 in Studio Katz in Boots\n6.30-9.00 PM\nWerkstättenstraße 5\, Salzburg \nA cozy\, convenient location with free parking 🚗 in front of the house and just minutes from the main station.\nWorkshop covers all material costs\, food\, and drinks 🧀🍷 \nThe studio is small and cozy with limited spots only\, that’s why we recommend you message us and reserve your spot early enough 😉 \nLooking forward creating with you 🩷👩🏼‍🎨
URL:https://www.femvents.at/event/creative-textile-painting-printing-abstract-embroidery-workshop/
LOCATION:Studio | Katz in Boots\, Werkstättenstraße 5\, Salzburg\, Salzburg\, 5020\, Austria
CATEGORIES:Malworkshop,Salzburg,Workshop
ATTACH;FMTTYPE=image/jpeg:https://www.femvents.at/wp-content/uploads/2025/10/embroidery-print.jpeg
ORGANIZER;CN="Studio | Katz in Boots":MAILTO:hello@studio-katzinboots.at
GEO:47.8201536;13.0449636
X-APPLE-STRUCTURED-LOCATION;VALUE=URI;X-ADDRESS=Studio | Katz in Boots Werkstättenstraße 5 Salzburg Salzburg 5020 Austria;X-APPLE-RADIUS=500;X-TITLE=Werkstättenstraße 5:geo:13.0449636,47.8201536
END:VEVENT
BEGIN:VEVENT
DTSTART;TZID=Europe/Vienna:20251030T080000
DTEND;TZID=Europe/Vienna:20251030T170000
DTSTAMP:20260423T002644
CREATED:20250717T140525Z
LAST-MODIFIED:20250717T140525Z
UID:10000126-1761811200-1761843600@www.femvents.at
SUMMARY:Gründerinnen-Sprechstunde: Fempreneur
DESCRIPTION:Du möchtest dich selbstständig machen aber hast noch 1000 Fragen?\n💬 Komm zum zweiwöchentlichen Online-Expertinnen-Talk für Gründerinnen (in spe) zu allen Fragen rund um deine Selbstständigkeit! \nIn diesem kostenlosen Webinar erwartet dich: \n\nOffene Q&A-Session zu allen Themen der Unternehmensgründung\nPraxisnahe Antworten auf deine individuellen Herausforderungen\nVernetzung mit Gleichgesinnten in entspannter Atmosphäre\nWertvolle Impulse und konkrete Handlungsschritte\n\nDetails:\n🗓️ Jeden zweiten Donnerstag\n⏰ 19:00 Uhr\n💻 Via Zoom\n💰 Kostenlos \nBringe deine Fragen mit oder höre einfach zu und lass dich inspirieren.\nDieser interaktive Austausch ist perfekt für dich\, egal ob du… \n\nmit dem Gedanken spielst\, dich selbstständig zu machen\nkonkrete Schritte zur Gründung planst\nbereits gegründet hast und vor neuen Herausforderungen stehst\n\n👩‍💼 Über den Host:\nIsabella ist diplomierte psychologische Beraterin\, Business Coach\, Trainerin für Erwachsenenbildung und zertifiziert für systemische Aufstellungsarbeit. Mit 13+ Jahren Erfahrung als selbstständige Senior UX-Designerin bringt sie einen reichen Erfahrungsschatz in der Zusammenarbeit mit Kund:innen in ganz Europa mit. ✨ \n🔗 Melde dich jetzt für einen der nächsten Termine an!
URL:https://www.femvents.at/event/gruenderinnen-sprechstunde-fempreneur-9/
LOCATION:Online-Event\, Austria
CATEGORIES:After Work,Coaching,Frauenkreis,Netzwerk-Treffen,Online-Event,Stammtisch,Workshop
ATTACH;FMTTYPE=image/png:https://www.femvents.at/wp-content/uploads/2025/07/Fempreneur-After-Work-femvents-9.png
ORGANIZER;CN="Mind Distillery":MAILTO:hello@mind-distillery.com
GEO:47.516231;14.550072
END:VEVENT
BEGIN:VEVENT
DTSTART;TZID=Europe/Vienna:20251031T153000
DTEND;TZID=Europe/Vienna:20251031T183000
DTSTAMP:20260423T002644
CREATED:20251028T091835Z
LAST-MODIFIED:20251028T091835Z
UID:10000446-1761924600-1761935400@www.femvents.at
SUMMARY:Samhain - Frauenkreis in der Natur
DESCRIPTION:„When women gather in circles magic happens“ \nUnd das ganze draußen\, in der Natur\, umgeben von den Elementen\, das ist Magie pur. \nWir treffen uns im Kreis und Feuer\, um uns von Herz zu Herz zu verbinden\, zu teilen und deine Rituale zu erleben. \nAlles kann\, nichts muss. \nDie Tiefe eines sicher gehaltenen Frauenkreises ist heilsam\, nährend und bringt dich mit mehr Verbundenheit zu dir und zu anderen zurück in deinen Alltag! \nSpürst du den Ruf? \nIch freu mich auf dich!
URL:https://www.femvents.at/event/samhain-frauenkreis-in-der-natur/
LOCATION:Gruabhof Wörgl\, Lahntal 13\, Wörgl
CATEGORIES:After Work,Frauenkreis,Meditation,Tirol
ATTACH;FMTTYPE=image/jpeg:https://www.femvents.at/wp-content/uploads/2025/10/1000128392-scaled.jpg
GEO:47.4754916;12.0299432
X-APPLE-STRUCTURED-LOCATION;VALUE=URI;X-ADDRESS=Gruabhof Wörgl Lahntal 13 Wörgl;X-APPLE-RADIUS=500;X-TITLE=Lahntal 13:geo:12.0299432,47.4754916
END:VEVENT
BEGIN:VEVENT
DTSTART;TZID=Europe/Vienna:20251101T093000
DTEND;TZID=Europe/Vienna:20251101T120000
DTSTAMP:20260423T002644
CREATED:20251031T102336Z
LAST-MODIFIED:20251031T102336Z
UID:10000464-1761989400-1761998400@www.femvents.at
SUMMARY:Damensalon
DESCRIPTION:Hallo liebe Lady‘s! \nWie wäre es mit einem monatlichen Rendezvous? \nJeden ersten Samstag im Monat lade ich dich herzlich in den Damensalon in Wien 1180 Wien in Präsenz ein!  Der Damensalon ist der perfekte kreative Raum\, wo Frauen sich austauschen\, gemeinsam wachsen und ihre Stärken entdecken können. \nDie Themen bestimmst du? Was brennt dir auf dem Herzen? \nIch teile gerne mein Wissen und meine Erfahrungen\, um dich/euch auf eurem Weg zu begleiten – damit ihr zu Architektinnen eures eigenen Lebens werdet und euren inneren Raum in eine persönliche Wohlfühloase verwandelt. \nGönn‘ dir diese Zeit für dich! \nDie Teilnahmegebühr beträgt 30 € (29 € plus 1 € Spende an das Frauenhaus). \nWasser\, Kaffee\, Tee\, Kekse und Snacks gibt’s für alle Teilnehmerinnen kostenlos! \nLasst uns gemeinsam eine inspirierende Zeit erleben! \nNoch freie Plätze für jeden 1. Samstag im Monat! Nächster Termin ist am 1.11.25 von 9:45- 12:00 Melde dich einfach an unter info@ladykompass.at \nIch freu mich auf DICH\n🫶Silvia Hummel 🐝
URL:https://www.femvents.at/event/damensalon/
LOCATION:Wien\, wien\, Wien\, 1060\, Austria
CATEGORIES:Frauenkreis,Wien
ATTACH;FMTTYPE=image/jpeg:https://www.femvents.at/wp-content/uploads/2025/10/c33a9ff1-a22b-459a-aa46-e54613e493b1.jpeg
ORGANIZER;CN="Silvia Hummel":MAILTO:Info@ladykompass.at
GEO:48.1945985;16.3504336
END:VEVENT
BEGIN:VEVENT
DTSTART;TZID=Europe/Vienna:20251101T140000
DTEND;TZID=Europe/Vienna:20251107T110000
DTSTAMP:20260423T002644
CREATED:20251001T061503Z
LAST-MODIFIED:20251001T061559Z
UID:10000343-1762005600-1762513200@www.femvents.at
SUMMARY:FASTEN RETREAT für Körper\, Geist & Seele
DESCRIPTION:AUSZEIT ZUM RUNTERKOMMEN auf 1600m \nMein Angebot richtet sich an dich\, wenn du bewusst innehalten und Ballast loswerden möchtest. „Rauffahren zum Runterkommen“ bedeutet in meiner Fastenwoche: in der Ruhe neue Kraft schöpfen\, bei sich ankommen.\nStress aus – Fastenwoche an. Und das auf 1600m Seehöhe in den Holzboxen-Alpin-Appartements im höchstgelegenen Skibergdorf der Steiermark. \nWarum Fasten? Es entlastet den Körper\, stärkt das Immunsystem\, bringt den Stoffwechsel in Schwung und schenkt geistige Klarheit. Umgeben von Bergseen\, frischer Höhenluft und wohltuender Stille wirst du begleitet von sanften Bewegungseinheiten\, Wanderungen und Saunagängen. Tägliche Impulse geben dir Einblick in den Fastenstoffwechsel und gleichzeitig einen Rahmen für deine Woche. \nAls erfahrene Fastenleitern führe ich dich – ob erstfastend oder fastenerfahren – sicher durch die Woche. Mit Rezepten und Anregungen für die Zeit danach nimmst du Klarheit und neu geschöpfte Kraft mit in deinen Alltag runter vom Berg. \nFastenprogramm von 1. – 7. November in der Holzbox Planneralm:\nTag 1: Ankommen & Loslassen\nTag 2: Entlasten & Ruhen\nTag 3: Entgiften & Auftanken\nTag 4: Aufbruch & Weitblick\nTag 5: Loslassen & Stärken\nTag 6: Zurück zur Mitte\nTag 7: Neubeginn & Abschied \nAls ärztlich geprüfte Fastenleiterin\, Stoffwechseloptimiererin\, Rücken-\, Beckenboden- & Atemtrainerin begleite ich dich mit viel Erfahrung und Feingefühl durch die Fastenwoche nach der Buchinger-Methode. Ob Einsteigerin oder Fastenerfahrene – in den Holzboxen auf der Planneralm findest du Ruhe und den idealen Rahmen für deine Auszeit. \nJede Holzbox bietet modernen Komfort auf 40m2\, große Panoramafenster holen die Natur perfekt direkt in deine Holzbox.
URL:https://www.femvents.at/event/fasten-retreat-fuer-koerper-geist-seele/
LOCATION:Planneralm\, Planneralm 38\, Planneralm\, Steiermark\, 8953\, Austria
CATEGORIES:Retreat
ATTACH;FMTTYPE=image/jpeg:https://www.femvents.at/wp-content/uploads/2025/09/copyright-Astrid-Gruber_Tautreten.jpg
ORGANIZER;CN="Astrid Gruber":MAILTO:astrid.anna@gmx.at
GEO:47.404902;14.1977213
X-APPLE-STRUCTURED-LOCATION;VALUE=URI;X-ADDRESS=Planneralm Planneralm 38 Planneralm Steiermark 8953 Austria;X-APPLE-RADIUS=500;X-TITLE=Planneralm 38:geo:14.1977213,47.404902
END:VEVENT
END:VCALENDAR