BEGIN:VCALENDAR
VERSION:2.0
PRODID:-//femvents.at - ECPv6.15.18//NONSGML v1.0//EN
CALSCALE:GREGORIAN
METHOD:PUBLISH
X-WR-CALNAME:femvents.at
X-ORIGINAL-URL:https://www.femvents.at
X-WR-CALDESC:Veranstaltungen für femvents.at
REFRESH-INTERVAL;VALUE=DURATION:PT1H
X-Robots-Tag:noindex
X-PUBLISHED-TTL:PT1H
BEGIN:VTIMEZONE
TZID:Europe/Vienna
BEGIN:DAYLIGHT
TZOFFSETFROM:+0100
TZOFFSETTO:+0200
TZNAME:CEST
DTSTART:20240331T010000
END:DAYLIGHT
BEGIN:STANDARD
TZOFFSETFROM:+0200
TZOFFSETTO:+0100
TZNAME:CET
DTSTART:20241027T010000
END:STANDARD
BEGIN:DAYLIGHT
TZOFFSETFROM:+0100
TZOFFSETTO:+0200
TZNAME:CEST
DTSTART:20250330T010000
END:DAYLIGHT
BEGIN:STANDARD
TZOFFSETFROM:+0200
TZOFFSETTO:+0100
TZNAME:CET
DTSTART:20251026T010000
END:STANDARD
BEGIN:DAYLIGHT
TZOFFSETFROM:+0100
TZOFFSETTO:+0200
TZNAME:CEST
DTSTART:20260329T010000
END:DAYLIGHT
BEGIN:STANDARD
TZOFFSETFROM:+0200
TZOFFSETTO:+0100
TZNAME:CET
DTSTART:20261025T010000
END:STANDARD
BEGIN:DAYLIGHT
TZOFFSETFROM:+0100
TZOFFSETTO:+0200
TZNAME:CEST
DTSTART:20270328T010000
END:DAYLIGHT
BEGIN:STANDARD
TZOFFSETFROM:+0200
TZOFFSETTO:+0100
TZNAME:CET
DTSTART:20271031T010000
END:STANDARD
END:VTIMEZONE
BEGIN:VEVENT
DTSTART;TZID=Europe/Vienna:20251224T080000
DTEND;TZID=Europe/Vienna:20260106T170000
DTSTAMP:20260422T174651
CREATED:20251205T112058Z
LAST-MODIFIED:20251205T112058Z
UID:10000558-1766563200-1767718800@www.femvents.at
SUMMARY:Rauhnachtbegleitung
DESCRIPTION:Der Übergang vom alten ins neue Jahr ist magisch: Altes loslassen\, auf ein abgeschlossenes Jahr zurückblicken\, Öffnen und vorbereiten für das was kommt. Die Rauhnächte schaffen einen mystischen und spirituellen Rahmen\, um sich vom alten Jahr zu verabschieden\, und auf  das neue Jahr mit offenen Armen zuzugehen. In dieser Zeit öffnet sich ein Tor: Altes verabschieden\, Neues  willkommen heißen. Diese Schwellenzeit bietet Platz für Reflexion\, Rituale und Neuausrichtung. \nWir begleiten euch dieses Jahr durch dieses besondere Zeit: eine Reise ins neue Jahr. Jeden Tag gibt es vielfältige Impulse für dich: Yoga + Meditation\, Ernährung und Kreativität. 12 Nächte\, 12 Impulse: In deinem eigenen Tempo lässt du dich inspirieren\, nimmst dir Pausen und Zeit zum Durchatmen während der oft dicht verplanten Weihnachtstage. Unsere Inputs erreichen dich täglich per Mail\, Mitte Dezember gibt es einen Online-Termin für den gemeinsamen Auftakt. Die 12 Nächte stehen für die 12 Monate des kommenden Jahres: Nimm dir Zeit um dich auf die Fülle der kommenden Monate vorzubereiten.  \nKosten: Frühbucherpreis bis 8.12. 85\,00 Euro\, danach 95\,00 Euro  \nVorkenntnisse sind nicht notwendig
URL:https://www.femvents.at/event/rauhnachtbegleitung/
LOCATION:Online-Event\, Austria
CATEGORIES:Kurs,Meditation,Online-Event,Workshop
ATTACH;FMTTYPE=image/jpeg:https://www.femvents.at/wp-content/uploads/2025/12/Insta_magische-rauhnaechte-scaled.jpeg
GEO:47.516231;14.550072
END:VEVENT
BEGIN:VEVENT
DTSTART;TZID=Europe/Vienna:20251229T140000
DTEND;TZID=Europe/Vienna:20251229T170000
DTSTAMP:20260422T174651
CREATED:20251123T115041Z
LAST-MODIFIED:20260107T141318Z
UID:10000530-1767016800-1767027600@www.femvents.at
SUMMARY:Visionen weben
DESCRIPTION:Ihr wunderschönen Frauen! \nDiese Zeit lädt uns ganz bewusst ein\, inne zu halten\, zur Ruhe zu kommen\, Träume zu weben. \nIch möchte euch gern einladen zu einem ganz besonderen Kreis. \n✨✨Visionen weben✨✨ \nGestalte dein Visionslboard für das Neue Jahr. \nEs wird Raum geben für \n✨Meditationen\n✨Visualisierungen\n✨Körperübungen\n✨Kreatives Gestalten in Gemeinschaft\n✨Sisterhood\n✨ Herzensrunden… \nWas darf in das Neue Jahr gewebt werden?\nWie kann ich meine Ideen auf ein Visionsboard bringen?\nWas ist mein Warum? \nWas du bis dahin schon sammeln kannst: Fotos\, Bilder\, Sprüche\,… Alles was du schon weißt dass du auf deinem Visionboard sehen möchtest. \nIch freu mich sehr auf einen gemütlichen Kreis🔥 \n 
URL:https://www.femvents.at/event/visionen-weben/
LOCATION:Kufstein\, Kufstein\, Tirol\, Austria
CATEGORIES:Frauenkreis,Meditation,Tirol
ATTACH;FMTTYPE=image/jpeg:https://www.femvents.at/wp-content/uploads/2025/11/1000001303-2-scaled.jpg
GEO:47.58237;12.16275
END:VEVENT
BEGIN:VEVENT
DTSTART;TZID=Europe/Vienna:20251229T190000
DTEND;TZID=Europe/Vienna:20251229T210000
DTSTAMP:20260422T174651
CREATED:20251222T143955Z
LAST-MODIFIED:20251222T143955Z
UID:10000593-1767034800-1767042000@www.femvents.at
SUMMARY:BREATH OF THE BETWEEN: Rauhnachts-Breathwork Zeremonie
DESCRIPTION:Die Rauhnächte sind eine besondere Zeit im Jahr – ein Übergang zwischen dem Alten und dem Neuen.  Die magischen Nächte\, in denen der Schleier dünner wird\, Träume klarer sprechen\, Intuition lauter wird. Nächte\, in denen du zurückkehren kannst in deine eigene Tiefe und in deine Innenschau.\n\nAn diesem Abend\, am 29. Dezember\, betreten wir gemeinsam diesen Raum. Wir atmen uns durch das Vergangene\, öffnen uns für das Kommende und verbinden uns mit unserer inneren Weisheit.\n\nWarum Breathwork in den Rauhnächten?\nWeil dein Atem ein Tor ist. Zwischen Körper und Seele. Zwischen Vergangenheit und Zukunft. Zwischen dem\, was du warst – und dem\, was du wirst. Breathwork klärt\, löst\, weitet. Es bringt dich zurück in deinen Körper\, in deine Essenz\, in deine Wahrheit. Gerade in den Rauhnächten – jener Schwellenzeit voller Magie\, Reinigung und Neuausrichtung – wirkt der Atem tiefer als sonst. Er macht sichtbar\, was gehört werden möchte. Er macht frei\, was bereit ist zu gehen.\n\nWas ist Breathwork?\nBreathwork ist eine kraftvolle\, aktivierende Atemtechnik\, die energetische\, emotionale und mentale Blockaden lösen kann und dich in einen erweiterten Bewusstseinszustand führt. Ein Zustand\, in dem du dich erinnerst. In dem du fühlst. In dem du empfängst. Es ist wie ein Zurückkommen. Ein Öffnen. Ein Nach-Hause-Atmen.Was dich an diesem Abend erwartet:\n• eine tiefgehende Breathwork Session speziell für die Energie der Rauhnächte\n• Loslassen alter Energien\, Emotionen & Muster\, die du nicht mit ins neue Jahr tragen möchtest\n• Verbindung mit deiner Intuition und deiner inneren Führung • energetische Reinigung & Klarheit\n• ein geschützter Raum\, der dich trägt\, nährt und erinnert\, wer du bist \nDiese Nacht ist für dich\, wenn du spürst\, dass du einen Übergang brauchst. Einen Atemzug\, der dich neu sortiert. Einen Moment\, in dem du dir selbst begegnest. \n\n\n\n\n\n\n\n29.12.2025 \n19:00-21:00\nOnline über Zoom\nPay as you want \n\n\n\n\n\nIch freue mich auf dich!\n\n\nLove\,\nKatrin Anna
URL:https://www.femvents.at/event/breath-of-the-between-rauhnachts-breathwork-zeremonie/
LOCATION:Live-Online-Seminar
CATEGORIES:Online-Event
ATTACH;FMTTYPE=image/png:https://www.femvents.at/wp-content/uploads/2025/12/Rauhnachts-Breathwork.png
ORGANIZER;CN="Katrin Anna Hauser":MAILTO:hallo@katrinannahauser.com
END:VEVENT
BEGIN:VEVENT
DTSTART;TZID=Europe/Vienna:20251230T183000
DTEND;TZID=Europe/Vienna:20251230T210000
DTSTAMP:20260422T174651
CREATED:20251202T104512Z
LAST-MODIFIED:20251204T104410Z
UID:10000554-1767119400-1767128400@www.femvents.at
SUMMARY:🌟 Astrologischer Frauenkreis – Jahresausklang mit Blick ins Merkurjahr 🌟
DESCRIPTION:📅 Dienstag\, 30. Dezember 2025 | 🕕 18:30 Uhr (online über Zoom) \nThema: Merkurjahr 2026 – Von der inneren Stimme zur äußeren Bewegung \nGemeinsam erkunden wir an diesem Abend: \n✨ Was möchte im neuen Jahr in mir Raum bekommen?\n✨ Was davon drängt in die Umsetzung?\n✨ Welche besonderen Planetenbewegungen dominieren das kommende Jahr? \n💖Dazu bespreche ich die wichtigsten Konstellationen und was sie für dich\, für uns bedeuten können – kleiner Spoiler: Es kommt ein revolutionäres Jahr auf uns zu\, eine regelrechte Zeitenwende!🚀💫 \nDer Ablauf entspricht den bisherigen Treffen:  \n🪐astrologische Inputs\n📝Reflexionsfrage\n💞Raum für Austausch und   🧘ein gemeinsamer\, stärkender Abschluss.\n🎆Ein wohltuender Übergang ins neue Jahr – bewusst\, verbunden und inspirierend.💡💖 \n⸻ \n🔗 Teilnahme: \nDie Veranstaltung findet online über Zoom statt.\nDie Anmeldung erfolgt über meine Homepage: \n👉 https://astroconnection.at/frauenkreis/ \n⸻ \n💫 Lass uns gemeinsam das Merkurjahr 2026 begrüßen – mit Klarheit\, Herz und innerer Bewegung.💗 \nIch freue mich sehr auf dich!🤗
URL:https://www.femvents.at/event/%f0%9f%8c%9f-astrologischer-frauenkreis-jahresausklang-mit-blick-ins-merkurjahr-%f0%9f%8c%9f/
LOCATION:Wien
CATEGORIES:Frauenkreis,Online-Event,Österreichweit,Wien
ATTACH;FMTTYPE=image/png:https://www.femvents.at/wp-content/uploads/2025/12/Astroconnection-FB-Event-Titelbild.png
END:VEVENT
BEGIN:VEVENT
DTSTART;TZID=Europe/Vienna:20260103T100000
DTEND;TZID=Europe/Vienna:20260103T123000
DTSTAMP:20260422T174651
CREATED:20251210T201509Z
LAST-MODIFIED:20251210T201509Z
UID:10000564-1767434400-1767443400@www.femvents.at
SUMMARY:Zykluswissen für Mädchen 7-12
DESCRIPTION:Ein einfühlsamer Workshop für Mädchen von 7–12 Jahren und ihren Müttern\, große Schwestern\, Tanten oder Herzensmenschen. \nGemeinsam öffnen wir einen sicheren Raum\, in dem Mädchen lernen dürfen\, ihren Körper zu verstehen und sich in einer Zeit großer Veränderungen gut aufgehoben zu fühlen. Wir sprechen darüber\, wie Pubertät beginnt\, was im Körper passiert\, warum Gefühle manchmal Achterbahn fahren und weshalb der Zyklus so viel mehr ist als „die Periode“. \nMit kindgerechtem Wissen\, kreativen Methoden und viel Leichtigkeit stärken wir Selbstvertrauen\, Körperbewusstsein und die Verbindung zwischen Mädchen und ihren Bezugspersonen. Wir entdecken gemeinsam Menstruationsprodukte\, beantworten Fragen offen und ehrlich und bauen Vorurteile und Unsicherheiten liebevoll ab. \nAls Sexualpädagogin begleite ich diesen Vormittag mit Erfahrung\, Humor und einem prall gefüllten Methodenkoffer\, der ermöglicht\, Wissen spielerisch und entspannt zu vermitteln. Mir ist wichtig\, dass Mädchen frühzeitig verstehen\, dass ihr Körper gut ist\, wie er ist\, und dass Veränderungen nichts Bedrohliches\, sondern etwas Natürliches und Kraftvolles sind. \nAnmeldung und Fragen an michelle.thaler@spektrum-liebe.at oder sende mir eine Nachricht/whatsapp an 0665 655 0123 8 \nIch freue mich auf einen stärkenden\, herzlichen und mutmachenden WorkshopMichelle
URL:https://www.femvents.at/event/zykluswissen-fuer-maedchen-7-12/
LOCATION:Praxis-Raum\, Gaisbergstraße 11 a\, Salzburg\, Salzburg\, 5020\, Austria
CATEGORIES:Frauenkreis,Salzburg,Workshop
ATTACH;FMTTYPE=image/jpeg:https://www.femvents.at/wp-content/uploads/2025/12/IMG_2421-2-scaled.jpg
ORGANIZER;CN="Michelle Thaler - Spektrum Liebe":MAILTO:michelle.thaler@spektrum-liebe.at
GEO:47.8013327;13.0661382
X-APPLE-STRUCTURED-LOCATION;VALUE=URI;X-ADDRESS=Praxis-Raum Gaisbergstraße 11 a Salzburg Salzburg 5020 Austria;X-APPLE-RADIUS=500;X-TITLE=Gaisbergstraße 11 a:geo:13.0661382,47.8013327
END:VEVENT
BEGIN:VEVENT
DTSTART;TZID=Europe/Vienna:20260104T093000
DTEND;TZID=Europe/Vienna:20260104T130000
DTSTAMP:20260422T174651
CREATED:20251227T110950Z
LAST-MODIFIED:20251227T110950Z
UID:10000597-1767519000-1767531600@www.femvents.at
SUMMARY:Hypnose Workshop: Begegnung mit dir SELBST
DESCRIPTION:Am Welthypnosetag\, Sonntag\, 4. Jänner 2026\, von 9:30 – 13:00 Uhr\, begleitet dich Natalie Kohl in eine Erfahrung\, bei der Hypnose dich dorthin führt\, wo dein bewusster Verstand nicht mehr greift. \nTauche ein in einen Raum voller Ruhe\, Vertrauen und Herzenergie. In diesem besonderen Workshop lernst Du\, wie Du mit Hypnose\, inneren Bildern und einfachen Übungen Deine Selbstliebe und Deinen Selbstwert von innen heraus stärkst.  \nWarum Hypnose: „Weil sie ehrlich und wirkungsvoll ist – weil sie Menschen wieder spüren lässt\, was längst in ihnen angelegt ist: Selbstliebe\, Vertrauen und innere Stärke.“ 
URL:https://www.femvents.at/event/hypnose-workshop-begegnung-mit-dir-selbst/
LOCATION:liebestrunken I SELF LOVE CLUB\, Lederergasse 3\, Salzburg\, Salzburg\, 5020\, Austria
CATEGORIES:Salzburg,Workshop
ATTACH;FMTTYPE=image/png:https://www.femvents.at/wp-content/uploads/2025/12/Website_Bilder_liebestrunken.png
GEO:47.802268;13.0445985
X-APPLE-STRUCTURED-LOCATION;VALUE=URI;X-ADDRESS=liebestrunken I SELF LOVE CLUB Lederergasse 3 Salzburg Salzburg 5020 Austria;X-APPLE-RADIUS=500;X-TITLE=Lederergasse 3:geo:13.0445985,47.802268
END:VEVENT
BEGIN:VEVENT
DTSTART;TZID=Europe/Vienna:20260104T190000
DTEND;TZID=Europe/Vienna:20260104T203000
DTSTAMP:20260422T174651
CREATED:20251212T124017Z
LAST-MODIFIED:20251212T124017Z
UID:10000566-1767553200-1767558600@www.femvents.at
SUMMARY:female motion lab - Meditation und Visionboard
DESCRIPTION:Wir starten das Jahr nicht mit Stress oder Perfektionsdruck\, sondern mit Ruhe\, Klarheit und echten Intentionen. Am 04. Januar tauchen wir gemeinsam in eine Meditation ein und gestalten unser Vision Board für 2026 – für mehr Bauchgefühl\, mehr Fokus und Ziele\, die wirklich zu dir passen. \nDamit unsere Veranstaltungen für jede*n zugänglich sind\, läuft dieser Abend auf ehrlicher Spendenbasis (Richtwert: 8–15 €). \nKann vor Ort bar oder per PayPal gezahlt werden.
URL:https://www.femvents.at/event/female-motion-lab-meditation-und-visionboard/
LOCATION:Kula Lab\, Anichstraße 13\, Innsbruck\, Tirol\, 6020\, Austria
CATEGORIES:Tirol,Workshop
ATTACH;FMTTYPE=image/png:https://www.femvents.at/wp-content/uploads/2025/12/Posts-Unterleib-und-Seele-7.png
GEO:47.2646048;11.3921719
X-APPLE-STRUCTURED-LOCATION;VALUE=URI;X-ADDRESS=Kula Lab Anichstraße 13 Innsbruck Tirol 6020 Austria;X-APPLE-RADIUS=500;X-TITLE=Anichstraße 13:geo:11.3921719,47.2646048
END:VEVENT
END:VCALENDAR