BEGIN:VCALENDAR
VERSION:2.0
PRODID:-//femvents.at - ECPv6.15.18//NONSGML v1.0//EN
CALSCALE:GREGORIAN
METHOD:PUBLISH
X-WR-CALNAME:femvents.at
X-ORIGINAL-URL:https://www.femvents.at
X-WR-CALDESC:Veranstaltungen für femvents.at
REFRESH-INTERVAL;VALUE=DURATION:PT1H
X-Robots-Tag:noindex
X-PUBLISHED-TTL:PT1H
BEGIN:VTIMEZONE
TZID:Europe/Berlin
BEGIN:DAYLIGHT
TZOFFSETFROM:+0100
TZOFFSETTO:+0200
TZNAME:CEST
DTSTART:20250330T010000
END:DAYLIGHT
BEGIN:STANDARD
TZOFFSETFROM:+0200
TZOFFSETTO:+0100
TZNAME:CET
DTSTART:20251026T010000
END:STANDARD
BEGIN:DAYLIGHT
TZOFFSETFROM:+0100
TZOFFSETTO:+0200
TZNAME:CEST
DTSTART:20260329T010000
END:DAYLIGHT
BEGIN:STANDARD
TZOFFSETFROM:+0200
TZOFFSETTO:+0100
TZNAME:CET
DTSTART:20261025T010000
END:STANDARD
BEGIN:DAYLIGHT
TZOFFSETFROM:+0100
TZOFFSETTO:+0200
TZNAME:CEST
DTSTART:20270328T010000
END:DAYLIGHT
BEGIN:STANDARD
TZOFFSETFROM:+0200
TZOFFSETTO:+0100
TZNAME:CET
DTSTART:20271031T010000
END:STANDARD
END:VTIMEZONE
BEGIN:VTIMEZONE
TZID:Europe/Vienna
BEGIN:DAYLIGHT
TZOFFSETFROM:+0100
TZOFFSETTO:+0200
TZNAME:CEST
DTSTART:20250330T010000
END:DAYLIGHT
BEGIN:STANDARD
TZOFFSETFROM:+0200
TZOFFSETTO:+0100
TZNAME:CET
DTSTART:20251026T010000
END:STANDARD
BEGIN:DAYLIGHT
TZOFFSETFROM:+0100
TZOFFSETTO:+0200
TZNAME:CEST
DTSTART:20260329T010000
END:DAYLIGHT
BEGIN:STANDARD
TZOFFSETFROM:+0200
TZOFFSETTO:+0100
TZNAME:CET
DTSTART:20261025T010000
END:STANDARD
BEGIN:DAYLIGHT
TZOFFSETFROM:+0100
TZOFFSETTO:+0200
TZNAME:CEST
DTSTART:20270328T010000
END:DAYLIGHT
BEGIN:STANDARD
TZOFFSETFROM:+0200
TZOFFSETTO:+0100
TZNAME:CET
DTSTART:20271031T010000
END:STANDARD
END:VTIMEZONE
BEGIN:VTIMEZONE
TZID:Africa/Casablanca
BEGIN:STANDARD
TZOFFSETFROM:+0100
TZOFFSETTO:+0000
TZNAME:+00
DTSTART:20250223T020000
END:STANDARD
BEGIN:DAYLIGHT
TZOFFSETFROM:+0000
TZOFFSETTO:+0100
TZNAME:+01
DTSTART:20250406T020000
END:DAYLIGHT
BEGIN:STANDARD
TZOFFSETFROM:+0100
TZOFFSETTO:+0000
TZNAME:+00
DTSTART:20260215T020000
END:STANDARD
BEGIN:DAYLIGHT
TZOFFSETFROM:+0000
TZOFFSETTO:+0100
TZNAME:+01
DTSTART:20260322T020000
END:DAYLIGHT
BEGIN:STANDARD
TZOFFSETFROM:+0100
TZOFFSETTO:+0000
TZNAME:+00
DTSTART:20270207T020000
END:STANDARD
BEGIN:DAYLIGHT
TZOFFSETFROM:+0000
TZOFFSETTO:+0100
TZNAME:+01
DTSTART:20270314T020000
END:DAYLIGHT
END:VTIMEZONE
BEGIN:VEVENT
DTSTART;TZID=Europe/Berlin:20260601T190000
DTEND;TZID=Europe/Berlin:20260601T210000
DTSTAMP:20260420T021940
CREATED:20260415T083857Z
LAST-MODIFIED:20260415T083857Z
UID:10001102-1780340400-1780347600@www.femvents.at
SUMMARY:Frauen veranlagen anders! | Nina Schneider-Paumgartner\, Johanna Eisenberger
DESCRIPTION:  \nReferentinnen: Nina Schneider-Paumgartner\, Johanna Eisenberger \nModeration: Karin Meier-Martetschläger \n  \nSwiss Life Select Österreich mit Club alpha im Finance-Talk \n  \n\n  \nInvestieren Frauen tatsächlich anders als Männer – oder halten sich hier nur hartnäckige Klischees? \n  \nDieser Frage widmen sich Nina Schneider-Paumgartner\, Head of Real Estate bei Swiss Life Select Österreich und Johanna Eisenberger\, Senior Financial Planner bei Swiss Life Select Österreich. \nGetrieben von Gender Pay Gap\, Teilzeitfalle und der daraus resultierenden Pensionslücke stehen viele Frauen vor der selben Herausforderung: Sie leisten enorm viel – kümmern sich um Karriere\, Familie und Alltag – aber der eigene Vermögensaufbau bleibt dabei oft auf der Strecke oder wird vernachlässigt. \nNina Schneider-Paumgartner und Johanna Eisenberger beleuchten\, welche konkreten Schritte zu setzen sind\, damit Frauen ihre Zukunft finanziell selbstbestimmt und ungebunden gestalten können. \nIm Zentrum des Austauschs soll die ganzheitliche finanzielle Lebensplanung stehen – denn finanzielle Sicherheit bedeutet weit mehr als nur Geld anzulegen. Es geht darum\, alle Lebensbereiche bewusst mitzudenken: \n\nEinkommen & Karriereentscheidungen\nAbsicherung & finanzielle Unabhängigkeit\nStrategischer Vermögensaufbau\nLangfristige Planung der finanziellen Resourcen bis ins Alter\n\nDie Expertinnen geben praxisnahe Einblicke und zeigen\, wie Hürden finanzieller Selbstzweifel\, zu spätes Investieren oder Delegation von Finanzentscheidungen erfolgreich überwunden werden können. \nDiese Veranstaltung soll dazu beitragen\, dass das Thema Geld aus der Tabuzone kommt\, denn ohne entsprechendes Finanzwissen\, muss man zwangsläufig die Kontrolle über sein Vermögen in fremde Hände geben. \nWir freuen uns auf Ihr Kommen und einen regen Austausch im Anschluss! \n  \n\nNina Schneider-Paumgartner: brachte ihre juristische Expertise zunächst als selbstständige Rechtsanwältin ein\, bevor sie als Immobilienmaklerin und Juristin in der Immobilienbranche tätig war. Seit 2023 verantwortet sie als Head of Real Estate bei Swiss Life Select Österreich das gesamte Angebot im Bereich Immobilien und führt ein österreichweites Maklerteam. \n  \nJohanna Eisenberger: Als gewerbliche Vermögensberaterin und Versicherungsmaklerin begleitet Johanna Eisenberger ihre Kundinnen und Kunden als finanzielle “Bergführerin” auf dem Weg zu ihren Zielen. Seit 1995 betreut sie Privatkundinnen und-kunden\, Freiberuflerinnen und Freiberufler sowie Klein- und Mittelbetriebe in Kooperation mit Swiss Life Select Österreich. \n  \nFoto Nina Schneider-Paumgartner: © Swiss Life | Foto Johanna Eisenberger: © Stefan Müller
URL:https://www.femvents.at/event/frauen-veranlagen-anders-nina-schneider-paumgartner-johanna-eisenberger/
LOCATION:Club alpha\, Stubenbastei 12/14\, Wien\, 1010\, Österreich
CATEGORIES:Finanzen,Wien,Wirtschaft
ATTACH;FMTTYPE=image/webp:https://www.femvents.at/wp-content/uploads/2026/04/swiss-life-1-XOiUX7.webp
ORGANIZER;CN="Club alpha":MAILTO:clubalpha@clubalpha.at
GEO:48.2063723;16.3776169
X-APPLE-STRUCTURED-LOCATION;VALUE=URI;X-ADDRESS=Club alpha Stubenbastei 12/14 Wien 1010 Österreich;X-APPLE-RADIUS=500;X-TITLE=Stubenbastei 12/14:geo:16.3776169,48.2063723
END:VEVENT
BEGIN:VEVENT
DTSTART;TZID=Europe/Vienna:20260602T180000
DTEND;TZID=Europe/Vienna:20260602T200000
DTSTAMP:20260420T021940
CREATED:20260416T080913Z
LAST-MODIFIED:20260416T080913Z
UID:10001124-1780423200-1780430400@www.femvents.at
SUMMARY:Endometriose Austauschgruppe
DESCRIPTION:Die geleitete Austauschgruppe bietet die Möglichkeit zum gegenseitigen Erfahrungs- und Informationsaustausch für Betroffene und vermittelt durch Wissen Hilfe zur Selbsthilfe. Mag.a Christa Bauer\, femail Fachstelle Frauengesundheit\, begleitet die Gruppe. \nDie Austauschgruppe Endometriose wird fortlaufend angeboten. \nDie Teilnahme ist kostenfrei. Wir bitten um Anmeldung. \nKontakt und Anmeldung: christa.bauer@femail.at\, 05522 31002 14 \nMehr Informationen zum femail Schwerpunkt Endometriose finden Sie hier.
URL:https://www.femvents.at/event/endometriose-austauschgruppe/
LOCATION:Feldkirch\, Schlossgraben 10\, Feldkirch\, 6800\, Austria
CATEGORIES:Vorarlberg,Workshop
ATTACH;FMTTYPE=image/png:https://www.femvents.at/wp-content/uploads/2026/04/Femail_logo.png
ORGANIZER;CN="Femail":MAILTO:event@femail.at
GEO:47.2384955;9.5987755
X-APPLE-STRUCTURED-LOCATION;VALUE=URI;X-ADDRESS=Feldkirch Schlossgraben 10 Feldkirch 6800 Austria;X-APPLE-RADIUS=500;X-TITLE=Schlossgraben 10:geo:9.5987755,47.2384955
END:VEVENT
BEGIN:VEVENT
DTSTART;TZID=Europe/Vienna:20260602T183000
DTEND;TZID=Europe/Vienna:20260602T203000
DTSTAMP:20260420T021940
CREATED:20260416T070936Z
LAST-MODIFIED:20260416T070936Z
UID:10001118-1780425000-1780432200@www.femvents.at
SUMMARY:Selbsthilfegruppentreffen für Endometriosebetroffene
DESCRIPTION:Für Anmeldungen zu Gruppentreffen in Wien schreibe bitte formlos an: endopower.wien@gmail.com\nUnser Ziel – Ablauf eines Treffens\nUnsere SHG möchte einen offenen und lockeren Austausch bieten und verhindern\, dass sich Endometriose Betroffene alleine fühlen. \nAlle zwei Monate findet das Austauschcafé statt\, in dessen Rahmen die Teilnehmenden ca zwei Stunden Zeit haben ihre Erfahrungen und Sorgen zu teilen und sich gegenseitig Tipps zu geben (einander zu empowern). \nWir organisieren derzeit keine Vorträge oder geben Themen vor – diese ergeben sich in der (Gruppen-) Diskussion.
URL:https://www.femvents.at/event/selbsthilfegruppentreffen-fuer-endometriosebetroffene-3/
LOCATION:Wien\, wien\, Wien\, 1060\, Austria
CATEGORIES:After Work,Frauenkreis,Meetup,Netzwerk-Treffen,Stammtisch,Wien
ATTACH;FMTTYPE=image/png:https://www.femvents.at/wp-content/uploads/2025/10/Cafe.png
ORGANIZER;CN="EndoPower.Wien":MAILTO:endopower.wien@gmail.com
GEO:48.1945985;16.3504336
END:VEVENT
BEGIN:VEVENT
DTSTART;TZID=Europe/Vienna:20260603T083000
DTEND;TZID=Europe/Vienna:20260603T103000
DTSTAMP:20260420T021940
CREATED:20260313T085629Z
LAST-MODIFIED:20260313T090732Z
UID:10000905-1780475400-1780482600@www.femvents.at
SUMMARY:Bruck/Leitha  LLL-BUSINESS Frauentreff mit LLL-Botschafterin Pia Kasa & Sabine Kolb
DESCRIPTION:🌸✨ Hallo liebe Unternehmerinnen & Business-Frauen ✨🌸\n🌼 Lust auf Austausch auf Augenhöhe?\n🌸 Inspirierende Gespräche\, neue Impulse & wertvolle Kontakte?\nDann komm zu unserem LLL-BUSINESS FRAUENTREFF 💚🧡🩷\nEin Raum für Vernetzung\, Erfahrungsaustausch und echtes Miteinander 💫\n🌷 Egal ob selbstständig\, in Gründung oder beruflich neu orientiert –\n🧁 komm genau so\, wie du bist!\nHier ist Platz für deine Ideen\, deine Visionen und alles\, was dich beruflich bewegt 🫶\n💼 Gemeinsam wachsen.\n💬 Gemeinsam lernen.\n💖 Gemeinsam erfolgreich sein.\n💃 Wir freuen uns sehr auf dich!\n📩 Bitte um Platzreservierung\ninfo@vereinlebenliebenlachen.at
URL:https://www.femvents.at/event/bruck-leitha-lll-business-frauentreff-mit-lll-botschafterin-pia-kasa-sabine-kolb-3/
LOCATION:Krupbauers Backhaus 1872\, Burgenlandstraße 12\, Bruck/Leitha\, 2460\, Austria\, Burgenlandstraße 12\, Gemeinde Bruck an der Leitha\, Niederösterreich\, 2460\, Austria
CATEGORIES:Burgenland,L💛L🧡L🩷 Frauentreff
ATTACH;FMTTYPE=image/jpeg:https://www.femvents.at/wp-content/uploads/2026/03/Business-Pia-EJEZcD.jpg
ORGANIZER;CN="Verein 'LEBEN%2C LIEBEN%2C LACHEN - endlich wei%C3%9F ich wie!'":MAILTO:info@vereinlebenliebenlachen.at
GEO:48.024322;16.7798086
X-APPLE-STRUCTURED-LOCATION;VALUE=URI;X-ADDRESS=Krupbauers Backhaus 1872 Burgenlandstraße 12 Bruck/Leitha 2460 Austria Burgenlandstraße 12 Gemeinde Bruck an der Leitha Niederösterreich 2460 Austria;X-APPLE-RADIUS=500;X-TITLE=Burgenlandstraße 12:geo:16.7798086,48.024322
END:VEVENT
BEGIN:VEVENT
DTSTART;TZID=Europe/Vienna:20260603T183000
DTEND;TZID=Europe/Vienna:20260603T203000
DTSTAMP:20260420T021940
CREATED:20260128T111301Z
LAST-MODIFIED:20260128T111301Z
UID:10000720-1780511400-1780518600@www.femvents.at
SUMMARY:FRAU iDA Vernetzungstreffen
DESCRIPTION:Beim FRAU iDA Vernetzungstreffen im Juni gibt Simone Brodesser\, MA\, einen spannenden Einblick in ihr Seminar „Die Macht der Stimme – über Präsenz\, Authentizität und den Mut\, laut zu sein“. In diesem kurzen Vorgeschmack zeigt sie\, wie wir mit unserer Stimme Wirkung entfalten\, authentisch auftreten und Selbstvertrauen ausstrahlen können. \nWir setzen wieder unsere Videokonferenzkamera mit 360° Rundum-Überblick ein\, damit wir allen\, die an diesem Abend nicht nach Zwettl kommen können\, die Möglichkeit bieten\, sich zu vernetzen und austauschen zu können. Dank Owlivia\, wie wir sie liebevoll nennen\, können wir Interessierte online via Zoom zuschalten – sie erleben das Treffen\, als wären sie im selben Raum. Wir freuen uns\, wenn du unser innovatives Angebot nutzt – hier der Zoom-Link: https://us06web.zoom.us/j/85665550790
URL:https://www.femvents.at/event/frau-ida-vernetzungstreffen-8/
LOCATION:FRAU iDA\, Hauptplatz 16\, Zwettl\, Niederösterreich\, 3910\, Austria
CATEGORIES:Netzwerk-Treffen,Niederösterreich,Online-Event
ATTACH;FMTTYPE=image/jpeg:https://www.femvents.at/wp-content/uploads/2026/01/1.1_Logo_FRAUiDA-3.jpg
ORGANIZER;CN="FRAU iDA":MAILTO:office@frau-ida.at
GEO:48.6041614;15.167567
X-APPLE-STRUCTURED-LOCATION;VALUE=URI;X-ADDRESS=FRAU iDA Hauptplatz 16 Zwettl Niederösterreich 3910 Austria;X-APPLE-RADIUS=500;X-TITLE=Hauptplatz 16:geo:15.167567,48.6041614
END:VEVENT
BEGIN:VEVENT
DTSTART;VALUE=DATE:20260604
DTEND;VALUE=DATE:20260607
DTSTAMP:20260420T021940
CREATED:20260313T083847Z
LAST-MODIFIED:20260313T083941Z
UID:10000884-1780531200-1780790399@www.femvents.at
SUMMARY:Brücken Bauen - Verstrickung Lösen
DESCRIPTION:Ist Frieden eine Illusion\, eine Utopie? War John Lennon ein Träumer? Können  wir als Einzelne etwas tun\, um Frieden zu fördern? In krisengebeutelten Zeiten\, in denen Krieg und Gewalt immer näher zu rücken scheinen\, stellt sich die Frage\, ob die in uns angelegte Friedenssehnsucht eine rein persönliche Angelegenheit ist oder wir auch für größere Zusammenhänge wirksam werden können. \nWas sind Wege des Friedens\, die wir heute beschreiten können? Viele von uns fühlen sich ohnmächtig im Angesicht der Herausforderung der Zeit? Braucht es ein radikaleres Umdenken? Oder gar ein Fühlen? \nDie Goldegger Dialoge zeigen seit 1982 Wege auf\, mit denen „Gesundheit lernbar“ werden soll\, Körper\, Geist und Seele sind angesprochen. \nBei den 44. Goldegger Dialogen wollen wir einen ehrlichen Blick darauf werfen\, was wir JETZT tun können\, um Frieden in uns selbst und in der Begegnung mit anderen zu etablieren. Auf körperlicher Ebene blicken wir auf die Folgen von Traumata (individuell\, transgenerational oder kollektiv) und deren Auswirkungen auf unser (damit oft unbewusstes) Handeln. Auf der Verstandes- / kognitiven Ebene braucht es konkrete Tools wie die z.B. „Sprechen und Zuhören“ (Mehr-Demokratie) oder das Konsensrad\, auf der Herzens- / Gefühlsebene sind wir eingeladen\, uns mit Themen wie Vergebung\, Berührbarkeit und Scham auseinanderzusetzen. \nIn spannenden Vorträgen aus verschiedenen Fachbereichen\, Workshops\, die zum Forschen und Tun einladen sowie Räumen für Austausch und Vernetzung widmen wir uns dem Thema und bleiben dran. \nJohn\, you are not the only one! \nMaria Schwaighofer & das Dialoge-Team
URL:https://www.femvents.at/event/bruecken-bauen-verstrickung-loesen-goldegger-dialoge/
LOCATION:Kultur- und Seminarzentrum SCHLOSS GOLDEGG\, Hofmark 1\, 5622\, Salzburg\, 5622\, Austria
CATEGORIES:Salzburg,Vortrag
ATTACH;FMTTYPE=image/png:https://www.femvents.at/wp-content/uploads/2026/03/Goldegg.png
ORGANIZER;CN="Kulturverein Schloss Goldegg":MAILTO:office@schlossgoldegg.at
GEO:47.3194425;13.1002345
X-APPLE-STRUCTURED-LOCATION;VALUE=URI;X-ADDRESS=Kultur- und Seminarzentrum SCHLOSS GOLDEGG Hofmark 1 5622 Salzburg 5622 Austria;X-APPLE-RADIUS=500;X-TITLE=Hofmark 1:geo:13.1002345,47.3194425
END:VEVENT
BEGIN:VEVENT
DTSTART;VALUE=DATE:20260604
DTEND;VALUE=DATE:20260608
DTSTAMP:20260420T021940
CREATED:20260205T162350Z
LAST-MODIFIED:20260205T162350Z
UID:10000768-1780531200-1780876799@www.femvents.at
SUMMARY:Marrakesch - Farben\, Aroma\, Gefühl
DESCRIPTION:Marrakesch ist keine Stadt\, die man einfach besucht – man fühlt sie. Sie umarmt Dich mit Farben\, Geräuschen\, Wärme und diesem ganz besonderen Zauber aus Tradition und Moderne. Genau deshalb ist sie wie geschaffen für Ladies Who Travel.\nGemeinsam tauchen wir ein in ein orientalisches Abenteuer voller Stil\, Tiefe und Leichtigkeit. Zwischen verwunschenen Riads\, flirrenden Souks\, stiller Wüste und genussvollen Momenten entsteht eine Reise\, die verbindet\, inspiriert und lange nachklingt. \nUnd zwischendrin? Ganz viel Genuss. Eine Explosion von Aromen\, Gewürzen und Düften\, die das reiche kulturelle Erbe Marrakeschs widerspiegeln – von süßem Minztee bis zu würzigen Tajines\, von frisch gebackenem Brot bis zu feinen orientalischen Desserts. \n\nWarum Marrakesch?\nWeil Marrakesch alles vereint\, wonach wir uns auf Reisen sehnen: \n\nIntensität und Entschleunigung\nKultur und Design\nAbenteuer und Selfcare\n\nHier verlieren wir uns bewusst im Gewirr der Gassen – und finden uns selbst wieder auf einer sonnigen Dachterrasse. Diese Stadt macht wach\, weich und mutig zugleich. Und sie macht Lust auf mehr. \nMarrakesch schenkt uns Raum zum Innehalten\, zum Genießen und zum bewussten Erleben. Eine Reise\, die inspiriert\, verbindet und noch lange nachklingt. \n\n\nInformationen zum Reiseablauf findest du auf meiner Website: www.ladies-who-travel.com
URL:https://www.femvents.at/event/marrakesch-farben-aroma-gefuehl/
LOCATION:Ladies Who Travel – Sabrina Weber
CATEGORIES:Meetup,Netzwerk-Treffen,Österreichweit,Retreat
ATTACH;FMTTYPE=image/jpeg:https://www.femvents.at/wp-content/uploads/2026/02/Ladies-who-travel_Marrakesch_002-low.jpg
ORGANIZER;CN="Ladies Who Travel - Sabrina Weber":MAILTO:hello@ladies-who-travel.com
END:VEVENT
BEGIN:VEVENT
DTSTART;TZID=Europe/Vienna:20260604T190000
DTEND;TZID=Europe/Vienna:20260604T200000
DTSTAMP:20260420T021940
CREATED:20260217T112314Z
LAST-MODIFIED:20260217T112314Z
UID:10000827-1780599600-1780603200@www.femvents.at
SUMMARY:Gründerinnen-Sprechstunde: Fempreneur
DESCRIPTION:Du möchtest dich selbstständig machen aber hast noch 1000 Fragen?\n💬 Komm zum zweiwöchentlichen Online-Expertinnen-Talk für Gründerinnen (in spe) zu allen Fragen rund um deine Selbstständigkeit! \nIn diesem kostenlosen Webinar erwartet dich: \n\nOffene Q&A-Session zu allen Themen der Unternehmensgründung\nPraxisnahe Antworten auf deine individuellen Herausforderungen\nVernetzung mit Gleichgesinnten in entspannter Atmosphäre\nWertvolle Impulse und konkrete Handlungsschritte\n\nDetails:\n🗓️ Jeden zweiten Donnerstag\n⏰ 19:00 Uhr\n💻 Via Zoom\n💰 Kostenlos \nBringe deine Fragen mit oder höre einfach zu und lass dich inspirieren.\nDieser interaktive Austausch ist perfekt für dich\, egal ob du… \n\nmit dem Gedanken spielst\, dich selbstständig zu machen\nkonkrete Schritte zur Gründung planst\nbereits gegründet hast und vor neuen Herausforderungen stehst\n\n👩‍💼 Über den Host:\nIsabella ist diplomierte psychologische Beraterin\, Business Coach\, Trainerin für Erwachsenenbildung und zertifiziert für Burnoutprävention. Mit 14+ Jahren Erfahrung als selbstständige Digital Product Designerin bringt sie einen reichen Erfahrungsschatz in der Zusammenarbeit mit Kund:innen in ganz Europa mit. ✨ \n🔗 Melde dich jetzt für einen der nächsten Termine an! \nhttps://scheduler.zoom.us/isabella-raunigk/fempreneur-after-work
URL:https://www.femvents.at/event/gruenderinnen-sprechstunde-fempreneur-20/
LOCATION:Online-Event\, Austria
CATEGORIES:After Work,Coaching,Netzwerk-Treffen,Online-Event,Österreichweit
ATTACH;FMTTYPE=image/png:https://www.femvents.at/wp-content/uploads/2026/02/aFempreneur-After-Work-Linkedin-Video-SSG-Coop-6.png
ORGANIZER;CN="Mind Distillery":MAILTO:hello@mind-distillery.com
GEO:47.516231;14.550072
END:VEVENT
BEGIN:VEVENT
DTSTART;TZID=Europe/Vienna:20260605T120000
DTEND;TZID=Europe/Vienna:20260607T170000
DTSTAMP:20260420T021940
CREATED:20260414T155832Z
LAST-MODIFIED:20260414T155832Z
UID:10001081-1780660800-1780851600@www.femvents.at
SUMMARY:Zurück in deine Mitte- Retreat für Frauen in Niederösterreich
DESCRIPTION:Bilde mit uns an diesem Wochenende einen kleinen Kreis mit großer Wirkung. \nLasse deinen stressigen Alltag hinter dir und komme mit tiefgreifenden Erfahrungen in der Natur des Waldviertels zurück in deine Kraft. \nDas erwartet dich: \n🌼 Stille & Zeit für Dich\n🌼 Aktives & sanftes Yoga\n🌼Übernachtung in Tiny Häusern\n🌼 Kräuterwanderung & eigene Naturkosmetik herstellen\n🌼 Kreatives Schreiben & Meditationen\n🌼 eine herzöffnende Kakaozeremonie\n🌼 Soundhealing\n🌼 Sauna & Hot Tube\n🌼 Bio Verpflegung von unserem eigenen Hof\n🌼 Achtsames Kochen und vieles \n📍Unser Bio Retreat Hof im nördlichen Waldviertel mitten in der Natur \nIch freue mich auf eine Nachricht von dir\, wenn du dich angesprochen fühlst & zurück in deine Mitte kommen willst! \nAlles Liebe\,\nKristin 💛
URL:https://www.femvents.at/event/zurueck-in-deine-mitte-retreat-fuer-frauen-in-niederoesterreich/
LOCATION:weitra\, Weitra\, 3970\, Austria
CATEGORIES:Frauenkreis,Niederösterreich,Österreichweit,Retreat
ATTACH;FMTTYPE=image/png:https://www.femvents.at/wp-content/uploads/2026/04/2-1.png
GEO:48.7008974;14.8973836
END:VEVENT
BEGIN:VEVENT
DTSTART;TZID=Europe/Vienna:20260605T190000
DTEND;TZID=Europe/Vienna:20260605T233000
DTSTAMP:20260420T021940
CREATED:20260210T135845Z
LAST-MODIFIED:20260218T081543Z
UID:10000792-1780686000-1780702200@www.femvents.at
SUMMARY:Ladies Night
DESCRIPTION:Wir sind die Frauengruppe der HOSI Salzburg. Seit 2015 organisieren wir jeden Monat einen Abend nur für Frauen*\, unabhängig von sexueller Orientierung. Die Ladies Night bietet queeren Frauen* in Salzburg einen geschützten Raum\, um gemeinsam zu feiern oder einen gemütlichen Abend miteinander zu verbringen. \nWir freuen uns immer über neue Gesichter – kommt gerne vorbei! \nWas machen wir?\nVon Getränke-Specials über Lesbenfilmnächte\, Tanzabende\, Lesungen\, bis hin zu gemütlichem Beisammensein\, das alles gibt es jeden ersten Freitag im Monat\, speziell für Frauen*  in der HOSI Salzburg.* \n*Die „Ladies Night“ richtet sich an Frauen jeglicher sexuellen Orientierung  sowie trans*\, inter* und nicht-binäre Menschen.
URL:https://www.femvents.at/event/ladies-night-4/
LOCATION:HOSI Salzburg – Queere Interessevertretung\, Franz-Josef-Straße 22\, Salzburg\, Salzburg\, 5020\, Austria
CATEGORIES:Salzburg
ATTACH;FMTTYPE=image/png:https://www.femvents.at/wp-content/uploads/2026/02/Ladies-Night.png
ORGANIZER;CN="HOSI Salzburg - Queere Interessenvertretung":MAILTO:office@hosi.or.at
GEO:47.8060803;13.0482441
X-APPLE-STRUCTURED-LOCATION;VALUE=URI;X-ADDRESS=HOSI Salzburg – Queere Interessevertretung Franz-Josef-Straße 22 Salzburg Salzburg 5020 Austria;X-APPLE-RADIUS=500;X-TITLE=Franz-Josef-Straße 22:geo:13.0482441,47.8060803
END:VEVENT
BEGIN:VEVENT
DTSTART;TZID=Europe/Vienna:20260606T100000
DTEND;TZID=Europe/Vienna:20260606T140000
DTSTAMP:20260420T021940
CREATED:20260417T092502Z
LAST-MODIFIED:20260419T100949Z
UID:10001135-1780740000-1780754400@www.femvents.at
SUMMARY:Pottendorf  LLL-LEBENSFREUDE Frauentreff mit LLL-Botschafterinnen Cornelia E. Brauneder & Monika Spadt mit  FrühSOMMER Buffet
DESCRIPTION:✨ Hallo ihr wundervollen Frauen ✨🌸 \n🌼 Lust\, einfach mal rauszukommen?\n🌸 Lachen\, plaudern\, durchatmen & neue Energie tanken?\nDann komm zu unserem LLL-LEBENSFREUDE TREFF 💚🧡🩷 \nFrühSOMMER Buffet 🌿🌼Brötchen\, Aufstriche\, Käsplatte\, Obst\, Topfenstrudel\, Gugelhupf\, Kaffee mit veganer Milch/ Kuhmilch\,\nTee und Orangensaft \n€ 15\,- p/Pers. \nEin Ort für echte Begegnungen\, ehrliche Gespräche und diese kleinen Herzensmomente\, die so unglaublich gut tun 💫\n🌷 Egal ob du ganz neu bist oder schon öfter dabei warst –\n🧁 komm genauso\, wie du bist!\nHier ist Platz für dich\, dein Lächeln und alles\, was dich gerade bewegt 🫶\n💃 Wir freuen uns riesig auf dich! 💕 \nBitte Platzreservierung 🤗\ninfo@vereinlebenliebenlachen.at
URL:https://www.femvents.at/event/pottendorf-lll-lebensfreude-frauentreff-mit-lll-botschafterinnen-cornelia-e-brauneder-monika-spadt-mit-fruehsommer-buffet/
LOCATION:LITHARA ZENTRUM für LEBENSKRAFT\, Kirchplatz 3\, Pottendorf\, 2486
CATEGORIES:Burgenland,LLL
ATTACH;FMTTYPE=image/jpeg:https://www.femvents.at/wp-content/uploads/2026/04/Pottendorf-okmibD.jpg
ORGANIZER;CN="LEBEN%2C LIEBEN%2C LACHEN &#8211%3B endlich wei%C3%9F ich wie!":MAILTO:info@vereinlebenliebenlachen.at
GEO:47.911426;16.3881078
X-APPLE-STRUCTURED-LOCATION;VALUE=URI;X-ADDRESS=LITHARA ZENTRUM für LEBENSKRAFT Kirchplatz 3 Pottendorf 2486;X-APPLE-RADIUS=500;X-TITLE=Kirchplatz 3:geo:16.3881078,47.911426
END:VEVENT
BEGIN:VEVENT
DTSTART;TZID=Europe/Vienna:20260607T150000
DTEND;TZID=Europe/Vienna:20260607T154000
DTSTAMP:20260420T021940
CREATED:20260407T062213Z
LAST-MODIFIED:20260419T100949Z
UID:10001041-1780844400-1780846800@www.femvents.at
SUMMARY:Bgld./Wimpassing  LLL- Frauen Schnatterschritte  *LEICHT* mit LLL-Botschafterin Sabine Willmann
DESCRIPTION:Die „LLL-Schnatterschritte LEICHT“\, gedacht für diejenigen unter euch\, die sich gerne bewegen möchten\, aber (noch) keine langen Spaziergänge machen können – sei es nach einer Krankheit\, nach einer Operation oder weil man sich alleine einfach nicht so traut. \nWir gehen gemeinsam ganz entspannt und langsam eine kleine Runde um den See (1\,5 km) „schnattern“ ein bisschen\, genießen \ndie Natur und die frische Luft.  \nSo können wir uns gegenseitig stärken\, tanken Energie und leisten so einen wertvollen Beitrag zu unserer Genesung und Gesundheit!  \nSei auch Du dabei! \nNimm‘ gerne Deine Walkingstöcke mit!  \nDauer: 30 – max. 40 Minuten  \nAnmeldung unter\nInfo@vereinlebenliebenlachen.at \noder\neinfach spontan vorbeikommen.  \nBitte komm‘ pünktlich – wir warten 5 Minuten\, dann geht’s los!  \nBei jedem Wetter – außer Starkregen oder Gewitter!
URL:https://www.femvents.at/event/bgld-wimpassing-lll-frauen-schnatterschritte-leicht-mit-lll-botschafterin-sabine-willmann-8/
LOCATION:Treffpunkt: Am unteren Parkplatz Nr. 2 des Ziegelwerk Gasthaus\, Ziegelofengasse 28\, Wimpassing\, Burgenland
CATEGORIES:Burgenland,LLL
ATTACH;FMTTYPE=image/jpeg:https://www.femvents.at/wp-content/uploads/2026/04/Schnatterschritte-Wimpassing-Logo-qUA8XO.jpg
ORGANIZER;CN="LEBEN%2C LIEBEN%2C LACHEN &#8211%3B endlich wei%C3%9F ich wie!":MAILTO:info@vereinlebenliebenlachen.at
GEO:47.9150551;16.4304338
X-APPLE-STRUCTURED-LOCATION;VALUE=URI;X-ADDRESS=Treffpunkt: Am unteren Parkplatz Nr. 2 des Ziegelwerk Gasthaus Ziegelofengasse 28 Wimpassing Burgenland;X-APPLE-RADIUS=500;X-TITLE=Ziegelofengasse 28:geo:16.4304338,47.9150551
END:VEVENT
BEGIN:VEVENT
DTSTART;TZID=Europe/Vienna:20260607T160000
DTEND;TZID=Europe/Vienna:20260607T173000
DTSTAMP:20260420T021940
CREATED:20260407T062213Z
LAST-MODIFIED:20260419T100949Z
UID:10001042-1780848000-1780853400@www.femvents.at
SUMMARY:Bgld./Wimpassing  LLL- Frauen Schnatterschritte mit LLL-Botschafterin Sabine Willmann
DESCRIPTION:Bei unseren LLL-Schnatterschritten verbinden wir Bewegung mit inspirierenden Gesprächen. \nBei unserem Spaziergang\, gerne mit Walkingstöcke oder Walkingringe\, tauschen wir uns über verschiedenste Themen aus\, genießen die Natur und tanken frische Energie voller LEBEN\, LIEBEN\,LACHEN \nDauer: 60 – max. 90 Minuten \nSei auch Du dabei! \nAnmeldung bitte unter\ninfo@vereinlebenliebenlachen.at \noder \neinfach spontan vorbeikommen!  \nBitte komm‘ pünktlich\, wir warten 5 Minuten\, dann geht’s los!  \nBei jedem Wetter – außer Starkregen oder Gewitter! 
URL:https://www.femvents.at/event/bgld-wimpassing-lll-frauen-schnatterschritte-mit-lll-botschafterin-sabine-willmann-7/
LOCATION:Treffpunkt: Am unteren Parkplatz Nr. 2 des Ziegelwerk Gasthaus\, Ziegelofengasse 28\, Wimpassing\, Burgenland
CATEGORIES:Burgenland,LLL
ATTACH;FMTTYPE=image/jpeg:https://www.femvents.at/wp-content/uploads/2026/04/Schnatterschritte-Wimpassing-Logo-qUA8XO.jpg
ORGANIZER;CN="LEBEN%2C LIEBEN%2C LACHEN &#8211%3B endlich wei%C3%9F ich wie!":MAILTO:info@vereinlebenliebenlachen.at
GEO:47.9150551;16.4304338
X-APPLE-STRUCTURED-LOCATION;VALUE=URI;X-ADDRESS=Treffpunkt: Am unteren Parkplatz Nr. 2 des Ziegelwerk Gasthaus Ziegelofengasse 28 Wimpassing Burgenland;X-APPLE-RADIUS=500;X-TITLE=Ziegelofengasse 28:geo:16.4304338,47.9150551
END:VEVENT
END:VCALENDAR