BEGIN:VCALENDAR
VERSION:2.0
PRODID:-//femvents.at - ECPv6.15.18//NONSGML v1.0//EN
CALSCALE:GREGORIAN
METHOD:PUBLISH
X-WR-CALNAME:femvents.at
X-ORIGINAL-URL:https://www.femvents.at
X-WR-CALDESC:Veranstaltungen für femvents.at
REFRESH-INTERVAL;VALUE=DURATION:PT1H
X-Robots-Tag:noindex
X-PUBLISHED-TTL:PT1H
BEGIN:VTIMEZONE
TZID:Europe/Vienna
BEGIN:DAYLIGHT
TZOFFSETFROM:+0100
TZOFFSETTO:+0200
TZNAME:CEST
DTSTART:20250330T010000
END:DAYLIGHT
BEGIN:STANDARD
TZOFFSETFROM:+0200
TZOFFSETTO:+0100
TZNAME:CET
DTSTART:20251026T010000
END:STANDARD
BEGIN:DAYLIGHT
TZOFFSETFROM:+0100
TZOFFSETTO:+0200
TZNAME:CEST
DTSTART:20260329T010000
END:DAYLIGHT
BEGIN:STANDARD
TZOFFSETFROM:+0200
TZOFFSETTO:+0100
TZNAME:CET
DTSTART:20261025T010000
END:STANDARD
BEGIN:DAYLIGHT
TZOFFSETFROM:+0100
TZOFFSETTO:+0200
TZNAME:CEST
DTSTART:20270328T010000
END:DAYLIGHT
BEGIN:STANDARD
TZOFFSETFROM:+0200
TZOFFSETTO:+0100
TZNAME:CET
DTSTART:20271031T010000
END:STANDARD
END:VTIMEZONE
BEGIN:VEVENT
DTSTART;TZID=Europe/Vienna:20260622T170000
DTEND;TZID=Europe/Vienna:20260622T183000
DTSTAMP:20260420T022015
CREATED:20260416T065701Z
LAST-MODIFIED:20260416T065701Z
UID:10001115-1782147600-1782153000@www.femvents.at
SUMMARY:„Own your position. Durchsetzungsstark und souverän verhandeln“
DESCRIPTION:Unsere Webinar-Serie Career Sessions bringt die Themen auf den Punkt\, die Frauen im Job wirklich weiterbringen. Am Montag\, 22. Juni um 17:00 ist der Unternehmer\, Autor und internationale Verhandlungsexperte Gunhard Keil zu Gast mit dem Thema „Own your position. Durchsetzungsstark und souverän verhandeln“. \nVordergründig geht es bei Verhandlungen um Zahlen\, Daten\, Fakten. Klar\, die sind wichtig – aber was letztendlich über Erfolg und Misserfolg entscheidet\, sind unsere Emotionen und wie wir sie bewusst steuern und für uns nutzen. Das Schlimmste\, was man tun kann: sie ignorieren. Richtig verstanden und wirksam eingesetzt\, werden sie dagegen zu einem strategischen Vorteil in Verhandlungen. \nUnd ja\, Frauen und Männer erleben Verhandlungssituationen unterschiedlich – aber es gibt auch erstaunliche Parallelitäten. \nZum Inhalt: \nIn dieser Career Session geht es um die inneren Dynamiken\, die Verhandlungen entscheiden – oft stärker als Argumente. \nAngst\, Gier und Aggression beeinflussen\, wie klar wir auftreten\, wie konsequent wir unsere Position vertreten und wann wir nachgeben. Wer diese Muster nicht erkennt\, wird von ihnen gesteuert. Wer sie versteht\, kann sie gezielt nutzen und gewinnt Handlungsspielraum. Gerade in anspruchsvollen\, kompetitiven Umfeldern zeigt sich: Nicht die lauteste Stimme setzt sich durch\, sondern die klarste. \nDas Ziel ist Souveränität. Also die Fähigkeit\, auch unter Druck ruhig zu bleiben\, klar zu denken und wirksam zu handeln. Und Souveränität bedeutet nicht\, emotionslos zu sein\, sondern zu wissen\, was wirkt – und es bewusst einzusetzen. Genau darin liegt Verhandlungsstärke. \nDas nimmst du aus der Session mit: \n\nwarum Angst\, Gier und Aggression Verhandlungen stärker beeinflussen als Fakten\nwie emotionale Muster die eigene Durchsetzungskraft schwächen oder stärken\nwarum Souveränität die Basis professioneller Verhandlungsstärke ist\nwarum Souveränität unabhängig von Geschlecht funktioniert\nwie du auch unter Druck klar\, stabil und wirksam verhandelst\n\nEin wesentlicher Teil der Session ist für Fragen reserviert – Gunhard Keil geht gezielt auf individuelle Themen ein. Überlege dir daher vorab\, was dich aktuell beschäftigt. Buchtipp für alle\, die tiefer einsteigen möchten: „Durchsetzungsstark verhandeln“ von Gunhard Keil. \nDiese Session richtet sich an alle\, die sich in anspruchsvollen\, oft männerdominierten Umfeldern bewegen und in Führungsdialogen\, Preisverhandlungen oder schwierigen Abstimmungen nicht nur gut vorbereitet wirken\, sondern klar\, stabil und wirksam agieren wollen. Sie bildet zudem die Grundlage für die Career Session mit Jessica Kreuzer zum Thema Gehaltsverhandlungen. \nAnmeldung: \nEure erste Teilnahme im neuen Career Campus ist kostenlos – einfach bei der Buchung im Shop den Code sheconomy eingeben. Regulär kostet die Teilnahme an einer Career Session 29 €.\nDas Gratis-Ticket gilt auch dann\, wenn ihr euch bereits vor Februar 2026 zu einer anderen Career Session angemeldet hattet. Jetzt Ticket sichern. \nTipp: Mit dem sheconomy Community Abo um nur 99 € pro Jahr ist eure Teilnahme bei allen Career Sessions inkludiert – plus 4 x Printmagazin & E-Paper und she Event Fixplatz in AT oder DE. Jetzt Mitglied in der sheconomy Community werden. Community Member erhalten den Link zur Career Session automatisch am Tag des Events. \nZum Referenten: \nGunhard Keil ist Unternehmer\, Autor und internationaler Verhandlungsexperte. Er begleitet seit vielen Jahren Führungskräfte\, Unternehmer*innen und Vorstände in komplexen Verhandlungssituationen und zählt zu den profilierten Stimmen\, wenn es um Souveränität\, Wirkung und professionelle Durchsetzung geht. \nMit juristischem und psychologischen Hintergrund verbiindet er Erfahrung aus Wirtschaft\, Führung und Unternehmertum: von der Automobilindustrie über die Geschäftsführung im IT-Umfeld bis zur Gründung eigener Unternehmen. Diese breite Praxis prägt auch seinen Blick auf Verhandlungen – als Zusammenspiel aus Strategie\, Persönlichkeit und emotionaler Klarheit. \nGunhard Keil zeigt\, warum Verhandlungen nicht an fehlenden Argumenten scheitern\, sondern oft an Angst\, Anpassungsdruck oder unklarer innerer Haltung. Sein Ansatz ist klar\, wirksam und menschlich zugleich: Mit Souveränität als Zugang zu den eigenen Stärken Lösungen finden\, die für alle Verhandlungsparter*innen haltbar sind. Als Autor von Durchsetzungsstark verhandeln vermittelt er\, wie Menschen auch in herausfordernden Situationen klar bleiben\, professionell führen und ihre Interessen wirksam vertreten.
URL:https://www.femvents.at/event/own-your-position-durchsetzungsstark-und-souveraen-verhandeln/
LOCATION:Online-Event\, Austria
CATEGORIES:Online-Event
ATTACH;FMTTYPE=image/jpeg:https://www.femvents.at/wp-content/uploads/2026/01/sheconomy_Foto-ambitions_Sweater_Pulli_c_PhilippLipiarski.jpg
GEO:47.516231;14.550072
END:VEVENT
BEGIN:VEVENT
DTSTART;TZID=Europe/Vienna:20260624T163000
DTEND;TZID=Europe/Vienna:20260624T180000
DTSTAMP:20260420T022015
CREATED:20260317T091454Z
LAST-MODIFIED:20260317T091643Z
UID:10000933-1782318600-1782324000@www.femvents.at
SUMMARY:Kreativität als Stärke „Meine Kreativität leben“
DESCRIPTION:Treffpunkt Frauenwissen\n\n\nWir beleuchten\, wie kreative Fähigkeiten Selbstvertrauen stärken und wie Herausforderungen des täglichen Lebens mithilfe kreativer Ansätze neu gelöst werden können. Ziel des Vortrags ist es\, Kreativität als persönliche Ressource zu entdecken\, eigene Stärken sichtbar zu machen und sie bewusst für Erfolg\, Zufriedenheit und Innovation einzusetzen. \n\n\nmit Veronika KUNZE
URL:https://www.femvents.at/event/kreativitaet-als-staerke-meine-kreativitaet-leben/
LOCATION:Linz
CATEGORIES:Oberösterreich,Workshop
ATTACH;FMTTYPE=image/png:https://www.femvents.at/wp-content/uploads/2025/06/femvents_eventbild.png
END:VEVENT
BEGIN:VEVENT
DTSTART;TZID=Europe/Vienna:20260624T180000
DTEND;TZID=Europe/Vienna:20260624T200000
DTSTAMP:20260420T022015
CREATED:20260317T094652Z
LAST-MODIFIED:20260419T100949Z
UID:10000941-1782324000-1782331200@www.femvents.at
SUMMARY:Bgld./Neufeld LLL-BUSINESS Frauentreff mit LLL-Botschafterin Susanne E. Tichy
DESCRIPTION:🌸✨ Hallo liebe Unternehmerinnen & Business-Frauen ✨🌸 \n🌼 Lust auf Austausch auf Augenhöhe?\n🌸 Inspirierende Gespräche\, neue Impulse & wertvolle Kontakte?\nDann komm zu unserem LLL-BUSINESS FRAUENTREFF 💚🧡🩷 \nEin Raum für Vernetzung\, Erfahrungsaustausch und echtes Miteinander 💫\n🌷 Egal ob selbstständig\, in Gründung oder beruflich neu orientiert –\n🧁 komm genau so\, wie du bist!\nHier ist Platz für deine Ideen\, deine Visionen und alles\, was dich beruflich bewegt 🫶 \n💼 Gemeinsam wachsen.\n💬 Gemeinsam lernen.\n💖 Gemeinsam erfolgreich sein. \n💃 Wir freuen uns sehr auf dich! \n📩 Bitte um Platzreservierung\ninfo@vereinlebenliebenlachen.at
URL:https://www.femvents.at/event/neufeld-lll-business-frauentreff-mit-lll-botschafterin-susanne-e-tichy/
LOCATION:Neufeldersee Hotel&Restaurant\, Eisenstädter Straße 35\, Neufeld\, 2493
CATEGORIES:Burgenland,LLL,L💛L🧡L🩷 Frauentreff
ATTACH;FMTTYPE=image/jpeg:https://www.femvents.at/wp-content/uploads/2026/03/Business-Treff-Neufeld-CycA2i.jpg
ORGANIZER;CN="LEBEN%2C LIEBEN%2C LACHEN &#8211%3B endlich wei%C3%9F ich wie!":MAILTO:info@vereinlebenliebenlachen.at
GEO:47.8656397;16.3860933
X-APPLE-STRUCTURED-LOCATION;VALUE=URI;X-ADDRESS=Neufeldersee Hotel&Restaurant Eisenstädter Straße 35 Neufeld 2493;X-APPLE-RADIUS=500;X-TITLE=Eisenstädter Straße 35:geo:16.3860933,47.8656397
END:VEVENT
BEGIN:VEVENT
DTSTART;TZID=Europe/Vienna:20260627T090000
DTEND;TZID=Europe/Vienna:20260627T110000
DTSTAMP:20260420T022015
CREATED:20260407T062211Z
LAST-MODIFIED:20260419T100949Z
UID:10001020-1782550800-1782558000@www.femvents.at
SUMMARY:NÖ/ Baden  LLL LEBENSFREUDE Frauentreff mit LLL-Botschafterin Helga Gumpinger
DESCRIPTION:🌸✨ Hallo ihr wundervollen Frauen ✨🌸 \n🌼 Lust\, einfach mal rauszukommen?\n🌸 Lachen\, plaudern\, durchatmen & neue Energie tanken?\nDann komm zu unserem LLL-LEBENSFREUDE TREFF 💚🧡🩷 \nEin Ort für echte Begegnungen\, ehrliche Gespräche und diese kleinen Herzensmomente\, die so unglaublich gut tun 💫\n🌷 Egal ob du ganz neu bist oder schon öfter dabei warst –\n🧁 komm genauso\, wie du bist!\nHier ist Platz für dich\, dein Lächeln und alles\, was dich gerade bewegt 🫶\n💃 Wir freuen uns riesig auf dich! 💕 \nBitte Platzreservierung 🤗\ninfo@vereinlebenliebenlachen.at
URL:https://www.femvents.at/event/noe-baden-lll-lebensfreude-frauentreff-mit-lll-botschafterin-helga-gumpinger/
LOCATION:Cafe Clementine\, Kaiser Franz-Ring 12\, Baden\, 2500
CATEGORIES:Burgenland,LLL
ATTACH;FMTTYPE=image/jpeg:https://www.femvents.at/wp-content/uploads/2026/04/Helga-Baden-3UPyOo.jpg
ORGANIZER;CN="LEBEN%2C LIEBEN%2C LACHEN &#8211%3B endlich wei%C3%9F ich wie!":MAILTO:info@vereinlebenliebenlachen.at
GEO:48.0097754;16.2340284
X-APPLE-STRUCTURED-LOCATION;VALUE=URI;X-ADDRESS=Cafe Clementine Kaiser Franz-Ring 12 Baden 2500;X-APPLE-RADIUS=500;X-TITLE=Kaiser Franz-Ring 12:geo:16.2340284,48.0097754
END:VEVENT
BEGIN:VEVENT
DTSTART;TZID=Europe/Vienna:20260627T100000
DTEND;TZID=Europe/Vienna:20260627T180000
DTSTAMP:20260420T022015
CREATED:20260209T101016Z
LAST-MODIFIED:20260209T101016Z
UID:10000785-1782554400-1782583200@www.femvents.at
SUMMARY:IM KREIS DER WEIBLICHEN KRÄFTE
DESCRIPTION:Die AlchimistinZentrum – Transformation\, Integration\, Ganzheit\nDieses Seminar öffnet einen geschützten Raum\, in dem du Wandel nicht nur erkennst\, sondern integrierst. Du arbeitest mit Atem\, Klang\, Bewegung\, Duft und Ritualen\, um alte Muster zu lösen\, innere Anteile zu verbinden und neue Schritte im Körper zu verankern. \nWas dich erwartet– Zentrierung & Erdung: zurück ins Zentrum– Rituale für Transformation\, Loslassen und Neuordnung– Integrative Körperarbeit: Spannung lösen\, Präsenz stärken\, Energie bündeln– Reflexionsräume: Erkenntnisse in alltagstaugliche Entscheidungen übersetzen– Exklusiver Kleingruppenrahmen: ruhig\, klar\, ohne Druck \nWenn dich das ruft: Reserviere jetzt deinen Platz.Kontaktformular auf www.source-praxis.at ausfüllen → bei „Worum es geht?“ das Seminar auswählen → Bestätigung per E-Mail erhalten.Telefonisch: +43 677 644 20744
URL:https://www.femvents.at/event/im-kreis-der-weiblichen-kraefte-4/
LOCATION:Weichstetten\, Weichstetten\, Austria
CATEGORIES:Frauenkreis,Kurs,Meditation,Oberösterreich,Retreat,Soundhealing,Workshop
ATTACH;FMTTYPE=image/jpeg:https://www.femvents.at/wp-content/uploads/2026/02/erste-seite_archtypen_seminartermine2026-3.jpg
GEO:48.12146;14.32131
END:VEVENT
BEGIN:VEVENT
DTSTART;TZID=Europe/Vienna:20260628T110000
DTEND;TZID=Europe/Vienna:20260628T140000
DTSTAMP:20260420T022015
CREATED:20260324T105515Z
LAST-MODIFIED:20260419T100949Z
UID:10000959-1782644400-1782655200@www.femvents.at
SUMMARY:Bgld./Purbach LLL-Family & Friends Treff mit LIVE MUSIK „Sandhouse“ mit LLL-Botschafterin Veronika Sederl
DESCRIPTION:🌼 Lust\, einfach mal rauszukommen und neue Menschen kennenlernen\, dann ist der Family & Friends Treff genau das richtige für dich. \n🌸 Lachen\, plaudern\, durchatmen & neue Energie tanken? \nEin Ort für echte Begegnungen\, ehrliche Gespräche und diese kleinen Herzensmomente\, die so unglaublich gut tun 💫\n🌷 Egal ob du ganz neu bist oder schon öfter dabei warst –\n🧁 komm genauso\, wie du bist!\nHier ist Platz für dich\, dein Lächeln und alles\, was dich gerade bewegt 🫶\n💃 Wir freuen uns riesig auf dich! 💕 \nBitte Platzreservierung 🤗\ninfo@vereinlebenliebenlachen.at
URL:https://www.femvents.at/event/bgld-purbach-lll-family-friends-treff-mit-live-musik-sandhouse-mit-lll-botschafterin-veronika-sederl/
LOCATION:die Sandhofer Heurigen-Restaurant  Birgit Müller-Sandhofer\, Am Kellerplatz 47K\, Purbach\, 7083\, Austria
CATEGORIES:Burgenland,LLL Family & Friends Treff
ATTACH;FMTTYPE=image/png:https://www.femvents.at/wp-content/uploads/2026/03/Sandhofer-2026-lp1Tif.png
ORGANIZER;CN="LEBEN%2C LIEBEN%2C LACHEN &#8211%3B endlich wei%C3%9F ich wie!":MAILTO:info@vereinlebenliebenlachen.at
GEO:47.9161318;16.6925972
X-APPLE-STRUCTURED-LOCATION;VALUE=URI;X-ADDRESS=die Sandhofer Heurigen-Restaurant  Birgit Müller-Sandhofer Am Kellerplatz 47K Purbach 7083 Austria;X-APPLE-RADIUS=500;X-TITLE=Am Kellerplatz 47K:geo:16.6925972,47.9161318
END:VEVENT
BEGIN:VEVENT
DTSTART;TZID=Europe/Vienna:20260628T140000
DTEND;TZID=Europe/Vienna:20260701T120000
DTSTAMP:20260420T022015
CREATED:20260313T083641Z
LAST-MODIFIED:20260401T084952Z
UID:10000883-1782655200-1782907200@www.femvents.at
SUMMARY:Das 1. Mentales Trainingscamp in den Bergen
DESCRIPTION:Du trainierst hart – aber deine Leistung ist nicht immer abrufbar?\nZweifel. Druck. Overthinking. \nMentale Strategien entscheiden oft darüber\, ob du dein Potenzial für deine Projekte wirklich nutzen kannst. \nGenau daran arbeiten wir beim Mentalen Trainingscamp im Ammererhof.\n4 Tage in den Bergen. \nSportpsychologie\, Embodiment & Breathwork –\nfür Fokus\, mentale Regeneration und Klarheit. \n📅 28.06.–01.07.2026\n👥 max. 12 Plätze\n🏅für Athlet:innen jeder Disziplin!
URL:https://www.femvents.at/event/das-1-mentales-trainingscamp-in-den-bergen/
LOCATION:Ammererhof\, Rauris | Österreich\, Austria
CATEGORIES:Coaching,Meditation,Retreat,Salzburg,Sport,Workshop
ATTACH;FMTTYPE=image/jpeg:https://www.femvents.at/wp-content/uploads/2026/03/WhatsApp-Image-2026-03-12-at-17.56.17.jpeg
ORGANIZER;CN="Veronika Mayerhofer":MAILTO:office@veronika-mayerhofer.com
GEO:47.516231;14.550072
END:VEVENT
END:VCALENDAR