BEGIN:VCALENDAR
VERSION:2.0
PRODID:-//femvents.at - ECPv6.15.18//NONSGML v1.0//EN
CALSCALE:GREGORIAN
METHOD:PUBLISH
X-WR-CALNAME:femvents.at
X-ORIGINAL-URL:https://www.femvents.at
X-WR-CALDESC:Veranstaltungen für femvents.at
REFRESH-INTERVAL;VALUE=DURATION:PT1H
X-Robots-Tag:noindex
X-PUBLISHED-TTL:PT1H
BEGIN:VTIMEZONE
TZID:Europe/Vienna
BEGIN:DAYLIGHT
TZOFFSETFROM:+0100
TZOFFSETTO:+0200
TZNAME:CEST
DTSTART:20250330T010000
END:DAYLIGHT
BEGIN:STANDARD
TZOFFSETFROM:+0200
TZOFFSETTO:+0100
TZNAME:CET
DTSTART:20251026T010000
END:STANDARD
BEGIN:DAYLIGHT
TZOFFSETFROM:+0100
TZOFFSETTO:+0200
TZNAME:CEST
DTSTART:20260329T010000
END:DAYLIGHT
BEGIN:STANDARD
TZOFFSETFROM:+0200
TZOFFSETTO:+0100
TZNAME:CET
DTSTART:20261025T010000
END:STANDARD
BEGIN:DAYLIGHT
TZOFFSETFROM:+0100
TZOFFSETTO:+0200
TZNAME:CEST
DTSTART:20270328T010000
END:DAYLIGHT
BEGIN:STANDARD
TZOFFSETFROM:+0200
TZOFFSETTO:+0100
TZNAME:CET
DTSTART:20271031T010000
END:STANDARD
END:VTIMEZONE
BEGIN:VEVENT
DTSTART;TZID=Europe/Vienna:20260922T180000
DTEND;TZID=Europe/Vienna:20260922T213000
DTSTAMP:20260420T090658
CREATED:20260212T104606Z
LAST-MODIFIED:20260212T104606Z
UID:10000804-1790100000-1790112600@www.femvents.at
SUMMARY:WORKSHOP “SOUVERÄN IM TEAMMEETING: SO VERSCHAFFE ICH MIR GEHÖR”
DESCRIPTION:Strategien für Sichtbarkeit\, Agenda-Setting & solidarische Allianzen \nEs gibt Teammeetings\, die von einzelnen Personen stark geprägt werden. Diese nehmen (zu) viel Redezeit in Anspruch\, lassen andere Meinungen nicht gelten und bringen vor allem ihre eigenen Anliegen durch. In diesem Workshop erfährst du\, wie du dir in einer Besprechung mit dominanten Teilnehmer:innen Gehör verschaffst und wie du Vielredner:innen höflich aber bestimmt unterbrechen kannst. \n// Was? Workshop “Souverän im Teammeeting: So verschaffe ich mir Gehör”\n// Wer? Workshop exklusiv für Sorority-Mitglieder\n// Wo? Impact Hub\, Lindengasse 56\, 1070 Wien \n//Mit: Karin Wolf. Sie ist Gründerin und Direktorin des Instituts für Kulturkonzepte\, Wien. (Lehrgänge und Seminare zu Kulturmanagement und Kulturvermittlung) Jobcoaching und Karriereplanung für Kunst- und Kultur\, Führungskräftecoaching und Kommunikationstraining. Lehraufträge u.a. Universität Wien\, Kunstuni Linz\, Kunstuni Graz\, Diplomatische Akademie Wien. Studium der Theater-\, Film- und Medienwissenschaft\, Kunstgeschichte\, European Diploma in Cultural Project Management. \n//Anmeldung ab 22.08.2026 unter event@sorority.at
URL:https://www.femvents.at/event/workshop-souveraen-im-teammeeting-so-verschaffe-ich-mir-gehoer/
LOCATION:Impact Hub Vienna\, Lindengasse 56\, Wien\, Wien\, 1070\, Austria
CATEGORIES:After Work,Wien,Workshop
ATTACH;FMTTYPE=image/png:https://www.femvents.at/wp-content/uploads/2026/02/Teil-1-Hauptinfos-4.png
GEO:48.1995724;16.3459081
X-APPLE-STRUCTURED-LOCATION;VALUE=URI;X-ADDRESS=Impact Hub Vienna Lindengasse 56 Wien Wien 1070 Austria;X-APPLE-RADIUS=500;X-TITLE=Lindengasse 56:geo:16.3459081,48.1995724
END:VEVENT
BEGIN:VEVENT
DTSTART;TZID=Europe/Vienna:20260927T110000
DTEND;TZID=Europe/Vienna:20260927T140000
DTSTAMP:20260420T090658
CREATED:20260407T071823Z
LAST-MODIFIED:20260414T073944Z
UID:10001046-1790506800-1790517600@www.femvents.at
SUMMARY:Bgld./Purbach LLL-Family & Friends Treff mit LIVE MUSIK „Sandhouse“ mit LLL-Botschafterin Veronika Sederl
DESCRIPTION:🌼 Lust\, einfach mal rauszukommen und neue Menschen kennenlernen\, dann ist der Family & Friends Treff genau das richtige für dich. \n🌸 Lachen\, plaudern\, durchatmen & neue Energie tanken? \nEin Ort für echte Begegnungen\, ehrliche Gespräche und diese kleinen Herzensmomente\, die so unglaublich gut tun 💫\n🌷 Egal ob du ganz neu bist oder schon öfter dabei warst –\n🧁 komm genauso\, wie du bist!\nHier ist Platz für dich\, dein Lächeln und alles\, was dich gerade bewegt 🫶\n💃 Wir freuen uns riesig auf dich! 💕 \nBitte Platzreservierung 🤗\ninfo@vereinlebenliebenlachen.at
URL:https://www.femvents.at/event/bgld-purbach-lll-family-friends-treff-mit-live-musik-sandhouse-mit-lll-botschafterin-veronika-sederl-5/
LOCATION:die Sandhofer Heurigen-Restaurant  Birgit Müller-Sandhofer\, Am Kellerplatz 47K\, Purbach\, 7083\, Austria
CATEGORIES:Burgenland,LLL Family & Friends Treff
ATTACH;FMTTYPE=image/png:https://www.femvents.at/wp-content/uploads/2026/03/Sandhofer-2026-lp1Tif.png
ORGANIZER;CN="LEBEN%2C LIEBEN%2C LACHEN &#8211%3B endlich wei%C3%9F ich wie!":MAILTO:info@vereinlebenliebenlachen.at
GEO:47.9161318;16.6925972
X-APPLE-STRUCTURED-LOCATION;VALUE=URI;X-ADDRESS=die Sandhofer Heurigen-Restaurant  Birgit Müller-Sandhofer Am Kellerplatz 47K Purbach 7083 Austria;X-APPLE-RADIUS=500;X-TITLE=Am Kellerplatz 47K:geo:16.6925972,47.9161318
END:VEVENT
END:VCALENDAR