BEGIN:VCALENDAR
VERSION:2.0
PRODID:-//femvents.at - ECPv6.15.18//NONSGML v1.0//EN
CALSCALE:GREGORIAN
METHOD:PUBLISH
X-WR-CALNAME:femvents.at
X-ORIGINAL-URL:https://www.femvents.at
X-WR-CALDESC:Veranstaltungen für femvents.at
REFRESH-INTERVAL;VALUE=DURATION:PT1H
X-Robots-Tag:noindex
X-PUBLISHED-TTL:PT1H
BEGIN:VTIMEZONE
TZID:Europe/Vienna
BEGIN:DAYLIGHT
TZOFFSETFROM:+0100
TZOFFSETTO:+0200
TZNAME:CEST
DTSTART:20250330T010000
END:DAYLIGHT
BEGIN:STANDARD
TZOFFSETFROM:+0200
TZOFFSETTO:+0100
TZNAME:CET
DTSTART:20251026T010000
END:STANDARD
BEGIN:DAYLIGHT
TZOFFSETFROM:+0100
TZOFFSETTO:+0200
TZNAME:CEST
DTSTART:20260329T010000
END:DAYLIGHT
BEGIN:STANDARD
TZOFFSETFROM:+0200
TZOFFSETTO:+0100
TZNAME:CET
DTSTART:20261025T010000
END:STANDARD
BEGIN:DAYLIGHT
TZOFFSETFROM:+0100
TZOFFSETTO:+0200
TZNAME:CEST
DTSTART:20270328T010000
END:DAYLIGHT
BEGIN:STANDARD
TZOFFSETFROM:+0200
TZOFFSETTO:+0100
TZNAME:CET
DTSTART:20271031T010000
END:STANDARD
END:VTIMEZONE
BEGIN:VEVENT
DTSTART;VALUE=DATE:20261012
DTEND;VALUE=DATE:20261016
DTSTAMP:20260422T105336
CREATED:20260416T065922Z
LAST-MODIFIED:20260416T065922Z
UID:10001116-1791763200-1792108799@www.femvents.at
SUMMARY:My inner Summit: Klarheit und Kraft auf 1500M
DESCRIPTION:Die Selbstführungs – Masterclass für weibliche Führungskräfte & Unternehmerinnen\nSei dabei: Inmitten der Stille des vigilius mountain resort auf 1500m lädt die Masterclass My Inner Summit dazu ein\, Selbstführung neu zu denken. Hin zu mehr Selbstbestimmung\, Klarheit und innerer Verbindung. \nIn einer Zeit hoher Geschwindigkeit\, komplexer Rollen und permanenter Erreichbarkeit verlieren viele Frauen den Kontakt zu dem\, was sie trägt und stärkt. In der Masterclass gewinnen Frauen in verantwortungsvollen Rollen Raum für innere Klarheit\, mentale Stärke und nachhaltige Veränderung – fern ab von To-do-Listen und Leistungsdruck. \nHard facts \nOrt: vigilius mountain resort\, Lana\, Südtirol (auf 1500m)\nAblauf: 12. – 15.Oktober\nTag 1: 18:30–22:00Uhr\nTag 2-4: ganztägig inkl. Abendprogramm \nDie Masterclass verbindet fundierte Inhalte aus Neurowissenschaft und Positiver Psychologie mit einem relevanten Mix aus Theorie\, Praxis und persönlicher Reflexion. Dasvigilius mountain resort als kraftvoller Rückzugsort und ausgewählte Naturwanderungen unterstützen dabei\, Abstand zu gewinnen\, Klarheit zu entwickeln und innere Stärke zu entfalten. Die Masterclass ist eine Entwicklungsreise für Frauen\, die mehr wollen als ein Seminar – einen Perspektivwechsel. \nInhalte im Überblick: \n\n„Erkenne was Dich trägt“: Stärken\, Werte\, Emotionen\n„Entfalte Deine Wirksamkeit“: Motivation\, Energiequellen\, inneres Team\n„Führe Dich selbst. Authentisch“: Sinn\, Resilienz\, Selbstmitgefühl\n„Deine Vision–Dein Weg“: (Self-) Leadership Manifest\nIm Anschluss: Einzelcoachings & Austauschformate\n\nAnmeldung \n\nAnmeldung: info@vigilius.it\nMehr erfahren: myinnersummit.com\nVereinbart bei Bedarf gerne ein unverbindliches Kennenlerngespräch bei delight@britastiegler.com oder julia@juliaoelgart.de\nPreis: ab EUR 3.650 (Kurs\, 4 Übernachtungen nach gewählter Kategorie\, HP\, alle Aktivitäten)
URL:https://www.femvents.at/event/my-inner-summit-klarheit-und-kraft-auf-1500m-2/
LOCATION:Vigilius Mountain Resort\, Lana\, Südtirol\, Lana\, 39011\, Italy
CATEGORIES:Österreichweit,Retreat
ATTACH;FMTTYPE=image/jpeg:https://www.femvents.at/wp-content/uploads/2026/01/sheconomy_Foto-ambitions_Sweater_Pulli_c_PhilippLipiarski.jpg
GEO:46.6130968;11.1563292
END:VEVENT
BEGIN:VEVENT
DTSTART;TZID=Europe/Vienna:20261016T180000
DTEND;TZID=Europe/Vienna:20261016T220000
DTSTAMP:20260422T105336
CREATED:20260407T074045Z
LAST-MODIFIED:20260414T073944Z
UID:10001048-1792173600-1792188000@www.femvents.at
SUMMARY:Bgld./ Neufeld LLL-BUSINESS Ladies Update von und mit LLL Obfrau Susanne E. Tichy
DESCRIPTION:🌸✨ Hallo liebe Unternehmerinnen & Business-Frauen ✨🌸 \nUnser Verein bietet den LLL Business Ladies viele Möglichkeiten\, sich zu präsentieren\, sichtbar zu werden und das Vereinsangebot optimal zu nutzen. \nDamit ihr genau wisst\, welche Chancen und Angebote euch im Verein zur Verfügung stehen\, starten wir heuer die neue Informationsreihe „LLL Business Ladies Update“. \nBei diesen Treffen stelle ich euch persönlich alle Angebote des Vereins vor – von Präsentationsmöglichkeiten bis hin zu gemeinsamen Aktionen. \nNach der Präsentation (ca. 90 Minuten) gibt es Raum für Fragen\, Austausch und gemütliches Netzwerken. \n💡 Das LLL Business Ladies Update ist kostenfrei und für alle Ladies zugänglich. \n\n       Einlass jeweils 18:00 Uhr | Beginn 18:30 Uhr\n💼 Gemeinsam wachsen.\n💬 Gemeinsam lernen.\n💖 Gemeinsam erfolgreich sein.\nIch freue mich darauf\, euch die vielen Möglichkeiten im Verein näherzubringen und gemeinsam zu schauen\, wie wir uns gegenseitig unterstützen können. \n📩 Bitte um Platzreservierung\ninfo@vereinlebenliebenlachen.at
URL:https://www.femvents.at/event/bgld-neufeld-lll-business-ladies-update-von-und-mit-lll-obfrau-susanne-e-tichy-2/
LOCATION:Neufeldersee Hotel&Restaurant\, Eisenstädter Straße 35\, Neufeld\, 2493
CATEGORIES:Burgenland,LLL
ATTACH;FMTTYPE=image/png:https://www.femvents.at/wp-content/uploads/2026/03/LLL-Business-Ladies-Update-Logo-zzVGKJ.png
ORGANIZER;CN="LEBEN%2C LIEBEN%2C LACHEN &#8211%3B endlich wei%C3%9F ich wie!":MAILTO:info@vereinlebenliebenlachen.at
GEO:47.8656397;16.3860933
X-APPLE-STRUCTURED-LOCATION;VALUE=URI;X-ADDRESS=Neufeldersee Hotel&Restaurant Eisenstädter Straße 35 Neufeld 2493;X-APPLE-RADIUS=500;X-TITLE=Eisenstädter Straße 35:geo:16.3860933,47.8656397
END:VEVENT
END:VCALENDAR