BEGIN:VCALENDAR
VERSION:2.0
PRODID:-//femvents.at - ECPv6.15.18//NONSGML v1.0//EN
CALSCALE:GREGORIAN
METHOD:PUBLISH
X-ORIGINAL-URL:https://www.femvents.at
X-WR-CALDESC:Veranstaltungen für femvents.at
REFRESH-INTERVAL;VALUE=DURATION:PT1H
X-Robots-Tag:noindex
X-PUBLISHED-TTL:PT1H
BEGIN:VTIMEZONE
TZID:Europe/Vienna
BEGIN:DAYLIGHT
TZOFFSETFROM:+0100
TZOFFSETTO:+0200
TZNAME:CEST
DTSTART:20250330T010000
END:DAYLIGHT
BEGIN:STANDARD
TZOFFSETFROM:+0200
TZOFFSETTO:+0100
TZNAME:CET
DTSTART:20251026T010000
END:STANDARD
BEGIN:DAYLIGHT
TZOFFSETFROM:+0100
TZOFFSETTO:+0200
TZNAME:CEST
DTSTART:20260329T010000
END:DAYLIGHT
BEGIN:STANDARD
TZOFFSETFROM:+0200
TZOFFSETTO:+0100
TZNAME:CET
DTSTART:20261025T010000
END:STANDARD
BEGIN:DAYLIGHT
TZOFFSETFROM:+0100
TZOFFSETTO:+0200
TZNAME:CEST
DTSTART:20270328T010000
END:DAYLIGHT
BEGIN:STANDARD
TZOFFSETFROM:+0200
TZOFFSETTO:+0100
TZNAME:CET
DTSTART:20271031T010000
END:STANDARD
END:VTIMEZONE
BEGIN:VEVENT
DTSTART;TZID=Europe/Vienna:20261021T180000
DTEND;TZID=Europe/Vienna:20261021T220000
DTSTAMP:20260422T122801
CREATED:20260407T074045Z
LAST-MODIFIED:20260414T073944Z
UID:10001049-1792605600-1792620000@www.femvents.at
SUMMARY:*ABGESAGT* BadenNÖ/ LLL-Frauen Tanz Treff für VIP’s und die\, die es noch werden wollen
DESCRIPTION:
URL:https://www.femvents.at/event/abgesagt-badennoe-lll-frauen-tanz-treff-fuer-vips-und-die-die-es-noch-werden-wollen/
LOCATION:LEZ – Leesdorfer Event Zentrum\, Göschlgasse 1\, Baden\, 2500
CATEGORIES:Burgenland,LLL-FrauenTanz Treff
ORGANIZER;CN="LEBEN%2C LIEBEN%2C LACHEN &#8211%3B endlich wei%C3%9F ich wie!":MAILTO:info@vereinlebenliebenlachen.at
GEO:48.003221;16.2491114
X-APPLE-STRUCTURED-LOCATION;VALUE=URI;X-ADDRESS=LEZ – Leesdorfer Event Zentrum Göschlgasse 1 Baden 2500;X-APPLE-RADIUS=500;X-TITLE=Göschlgasse 1:geo:16.2491114,48.003221
END:VEVENT
BEGIN:VEVENT
DTSTART;TZID=Europe/Vienna:20261021T183000
DTEND;TZID=Europe/Vienna:20261021T203000
DTSTAMP:20260422T122801
CREATED:20260128T113542Z
LAST-MODIFIED:20260128T113542Z
UID:10000729-1792607400-1792614600@www.femvents.at
SUMMARY:FRAU SEiN Seminar: Zyklusgesundheit und hormonfreie Verhütung
DESCRIPTION:Im Seminar wird medizinisch fundiertes Wissen über die physiologischen Abläufe des weiblichen Zyklus und deren Bedeutung für die reproduktive Gesundheit vermittelt. Es werden verschiedene hormonfreie Verhütungsmethoden vorgestellt\, sowie deren Wirkmechanismen\, Anwendungsvoraussetzungen und Wirksamkeit erläutert. \nZiel ist es\, Frauen evidenzbasierte Informationen an die Hand zu geben\, um individuelle und informierte Entscheidungen in Bezug auf ihre Wahl der Verhütungsmethode zu treffen. \nTerminanfrage unter:\nTel: 02822/2134020\nE-Mail: frausein@frau-ida.at \n\nÜber die Referentin\nDr. Lucia Will ist Fachärztin für Gynäkologie und Geburtshilfe.
URL:https://www.femvents.at/event/frau-sein-seminar-zyklusgesundheit-und-hormonfreie-verhuetung/
LOCATION:FRAU iDA\, Hauptplatz 16\, Zwettl\, Niederösterreich\, 3910\, Austria
CATEGORIES:Niederösterreich,Vortrag,Workshop
ATTACH;FMTTYPE=image/jpeg:https://www.femvents.at/wp-content/uploads/2026/01/Logo-FRAU-SEiN-7.jpg
ORGANIZER;CN="FRAU iDA":MAILTO:office@frau-ida.at
GEO:48.6041614;15.167567
X-APPLE-STRUCTURED-LOCATION;VALUE=URI;X-ADDRESS=FRAU iDA Hauptplatz 16 Zwettl Niederösterreich 3910 Austria;X-APPLE-RADIUS=500;X-TITLE=Hauptplatz 16:geo:15.167567,48.6041614
END:VEVENT
BEGIN:VEVENT
DTSTART;VALUE=DATE:20261024
DTEND;VALUE=DATE:20261026
DTSTAMP:20260422T122801
CREATED:20260109T101712Z
LAST-MODIFIED:20260109T101712Z
UID:10000657-1792800000-1792972799@www.femvents.at
SUMMARY:Grundlagenkurs Salzburg: Art Therapy Essentials
DESCRIPTION:„Kunst beginnt dort\, wo Worte enden.“ – Julia Wenderoth\nZwei Tage voller Farbe\, Intuition & Selbstausdruck.Dieser Grundlagenkurs öffnet dir die Welt der Kunsttherapie – als Tool für persönliche Entwicklung\, kreative Begleitung und tiefe Selbstwahrnehmung. \nDu brauchst keine Vorkenntnisse – nur Lust auf kreatives Forschen und neue Perspektiven.
URL:https://www.femvents.at/event/grundlagenkurs-salzburg-art-therapy-essentials-2/
LOCATION:liebestrunken I SELF LOVE CLUB\, Lederergasse 3\, Salzburg\, Salzburg\, 5020\, Austria
CATEGORIES:Salzburg,Workshop
ATTACH;FMTTYPE=image/jpeg:https://www.femvents.at/wp-content/uploads/2026/01/JulyHellbrunnSchmuck28-scaled.jpg
ORGANIZER;CN="SELF LOVE CLUB @liebestrunken":MAILTO:hey@liebestrunken.com
GEO:47.802268;13.0445985
X-APPLE-STRUCTURED-LOCATION;VALUE=URI;X-ADDRESS=liebestrunken I SELF LOVE CLUB Lederergasse 3 Salzburg Salzburg 5020 Austria;X-APPLE-RADIUS=500;X-TITLE=Lederergasse 3:geo:13.0445985,47.802268
END:VEVENT
BEGIN:VEVENT
DTSTART;TZID=Europe/Vienna:20261025T110000
DTEND;TZID=Europe/Vienna:20261025T140000
DTSTAMP:20260422T122801
CREATED:20260407T074045Z
LAST-MODIFIED:20260414T073944Z
UID:10001050-1792926000-1792936800@www.femvents.at
SUMMARY:Bgld./Purbach LLL-Family & Friends Treff mit LIVE MUSIK „Sandhouse“ mit LLL-Botschafterin Veronika Sederl
DESCRIPTION:🌼 Lust\, einfach mal rauszukommen und neue Menschen kennenlernen\, dann ist der Family & Friends Treff genau das richtige für dich. \n🌸 Lachen\, plaudern\, durchatmen & neue Energie tanken? \nEin Ort für echte Begegnungen\, ehrliche Gespräche und diese kleinen Herzensmomente\, die so unglaublich gut tun 💫\n🌷 Egal ob du ganz neu bist oder schon öfter dabei warst –\n🧁 komm genauso\, wie du bist!\nHier ist Platz für dich\, dein Lächeln und alles\, was dich gerade bewegt 🫶\n💃 Wir freuen uns riesig auf dich! 💕 \nBitte Platzreservierung 🤗\ninfo@vereinlebenliebenlachen.at
URL:https://www.femvents.at/event/bgld-purbach-lll-family-friends-treff-mit-live-musik-sandhouse-mit-lll-botschafterin-veronika-sederl-6/
LOCATION:die Sandhofer Heurigen-Restaurant  Birgit Müller-Sandhofer\, Am Kellerplatz 47K\, Purbach\, 7083\, Austria
CATEGORIES:Burgenland,LLL Family & Friends Treff
ATTACH;FMTTYPE=image/png:https://www.femvents.at/wp-content/uploads/2026/03/Sandhofer-2026-lp1Tif.png
ORGANIZER;CN="LEBEN%2C LIEBEN%2C LACHEN &#8211%3B endlich wei%C3%9F ich wie!":MAILTO:info@vereinlebenliebenlachen.at
GEO:47.9161318;16.6925972
X-APPLE-STRUCTURED-LOCATION;VALUE=URI;X-ADDRESS=die Sandhofer Heurigen-Restaurant  Birgit Müller-Sandhofer Am Kellerplatz 47K Purbach 7083 Austria;X-APPLE-RADIUS=500;X-TITLE=Am Kellerplatz 47K:geo:16.6925972,47.9161318
END:VEVENT
END:VCALENDAR