BEGIN:VCALENDAR
VERSION:2.0
PRODID:-//femvents.at - ECPv6.15.18//NONSGML v1.0//EN
CALSCALE:GREGORIAN
METHOD:PUBLISH
X-ORIGINAL-URL:https://www.femvents.at
X-WR-CALDESC:Veranstaltungen für femvents.at
REFRESH-INTERVAL;VALUE=DURATION:PT1H
X-Robots-Tag:noindex
X-PUBLISHED-TTL:PT1H
BEGIN:VTIMEZONE
TZID:Europe/Vienna
BEGIN:DAYLIGHT
TZOFFSETFROM:+0100
TZOFFSETTO:+0200
TZNAME:CEST
DTSTART:20250330T010000
END:DAYLIGHT
BEGIN:STANDARD
TZOFFSETFROM:+0200
TZOFFSETTO:+0100
TZNAME:CET
DTSTART:20251026T010000
END:STANDARD
BEGIN:DAYLIGHT
TZOFFSETFROM:+0100
TZOFFSETTO:+0200
TZNAME:CEST
DTSTART:20260329T010000
END:DAYLIGHT
BEGIN:STANDARD
TZOFFSETFROM:+0200
TZOFFSETTO:+0100
TZNAME:CET
DTSTART:20261025T010000
END:STANDARD
BEGIN:DAYLIGHT
TZOFFSETFROM:+0100
TZOFFSETTO:+0200
TZNAME:CEST
DTSTART:20270328T010000
END:DAYLIGHT
BEGIN:STANDARD
TZOFFSETFROM:+0200
TZOFFSETTO:+0100
TZNAME:CET
DTSTART:20271031T010000
END:STANDARD
END:VTIMEZONE
BEGIN:VEVENT
DTSTART;TZID=Europe/Vienna:20261125T183000
DTEND;TZID=Europe/Vienna:20261125T203000
DTSTAMP:20260422T124458
CREATED:20260128T113622Z
LAST-MODIFIED:20260128T113622Z
UID:10000731-1795631400-1795638600@www.femvents.at
SUMMARY:FRAU SEiN Seminar: Sicher und selbstbestimmt – Gewaltprävention für Frauen
DESCRIPTION:In diesem Seminar werden grundlegende Aufklärung zu Gewalt\,\nverschiedenen Gewaltformen sowie dem Gewaltkreislauf und\ndessen Auswirkungen auf Frauen vermittelt. Durch\nRessourcenarbeit und praktische Übungen lernen\nTeilnehmerinnen\, Warnsignale frühzeitig zu erkennen\, ihre\neigenen Stärken zu aktivieren und sich in herausfordernden\nSituationen zu behaupten. Informationsinput wird mit Raum für\nAustausch und Fragen kombiniert\, um Verständnis für Frauen in\nGewaltbeziehungen zu fördern und individuelle\nHandlungsmöglichkeiten zu entwickeln. Ziel ist es\, Frauen zu\nsensibilisieren\, sie zu stärken und ihre Fähigkeit zur\nselbstbestimmten und sicheren Lebensgestaltung zu unterstützen. \nTerminanfrage unter:\nTel: 02822/2134020\nE-Mail: frausein@frau-ida.at \n\nÜber die Referentin\nAndrea Lienbacher ist Polizistin/ jahrelange Präventionsbeamtin für Gewalt in der Privatsphäre\, Dipl. Mentaltrainerin\, Dipl. Lebens- und Sozialberaterin u.S.
URL:https://www.femvents.at/event/frau-sein-seminar-sicher-und-selbstbestimmt-gewaltpraevention-fuer-frauen/
LOCATION:FRAU iDA\, Hauptplatz 16\, Zwettl\, Niederösterreich\, 3910\, Austria
CATEGORIES:Niederösterreich,Vortrag,Workshop
ATTACH;FMTTYPE=image/jpeg:https://www.femvents.at/wp-content/uploads/2026/01/Logo-FRAU-SEiN-8.jpg
ORGANIZER;CN="FRAU iDA":MAILTO:office@frau-ida.at
GEO:48.6041614;15.167567
X-APPLE-STRUCTURED-LOCATION;VALUE=URI;X-ADDRESS=FRAU iDA Hauptplatz 16 Zwettl Niederösterreich 3910 Austria;X-APPLE-RADIUS=500;X-TITLE=Hauptplatz 16:geo:15.167567,48.6041614
END:VEVENT
BEGIN:VEVENT
DTSTART;VALUE=DATE:20261127
DTEND;VALUE=DATE:20261130
DTSTAMP:20260422T124458
CREATED:20260109T102802Z
LAST-MODIFIED:20260109T102802Z
UID:10000663-1795737600-1795996799@www.femvents.at
SUMMARY:Lehrgang Selbstliebe-Trainerin im Seminar
DESCRIPTION:Werde Selbstliebe-Trainerin und verändere (dein) Leben\n\n\n\n\nWir sind überzeugt: Du kannst nur so tief mit anderen gehen\, wie du selbst gegangen bist. \n\n\nViele Ausbildungen lehren Theorien – aber Transformation passiert in dir. Unser Zertifikat-Lehrgang führt dich durch deine eigene Veränderung\, bevor du sie an andere weitergibst. Denn du kannst Selbstliebe nicht nur erklären. Du musst sie selbst erleben. \nDiese Ausbildung ist für dich\, wenn du nicht nur Impulse geben möchtest\, sondern echte Veränderung begleiten willst … bei dir selbst und in anderen. Wenn du nicht nur über Selbstliebe sprechen möchtest\, sondern sie in jeder Zelle deines Körpers spüren willst\, um als Wegweiser für andere zu dienen. Wenn du bereit bist\, tief zu gehen – in dein eigenes Erleben\, in deine Blockaden und in dein persönliches Wachstum. Denn nur wer diesen Weg selbst geht\, kann ihn auch für andere öffnen und sie auf ihrer Reise zu wahrer Selbstliebe begleiten. \nUnsere Ausbildung bietet dir die Möglichkeit\, dich nicht nur weiterzuentwickeln\, sondern Menschen mit einer hochwertigen\, fundierten Methodik und tiefgreifendem Wissen zu begleiten. Du wirst lernen\, wie du Selbstliebe nicht nur verstehst\, sondern sie als lebensverändernde Kraft erlebst und weitergibst.
URL:https://www.femvents.at/event/lehrgang-selbstliebe-trainerin-im-seminar-2/
LOCATION:liebestrunken I SELF LOVE CLUB\, Lederergasse 3\, Salzburg\, Salzburg\, 5020\, Austria
CATEGORIES:Salzburg,Workshop
ATTACH;FMTTYPE=image/jpeg:https://www.femvents.at/wp-content/uploads/2026/01/K2_9706-1-scaled.jpg
ORGANIZER;CN="SELF LOVE CLUB @liebestrunken":MAILTO:hey@liebestrunken.com
GEO:47.802268;13.0445985
X-APPLE-STRUCTURED-LOCATION;VALUE=URI;X-ADDRESS=liebestrunken I SELF LOVE CLUB Lederergasse 3 Salzburg Salzburg 5020 Austria;X-APPLE-RADIUS=500;X-TITLE=Lederergasse 3:geo:13.0445985,47.802268
END:VEVENT
END:VCALENDAR