BEGIN:VCALENDAR
VERSION:2.0
PRODID:-//femvents.at - ECPv6.15.18//NONSGML v1.0//EN
CALSCALE:GREGORIAN
METHOD:PUBLISH
X-WR-CALNAME:femvents.at
X-ORIGINAL-URL:https://www.femvents.at
X-WR-CALDESC:Veranstaltungen für femvents.at
REFRESH-INTERVAL;VALUE=DURATION:PT1H
X-Robots-Tag:noindex
X-PUBLISHED-TTL:PT1H
BEGIN:VTIMEZONE
TZID:Europe/Vienna
BEGIN:DAYLIGHT
TZOFFSETFROM:+0100
TZOFFSETTO:+0200
TZNAME:CEST
DTSTART:20250330T010000
END:DAYLIGHT
BEGIN:STANDARD
TZOFFSETFROM:+0200
TZOFFSETTO:+0100
TZNAME:CET
DTSTART:20251026T010000
END:STANDARD
BEGIN:DAYLIGHT
TZOFFSETFROM:+0100
TZOFFSETTO:+0200
TZNAME:CEST
DTSTART:20260329T010000
END:DAYLIGHT
BEGIN:STANDARD
TZOFFSETFROM:+0200
TZOFFSETTO:+0100
TZNAME:CET
DTSTART:20261025T010000
END:STANDARD
BEGIN:DAYLIGHT
TZOFFSETFROM:+0100
TZOFFSETTO:+0200
TZNAME:CEST
DTSTART:20270328T010000
END:DAYLIGHT
BEGIN:STANDARD
TZOFFSETFROM:+0200
TZOFFSETTO:+0100
TZNAME:CET
DTSTART:20271031T010000
END:STANDARD
END:VTIMEZONE
BEGIN:VEVENT
DTSTART;TZID=Europe/Vienna:20261201T183000
DTEND;TZID=Europe/Vienna:20261201T203000
DTSTAMP:20260422T122526
CREATED:20260416T071057Z
LAST-MODIFIED:20260416T071057Z
UID:10001122-1796149800-1796157000@www.femvents.at
SUMMARY:Selbsthilfegruppentreffen für Endometriosebetroffene
DESCRIPTION:Für Anmeldungen zu Gruppentreffen in Wien schreibe bitte formlos an: endopower.wien@gmail.com\nUnser Ziel – Ablauf eines Treffens\nUnsere SHG möchte einen offenen und lockeren Austausch bieten und verhindern\, dass sich Endometriose Betroffene alleine fühlen. \nAlle zwei Monate findet das Austauschcafé statt\, in dessen Rahmen die Teilnehmenden ca zwei Stunden Zeit haben ihre Erfahrungen und Sorgen zu teilen und sich gegenseitig Tipps zu geben (einander zu empowern). \nWir organisieren derzeit keine Vorträge oder geben Themen vor – diese ergeben sich in der (Gruppen-) Diskussion.
URL:https://www.femvents.at/event/selbsthilfegruppentreffen-fuer-endometriosebetroffene-7/
LOCATION:Wien\, wien\, Wien\, 1060\, Austria
CATEGORIES:After Work,Frauenkreis,Meetup,Netzwerk-Treffen,Stammtisch,Wien
ATTACH;FMTTYPE=image/png:https://www.femvents.at/wp-content/uploads/2025/10/Cafe.png
ORGANIZER;CN="EndoPower.Wien":MAILTO:endopower.wien@gmail.com
GEO:48.1945985;16.3504336
END:VEVENT
BEGIN:VEVENT
DTSTART;TZID=Europe/Vienna:20261202T180000
DTEND;TZID=Europe/Vienna:20261202T200000
DTSTAMP:20260422T122526
CREATED:20260407T074045Z
LAST-MODIFIED:20260414T073944Z
UID:10001052-1796234400-1796241600@www.femvents.at
SUMMARY:Bgld./Neufeld LLL-BUSINESS Frauentreff mit LLL-Botschafterin Susanne E. Tichy
DESCRIPTION:🌸✨ Hallo liebe Unternehmerinnen & Business-Frauen ✨🌸 \n🌼 Lust auf Austausch auf Augenhöhe?\n🌸 Inspirierende Gespräche\, neue Impulse & wertvolle Kontakte?\nDann komm zu unserem LLL-BUSINESS FRAUENTREFF 💚🧡🩷 \nEin Raum für Vernetzung\, Erfahrungsaustausch und echtes Miteinander 💫\n🌷 Egal ob selbstständig\, in Gründung oder beruflich neu orientiert –\n🧁 komm genau so\, wie du bist!\nHier ist Platz für deine Ideen\, deine Visionen und alles\, was dich beruflich bewegt 🫶 \n💼 Gemeinsam wachsen.\n💬 Gemeinsam lernen.\n💖 Gemeinsam erfolgreich sein. \n💃 Wir freuen uns sehr auf dich! \n📩 Bitte um Platzreservierung\ninfo@vereinlebenliebenlachen.at
URL:https://www.femvents.at/event/bgld-neufeld-lll-business-frauentreff-mit-lll-botschafterin-susanne-e-tichy-5/
LOCATION:Neufeldersee Hotel&Restaurant\, Eisenstädter Straße 35\, Neufeld\, 2493
CATEGORIES:Burgenland,LLL
ATTACH;FMTTYPE=image/jpeg:https://www.femvents.at/wp-content/uploads/2026/03/Business-Treff-Neufeld-CycA2i.jpg
ORGANIZER;CN="LEBEN%2C LIEBEN%2C LACHEN &#8211%3B endlich wei%C3%9F ich wie!":MAILTO:info@vereinlebenliebenlachen.at
GEO:47.8656397;16.3860933
X-APPLE-STRUCTURED-LOCATION;VALUE=URI;X-ADDRESS=Neufeldersee Hotel&Restaurant Eisenstädter Straße 35 Neufeld 2493;X-APPLE-RADIUS=500;X-TITLE=Eisenstädter Straße 35:geo:16.3860933,47.8656397
END:VEVENT
BEGIN:VEVENT
DTSTART;TZID=Europe/Vienna:20261204T190000
DTEND;TZID=Europe/Vienna:20261204T233000
DTSTAMP:20260422T122526
CREATED:20260210T140204Z
LAST-MODIFIED:20260218T081551Z
UID:10000798-1796410800-1796427000@www.femvents.at
SUMMARY:Ladies Night
DESCRIPTION:Wir sind die Frauengruppe der HOSI Salzburg. Seit 2015 organisieren wir jeden Monat einen Abend nur für Frauen*\, unabhängig von sexueller Orientierung. Die Ladies Night bietet queeren Frauen* in Salzburg einen geschützten Raum\, um gemeinsam zu feiern oder einen gemütlichen Abend miteinander zu verbringen. \nWir freuen uns immer über neue Gesichter – kommt gerne vorbei! \nWas machen wir?\nVon Getränke-Specials über Lesbenfilmnächte\, Tanzabende\, Lesungen\, bis hin zu gemütlichem Beisammensein\, das alles gibt es jeden ersten Freitag im Monat\, speziell für Frauen*  in der HOSI Salzburg.* \n*Die „Ladies Night“ richtet sich an Frauen jeglicher sexuellen Orientierung  sowie trans*\, inter* und nicht-binäre Menschen.
URL:https://www.femvents.at/event/ladies-night-10/
LOCATION:HOSI Salzburg – Queere Interessevertretung\, Franz-Josef-Straße 22\, Salzburg\, Salzburg\, 5020\, Austria
CATEGORIES:Salzburg
ATTACH;FMTTYPE=image/png:https://www.femvents.at/wp-content/uploads/2026/02/Ladies-Night.png
ORGANIZER;CN="HOSI Salzburg - Queere Interessenvertretung":MAILTO:office@hosi.or.at
GEO:47.8060803;13.0482441
X-APPLE-STRUCTURED-LOCATION;VALUE=URI;X-ADDRESS=HOSI Salzburg – Queere Interessevertretung Franz-Josef-Straße 22 Salzburg Salzburg 5020 Austria;X-APPLE-RADIUS=500;X-TITLE=Franz-Josef-Straße 22:geo:13.0482441,47.8060803
END:VEVENT
END:VCALENDAR