BEGIN:VCALENDAR
VERSION:2.0
PRODID:-//femvents.at - ECPv6.15.18//NONSGML v1.0//EN
CALSCALE:GREGORIAN
METHOD:PUBLISH
X-WR-CALNAME:femvents.at
X-ORIGINAL-URL:https://www.femvents.at
X-WR-CALDESC:Veranstaltungen für femvents.at
REFRESH-INTERVAL;VALUE=DURATION:PT1H
X-Robots-Tag:noindex
X-PUBLISHED-TTL:PT1H
BEGIN:VTIMEZONE
TZID:Europe/Vienna
BEGIN:DAYLIGHT
TZOFFSETFROM:+0100
TZOFFSETTO:+0200
TZNAME:CEST
DTSTART:20250330T010000
END:DAYLIGHT
BEGIN:STANDARD
TZOFFSETFROM:+0200
TZOFFSETTO:+0100
TZNAME:CET
DTSTART:20251026T010000
END:STANDARD
BEGIN:DAYLIGHT
TZOFFSETFROM:+0100
TZOFFSETTO:+0200
TZNAME:CEST
DTSTART:20260329T010000
END:DAYLIGHT
BEGIN:STANDARD
TZOFFSETFROM:+0200
TZOFFSETTO:+0100
TZNAME:CET
DTSTART:20261025T010000
END:STANDARD
BEGIN:DAYLIGHT
TZOFFSETFROM:+0100
TZOFFSETTO:+0200
TZNAME:CEST
DTSTART:20270328T010000
END:DAYLIGHT
BEGIN:STANDARD
TZOFFSETFROM:+0200
TZOFFSETTO:+0100
TZNAME:CET
DTSTART:20271031T010000
END:STANDARD
END:VTIMEZONE
BEGIN:VEVENT
DTSTART;TZID=Europe/Vienna:20260130T090000
DTEND;TZID=Europe/Vienna:20260130T170000
DTSTAMP:20260422T211239
CREATED:20260112T101615Z
LAST-MODIFIED:20260112T101650Z
UID:10000675-1769763600-1769792400@www.femvents.at
SUMMARY:OWN YOUR STAGE - Sichtbarkeit für Business-Frauen
DESCRIPTION:High-Impact-Erlebnis für Business-Frauen \n\n\n\n\n\n\n\n\nDein Rundum-Paket: \n\n\n\n\n\n\n\n\n\n\n\n\n\nVoice & Presence Coaching – Lautstärke\,\nAtmung\, Standing\, Souveränität\nStyling & Wirkung – Personal Color Look\, Make-\nUp & Styling abgestimmt auf deine Brand\nBranding-Shooting – Authentische Bilder\, die\nPersönlichkeit und Expertise zeigen\n\n\n\n\n\n\n\n\n\n\n\n\n\n\n\n\n\nWarum teilnehmen? \n\n\n\n\n\n\n\n\n\n\n\n\n\nSag „Adieu!“ zu Unsicherheiten und zeige deine\nvolle Kraft\nErlebe sofort spürbare Wirkung auf Stimme\,\nAuftreten und Präsenz\nHol dir hochwertige Bilder\, die deine\nPersönlichkeit und Expertise zeigen\nTrete selbstbewusst und authentisch auf\n\nWir begleiten dich und führen dich durch deinen Termin: \n\nMonika Lämmerer – Voice-Coach\nSelina Palla – Fotografin\nJacquelin Simon – Stylistin\n\nWir freuen uns auf dich! \n 
URL:https://www.femvents.at/event/own-your-stage-sichtbarkeit-fuer-business-frauen/
LOCATION:1060 Wien\, Haydngasse 21/L01\, Haydngasse 21/L01\, 1060 Wien\, Wien\, 1060\, Austria
CATEGORIES:Coaching,Frauenkreis,Meetup,Wien
ATTACH;FMTTYPE=image/jpeg:https://www.femvents.at/wp-content/uploads/2026/01/Own-your-Stage-3.jpeg
GEO:48.1943937;16.3448303
X-APPLE-STRUCTURED-LOCATION;VALUE=URI;X-ADDRESS=1060 Wien Haydngasse 21/L01 Haydngasse 21/L01 1060 Wien Wien 1060 Austria;X-APPLE-RADIUS=500;X-TITLE=Haydngasse 21/L01:geo:16.3448303,48.1943937
END:VEVENT
END:VCALENDAR