BEGIN:VCALENDAR
VERSION:2.0
PRODID:-//femvents.at - ECPv6.15.18//NONSGML v1.0//EN
CALSCALE:GREGORIAN
METHOD:PUBLISH
X-ORIGINAL-URL:https://www.femvents.at
X-WR-CALDESC:Veranstaltungen für femvents.at
REFRESH-INTERVAL;VALUE=DURATION:PT1H
X-Robots-Tag:noindex
X-PUBLISHED-TTL:PT1H
BEGIN:VTIMEZONE
TZID:Europe/Vienna
BEGIN:DAYLIGHT
TZOFFSETFROM:+0100
TZOFFSETTO:+0200
TZNAME:CEST
DTSTART:20250330T010000
END:DAYLIGHT
BEGIN:STANDARD
TZOFFSETFROM:+0200
TZOFFSETTO:+0100
TZNAME:CET
DTSTART:20251026T010000
END:STANDARD
BEGIN:DAYLIGHT
TZOFFSETFROM:+0100
TZOFFSETTO:+0200
TZNAME:CEST
DTSTART:20260329T010000
END:DAYLIGHT
BEGIN:STANDARD
TZOFFSETFROM:+0200
TZOFFSETTO:+0100
TZNAME:CET
DTSTART:20261025T010000
END:STANDARD
BEGIN:DAYLIGHT
TZOFFSETFROM:+0100
TZOFFSETTO:+0200
TZNAME:CEST
DTSTART:20270328T010000
END:DAYLIGHT
BEGIN:STANDARD
TZOFFSETFROM:+0200
TZOFFSETTO:+0100
TZNAME:CET
DTSTART:20271031T010000
END:STANDARD
END:VTIMEZONE
BEGIN:VEVENT
DTSTART;TZID=Europe/Vienna:20260305T193000
DTEND;TZID=Europe/Vienna:20260305T223000
DTSTAMP:20260421T140921
CREATED:20260302T120323Z
LAST-MODIFIED:20260302T120323Z
UID:10000866-1772739000-1772749800@www.femvents.at
SUMMARY:Special Screening Girls & Gods
DESCRIPTION:Girls & Gods begleitet die Aktivistin Inna Shevchenko auf einer bewegenden Reise vom radikalen Protest hin zum Dialog. Im Austausch mit Priesterinnen\, Imaminnen\, Rabbinerinnen und Theologinnen erkundet der Film das Spannungsfeld zwischen Feminismus und Religion und sucht nach neuen\, solidarischen Perspektive – ein Thema\, das aktueller und brisanter denn je ist. \n\n\nIm Anschluss Gespräch mit Inna Shevchenko\, Regisseurin Verena Soltiz und der feministischen Theologin Linda Kreuzer.\nInfo \n\n\nTickets
URL:https://www.femvents.at/event/special-screening-girls-gods/
LOCATION:1090\, Votivkino\, Währingerstraße 12\, Wien\, Wien\, 1090\, Austria
CATEGORIES:Wien
ATTACH;FMTTYPE=image/jpeg:https://www.femvents.at/wp-content/uploads/2026/03/GirlsAndGods_4K-MainStill-©-Golden-Girls-Film-scaled.jpeg
GEO:48.2167885;16.3600371
X-APPLE-STRUCTURED-LOCATION;VALUE=URI;X-ADDRESS=1090 Votivkino Währingerstraße 12 Wien Wien 1090 Austria;X-APPLE-RADIUS=500;X-TITLE=Währingerstraße 12:geo:16.3600371,48.2167885
END:VEVENT
END:VCALENDAR