BEGIN:VCALENDAR
VERSION:2.0
PRODID:-//femvents.at - ECPv6.15.18//NONSGML v1.0//EN
CALSCALE:GREGORIAN
METHOD:PUBLISH
X-ORIGINAL-URL:https://www.femvents.at
X-WR-CALDESC:Veranstaltungen für femvents.at
REFRESH-INTERVAL;VALUE=DURATION:PT1H
X-Robots-Tag:noindex
X-PUBLISHED-TTL:PT1H
BEGIN:VTIMEZONE
TZID:Europe/Vienna
BEGIN:DAYLIGHT
TZOFFSETFROM:+0100
TZOFFSETTO:+0200
TZNAME:CEST
DTSTART:20250330T010000
END:DAYLIGHT
BEGIN:STANDARD
TZOFFSETFROM:+0200
TZOFFSETTO:+0100
TZNAME:CET
DTSTART:20251026T010000
END:STANDARD
BEGIN:DAYLIGHT
TZOFFSETFROM:+0100
TZOFFSETTO:+0200
TZNAME:CEST
DTSTART:20260329T010000
END:DAYLIGHT
BEGIN:STANDARD
TZOFFSETFROM:+0200
TZOFFSETTO:+0100
TZNAME:CET
DTSTART:20261025T010000
END:STANDARD
BEGIN:DAYLIGHT
TZOFFSETFROM:+0100
TZOFFSETTO:+0200
TZNAME:CEST
DTSTART:20270328T010000
END:DAYLIGHT
BEGIN:STANDARD
TZOFFSETFROM:+0200
TZOFFSETTO:+0100
TZNAME:CET
DTSTART:20271031T010000
END:STANDARD
END:VTIMEZONE
BEGIN:VEVENT
DTSTART;TZID=Europe/Vienna:20260425T100000
DTEND;TZID=Europe/Vienna:20260425T133000
DTSTAMP:20260425T184807
CREATED:20260415T060319Z
LAST-MODIFIED:20260415T060438Z
UID:10001082-1777111200-1777123800@www.femvents.at
SUMMARY:Karotte küsst Kosmetik
DESCRIPTION:Weniger Inhaltsstoffe. Mehr Wirkung.\nDeine Haut braucht keine 10 Produkte.\nSie braucht die richtigen.\nIm Workshop erfährst du: \n\nwas deiner Haut wirklich gut tut\nwelche Inhaltsstoffe du meiden solltest\nwie du deine Pflege selbst herstellst\n\nDu nimmst 3 selbstgemachte Pflegeprodukte mit nach Hause.
URL:https://www.femvents.at/event/karotte-kuesst-kosmetik/
LOCATION:7033 Pöttsching\, Raiffeisengasse 5\, Pöttsching\, Burgenland\, 7033\, Austria
CATEGORIES:Burgenland,Kurs,Workshop
ATTACH;FMTTYPE=image/png:https://www.femvents.at/wp-content/uploads/2026/04/Karotte-kuesst-Kosmetik.png
ORGANIZER;CN="Alexandra Winkler":MAILTO:hallo@dreimalgruen.at
GEO:47.805975;16.3766032
X-APPLE-STRUCTURED-LOCATION;VALUE=URI;X-ADDRESS=7033 Pöttsching Raiffeisengasse 5 Pöttsching Burgenland 7033 Austria;X-APPLE-RADIUS=500;X-TITLE=Raiffeisengasse 5:geo:16.3766032,47.805975
END:VEVENT
END:VCALENDAR