BEGIN:VCALENDAR
VERSION:2.0
PRODID:-//femvents.at - ECPv6.15.18//NONSGML v1.0//EN
CALSCALE:GREGORIAN
METHOD:PUBLISH
X-WR-CALNAME:femvents.at
X-ORIGINAL-URL:https://www.femvents.at
X-WR-CALDESC:Veranstaltungen für femvents.at
REFRESH-INTERVAL;VALUE=DURATION:PT1H
X-Robots-Tag:noindex
X-PUBLISHED-TTL:PT1H
BEGIN:VTIMEZONE
TZID:Europe/Vienna
BEGIN:DAYLIGHT
TZOFFSETFROM:+0100
TZOFFSETTO:+0200
TZNAME:CEST
DTSTART:20250330T010000
END:DAYLIGHT
BEGIN:STANDARD
TZOFFSETFROM:+0200
TZOFFSETTO:+0100
TZNAME:CET
DTSTART:20251026T010000
END:STANDARD
BEGIN:DAYLIGHT
TZOFFSETFROM:+0100
TZOFFSETTO:+0200
TZNAME:CEST
DTSTART:20260329T010000
END:DAYLIGHT
BEGIN:STANDARD
TZOFFSETFROM:+0200
TZOFFSETTO:+0100
TZNAME:CET
DTSTART:20261025T010000
END:STANDARD
BEGIN:DAYLIGHT
TZOFFSETFROM:+0100
TZOFFSETTO:+0200
TZNAME:CEST
DTSTART:20270328T010000
END:DAYLIGHT
BEGIN:STANDARD
TZOFFSETFROM:+0200
TZOFFSETTO:+0100
TZNAME:CET
DTSTART:20271031T010000
END:STANDARD
END:VTIMEZONE
BEGIN:VEVENT
DTSTART;TZID=Europe/Vienna:20260516T120000
DTEND;TZID=Europe/Vienna:20260516T150000
DTSTAMP:20260422T154307
CREATED:20260331T150506Z
LAST-MODIFIED:20260331T150514Z
UID:10000973-1778932800-1778943600@www.femvents.at
SUMMARY:UNITY - a new way of relating
DESCRIPTION:UNITY — a new way of relating\n\n\n\n\n\n\n\n\n\n\n\n\n\n\n\n\n\n\n\nIn a world that constantly pulls us into speed\, noise\, and distraction\, many of us feel increasingly disconnected.\nAnd often times our relationships suffer the consequences of it.  Intimacy begins to feel distant and connection starts to feel effortful.\n\nMost relationships don’t end because love disappears. They slowly suffocate because sensitivity does.\nThe ability to truly feel another person. To stay open when something triggers you\, instead of closing or defending. That sensitivity is what makes intimacy real. When it’s gone\, even the most loving relationship starts to feel shallow.\n\nAnd here is what most people never see:\n\nThe reason sensitivity closes is rarely about the relationship itself. It lives deeper in the body.\nIn the patterns\, imprints and old stories that were formed long before this partner\, this relationship\, or this moment.\n\nExperiences where we opened and were hurt. Where we loved and were left. Over time\, the body learned to protect itself from all of that. And in doing so\, it also learned to close itself off from the very thing it longs for most.\n\nThis is why we keep attracting partners who can’t fully meet us. This is why we can be in a relationship and still feel completely alone.  This is why intimacy\, real intimacy – feels just out of reach.\n\nUNITY is an immersive 3 hour workshop that opens a new depth of intimacy.\n\nIn this space\, we enter a field of consciousness. Through a body-based process\, the body’s protective patterns begin to surface and release naturally.\nAs that happens\, something essential gets restored:\n\nThe feminine and masculine poles within you begin to rebalance. The capacity to feel and to be felt by another\, to give and to receive\, to lead and to surrender\, returns. And as those poles come back into harmony\, the body goes through a kind of reset.\n\nOld imprints around love begin to shed. Closed places begin to open. And a new way of relating\, one rooted in genuine sensitivity and presence\, becomes available.\nUNITY is an invitation – back to sensitivity\, back to presence\, back to a love that can truly be felt.\nWhether you are in a relationship or not\, if you feel the longing for deeper connection\, this space is for you.\n\n\n𝗗𝗲𝘁𝗮𝗶𝗹𝘀:\n\n\n 📅 Date: 16.05\n 🕰 Time: 12:00\n🪞 Duration: 3 hours\n ♾️ Contribution: 66€\n\n\n\n Open to everyone \n\nIf you feel the call to join\,please register via the form below or contact me on WhatsApp.\n𝗥𝗲𝗴𝗶𝘀𝘁𝗿𝗮𝘁𝗶𝗼𝗻: https://forms.gle/25seXmx4RWexyXUh6\nWhatsApp: +43 664 480 8595Instagram: @biancarivai\n\n\n\n𝘈𝘣𝘰𝘶𝘵 𝘉𝘪𝘢𝘯𝘤𝘢: \nBianca supports individuals and couples in finding their way back to genuine intimacy\, through a process of deep reorganisation in the body and nervous system\, where the feminine and masculine poles within return to greater coherence\, and the capacity to truly feel and connect is restored. \nRooted in the teachings of the impersonal dimension as transmitted by Ivan Rohe\, her facilitation is less about technique and more about opening a field in which deep sensitivity and true bonding can emerge. \nWith a background in psychotherapy\, somatic bodywork\, and tantric practice\, she works in service of a deeper\, more honest way of relating\, one that honours the feminine and masculine as living forces within us all. \n\n\n\n\n\n\n\n\n\n\n\n\n\n\n\n\nHer deeper work lives inside The Temple Path\, for those who are ready to experience the depth of union their soul has always known was possible.
URL:https://www.femvents.at/event/unity-a-new-way-of-relating/
LOCATION:Abuelas Sinhas Sanctuary\, Tannengasse 1\, Wien\, Wien\, 1150\, Austria
CATEGORIES:Coaching,Meditation,Wien,Workshop
ATTACH;FMTTYPE=image/png:https://www.femvents.at/wp-content/uploads/2026/03/unit.png
GEO:48.1968795;16.3324293
X-APPLE-STRUCTURED-LOCATION;VALUE=URI;X-ADDRESS=Abuelas Sinhas Sanctuary Tannengasse 1 Wien Wien 1150 Austria;X-APPLE-RADIUS=500;X-TITLE=Tannengasse 1:geo:16.3324293,48.1968795
END:VEVENT
END:VCALENDAR