BEGIN:VCALENDAR
VERSION:2.0
PRODID:-//femvents.at - ECPv6.15.18//NONSGML v1.0//EN
CALSCALE:GREGORIAN
METHOD:PUBLISH
X-ORIGINAL-URL:https://www.femvents.at
X-WR-CALDESC:Veranstaltungen für femvents.at
REFRESH-INTERVAL;VALUE=DURATION:PT1H
X-Robots-Tag:noindex
X-PUBLISHED-TTL:PT1H
BEGIN:VTIMEZONE
TZID:Europe/Vienna
BEGIN:DAYLIGHT
TZOFFSETFROM:+0100
TZOFFSETTO:+0200
TZNAME:CEST
DTSTART:20250330T010000
END:DAYLIGHT
BEGIN:STANDARD
TZOFFSETFROM:+0200
TZOFFSETTO:+0100
TZNAME:CET
DTSTART:20251026T010000
END:STANDARD
BEGIN:DAYLIGHT
TZOFFSETFROM:+0100
TZOFFSETTO:+0200
TZNAME:CEST
DTSTART:20260329T010000
END:DAYLIGHT
BEGIN:STANDARD
TZOFFSETFROM:+0200
TZOFFSETTO:+0100
TZNAME:CET
DTSTART:20261025T010000
END:STANDARD
BEGIN:DAYLIGHT
TZOFFSETFROM:+0100
TZOFFSETTO:+0200
TZNAME:CEST
DTSTART:20270328T010000
END:DAYLIGHT
BEGIN:STANDARD
TZOFFSETFROM:+0200
TZOFFSETTO:+0100
TZNAME:CET
DTSTART:20271031T010000
END:STANDARD
END:VTIMEZONE
BEGIN:VEVENT
DTSTART;TZID=Europe/Vienna:20260122T180000
DTEND;TZID=Europe/Vienna:20260122T200000
DTSTAMP:20260422T191644
CREATED:20251216T100640Z
LAST-MODIFIED:20251216T100640Z
UID:10000579-1769104800-1769112000@www.femvents.at
SUMMARY:Business Workshop für Gründerinnen & Unternehmerinnen
DESCRIPTION:Own Your Business – Mit Strategie und Klarheit zu deinem Businessmodell \nDer Workshop eignet sich sowohl für Frauen in der Gründungsphase\, als auch für Unternehmerinnen\, die ihr Businesskonzept schärfen wollen. \nVortragende: Stefanie Eller – Unternehmensberaterin\, Systemische Coachin\, Juristin
URL:https://www.femvents.at/event/business-workshop-fuer-gruenderinnen-unternehmerinnen/
LOCATION:andys.cc – Büros & Coworking in Bad Ischl\, Bahnhofstrasse 8\, 4820 Bad Ischl\, Oberösterreich\, 4820\, Austria
CATEGORIES:Oberösterreich,Salzburg,Workshop
ATTACH;FMTTYPE=image/jpeg:https://www.femvents.at/wp-content/uploads/2025/12/Stefanie-Eller.jpg
GEO:47.7118874;13.6266076
X-APPLE-STRUCTURED-LOCATION;VALUE=URI;X-ADDRESS=andys.cc – Büros & Coworking in Bad Ischl Bahnhofstrasse 8 4820 Bad Ischl Oberösterreich 4820 Austria;X-APPLE-RADIUS=500;X-TITLE=Bahnhofstrasse 8:geo:13.6266076,47.7118874
END:VEVENT
END:VCALENDAR