BEGIN:VCALENDAR
VERSION:2.0
PRODID:-//femvents.at - ECPv6.15.18//NONSGML v1.0//EN
CALSCALE:GREGORIAN
METHOD:PUBLISH
X-ORIGINAL-URL:https://www.femvents.at
X-WR-CALDESC:Veranstaltungen für femvents.at
REFRESH-INTERVAL;VALUE=DURATION:PT1H
X-Robots-Tag:noindex
X-PUBLISHED-TTL:PT1H
BEGIN:VTIMEZONE
TZID:Europe/Vienna
BEGIN:DAYLIGHT
TZOFFSETFROM:+0100
TZOFFSETTO:+0200
TZNAME:CEST
DTSTART:20240331T010000
END:DAYLIGHT
BEGIN:STANDARD
TZOFFSETFROM:+0200
TZOFFSETTO:+0100
TZNAME:CET
DTSTART:20241027T010000
END:STANDARD
BEGIN:DAYLIGHT
TZOFFSETFROM:+0100
TZOFFSETTO:+0200
TZNAME:CEST
DTSTART:20250330T010000
END:DAYLIGHT
BEGIN:STANDARD
TZOFFSETFROM:+0200
TZOFFSETTO:+0100
TZNAME:CET
DTSTART:20251026T010000
END:STANDARD
BEGIN:DAYLIGHT
TZOFFSETFROM:+0100
TZOFFSETTO:+0200
TZNAME:CEST
DTSTART:20260329T010000
END:DAYLIGHT
BEGIN:STANDARD
TZOFFSETFROM:+0200
TZOFFSETTO:+0100
TZNAME:CET
DTSTART:20261025T010000
END:STANDARD
END:VTIMEZONE
BEGIN:VEVENT
DTSTART;TZID=Europe/Vienna:20251113T173000
DTEND;TZID=Europe/Vienna:20251113T193000
DTSTAMP:20260422T224620
CREATED:20251023T110228Z
LAST-MODIFIED:20251023T110228Z
UID:10000425-1763055000-1763062200@www.femvents.at
SUMMARY:Eintauchen in die Welt des Räucherns
DESCRIPTION:Tauche ein in die duftende Welt des Räucherns und entdecke die Kraft unserer heimischen Pflanzen! In diesem praxisnahen Workshop erfährst du\, wie du mit Kräutern\, Harzen und Blüten dein Zuhause energetisch reinigen\, dich erden oder kleine Rituale gestalten kannst. \nWir besprechen traditionelle Räucherfeste wie die Raunächte\, lernen die wichtigsten Räucherpflanzen kennen – vom reinigenden Salbei bis zum herzöffnenden Lavendel – und stellen gemeinsam duftende Mischungen her\, die du gleich anwenden kannst. \n​Du bekommst: \n\n\nfundiertes Kräuterwissen \n\n\nInspiration für Rituale im Alltag \n\n\nein Handout mit Räucherpflanzen & Rezepten \n\n\nselbstgemachte Produkte zum mit nach Hause nehmen \n\n\n​Ideal für Einsteiger:innen und Räucherfreunde\, die ihr Wissen vertiefen möchten.
URL:https://www.femvents.at/event/eintauchen-in-die-welt-des-raeucherns/
LOCATION:BBK Gänserndorf\, Hauptstraße 8\, Gänserndorf\, Niederösterreich\, 2230\, Austria
CATEGORIES:Niederösterreich,Workshop
ATTACH;FMTTYPE=image/jpeg:https://www.femvents.at/wp-content/uploads/2025/10/pexels-anastasia-shuraeva-6015548-scaled.jpg
ORGANIZER;CN="Katharina Hansi":MAILTO:kathi@unmaskednature.com
GEO:48.3418478;16.7184543
X-APPLE-STRUCTURED-LOCATION;VALUE=URI;X-ADDRESS=BBK Gänserndorf Hauptstraße 8 Gänserndorf Niederösterreich 2230 Austria;X-APPLE-RADIUS=500;X-TITLE=Hauptstraße 8:geo:16.7184543,48.3418478
END:VEVENT
END:VCALENDAR