BEGIN:VCALENDAR
VERSION:2.0
PRODID:-//femvents.at - ECPv6.15.18//NONSGML v1.0//EN
CALSCALE:GREGORIAN
METHOD:PUBLISH
X-WR-CALNAME:femvents.at
X-ORIGINAL-URL:https://www.femvents.at
X-WR-CALDESC:Veranstaltungen für femvents.at
REFRESH-INTERVAL;VALUE=DURATION:PT1H
X-Robots-Tag:noindex
X-PUBLISHED-TTL:PT1H
BEGIN:VTIMEZONE
TZID:Europe/Vienna
BEGIN:DAYLIGHT
TZOFFSETFROM:+0100
TZOFFSETTO:+0200
TZNAME:CEST
DTSTART:20250330T010000
END:DAYLIGHT
BEGIN:STANDARD
TZOFFSETFROM:+0200
TZOFFSETTO:+0100
TZNAME:CET
DTSTART:20251026T010000
END:STANDARD
BEGIN:DAYLIGHT
TZOFFSETFROM:+0100
TZOFFSETTO:+0200
TZNAME:CEST
DTSTART:20260329T010000
END:DAYLIGHT
BEGIN:STANDARD
TZOFFSETFROM:+0200
TZOFFSETTO:+0100
TZNAME:CET
DTSTART:20261025T010000
END:STANDARD
BEGIN:DAYLIGHT
TZOFFSETFROM:+0100
TZOFFSETTO:+0200
TZNAME:CEST
DTSTART:20270328T010000
END:DAYLIGHT
BEGIN:STANDARD
TZOFFSETFROM:+0200
TZOFFSETTO:+0100
TZNAME:CET
DTSTART:20271031T010000
END:STANDARD
END:VTIMEZONE
BEGIN:VEVENT
DTSTART;TZID=Europe/Vienna:20260430T180000
DTEND;TZID=Europe/Vienna:20260430T200000
DTSTAMP:20260422T190118
CREATED:20260402T181839Z
LAST-MODIFIED:20260402T181839Z
UID:10000986-1777572000-1777579200@www.femvents.at
SUMMARY:Sonnenpflege - Natürlicher Schutz & Pflege für den Sommer
DESCRIPTION:Für alle Interessierten\, die wissen möchten\, was in ihrer Sonnenpflege wirklich drin ist und die ihre Haut mit natürlichen\, selbstgemachten Produkten schützen wollen. \nKursinhalt:\nWir starten mit einem Überblick über die Grundlagen der natürlichen Sonnenpflege:\n– Welche Rohstoffe eignen sich für selbstgemachte Sonnencremes?\n– Wie funktioniert mineralischer UV-Schutz mit Zinkoxid?\n– Und welche wertvollen Pflanzenöle unterstützen die Haut in der warmen Jahreszeit? \nDu erfährst\, was in eine gute Sonnenschutzpflege hineingehört – und was besser nicht. Der Schwerpunkt liegt wie immer auf regionalen\, naturbelassenen Zutaten. \nGemeinsam rühren wir:\n● eine mineralische Sonnencreme mit Zinkoxid\n● eine pflegende After-Sun-Lotion\n● eine intensive Haarkur für sonnengeschädigtes Haar \nAlle Produkte nimmst du am Ende mit nach Hause – perfekt für deinen natürlichen Start in den Sommer.
URL:https://www.femvents.at/event/sonnenpflege-natuerlicher-schutz-pflege-fuer-den-sommer/
LOCATION:Bildungszentrum Floridsdorf\, Zaunscherbgasse 4\,\, Wien\, Wien\, 1210\, Austria
CATEGORIES:Workshop
ATTACH;FMTTYPE=image/jpeg:https://www.femvents.at/wp-content/uploads/2026/04/pexels-karola-g-5202459-1-scaled.jpg
ORGANIZER;CN="Katharina Hansi":MAILTO:kathi@unmaskednature.com
GEO:48.258248;16.400548
X-APPLE-STRUCTURED-LOCATION;VALUE=URI;X-ADDRESS=Bildungszentrum Floridsdorf Zaunscherbgasse 4 Wien Wien 1210 Austria;X-APPLE-RADIUS=500;X-TITLE=Zaunscherbgasse 4\,:geo:16.400548,48.258248
END:VEVENT
END:VCALENDAR