BEGIN:VCALENDAR
VERSION:2.0
PRODID:-//femvents.at - ECPv6.15.18//NONSGML v1.0//EN
CALSCALE:GREGORIAN
METHOD:PUBLISH
X-ORIGINAL-URL:https://www.femvents.at
X-WR-CALDESC:Veranstaltungen für femvents.at
REFRESH-INTERVAL;VALUE=DURATION:PT1H
X-Robots-Tag:noindex
X-PUBLISHED-TTL:PT1H
BEGIN:VTIMEZONE
TZID:Europe/Vienna
BEGIN:DAYLIGHT
TZOFFSETFROM:+0100
TZOFFSETTO:+0200
TZNAME:CEST
DTSTART:20250330T010000
END:DAYLIGHT
BEGIN:STANDARD
TZOFFSETFROM:+0200
TZOFFSETTO:+0100
TZNAME:CET
DTSTART:20251026T010000
END:STANDARD
BEGIN:DAYLIGHT
TZOFFSETFROM:+0100
TZOFFSETTO:+0200
TZNAME:CEST
DTSTART:20260329T010000
END:DAYLIGHT
BEGIN:STANDARD
TZOFFSETFROM:+0200
TZOFFSETTO:+0100
TZNAME:CET
DTSTART:20261025T010000
END:STANDARD
BEGIN:DAYLIGHT
TZOFFSETFROM:+0100
TZOFFSETTO:+0200
TZNAME:CEST
DTSTART:20270328T010000
END:DAYLIGHT
BEGIN:STANDARD
TZOFFSETFROM:+0200
TZOFFSETTO:+0100
TZNAME:CET
DTSTART:20271031T010000
END:STANDARD
END:VTIMEZONE
BEGIN:VEVENT
DTSTART;TZID=Europe/Vienna:20260418T090000
DTEND;TZID=Europe/Vienna:20260418T120000
DTSTAMP:20260423T002118
CREATED:20260107T150915Z
LAST-MODIFIED:20260107T150915Z
UID:10000633-1776502800-1776513600@www.femvents.at
SUMMARY:Lust und Selbstbild – Sexualität als Teil deiner Identität annehmen
DESCRIPTION:Lust und Selbstbild – Sexualität als Teil deiner Identität annehmen\nWie verändert sich dein Erleben\, wenn du dir erlaubst\, deine Bedürfnisse ernst zu nehmen? \nSexualität wird uns selten offen\, wertfrei oder empowernd vermittelt. Viele Frauen wachsen mit Botschaften auf wie: „Sei nicht zu fordernd“\, „Sei zurückhaltend“\, „Zu viel Lust ist unanständig“.\nDiese Sätze wirken nach und beeinflussen\, wie wir uns fühlen\, was wir zulassen – und wie frei wir in unserer eigenen Sexualität stehen können. \nIn diesem Workshop sprechen wir offen darüber\, wie Prägungen entstehen und wie sie unser Erleben formen. Schritt für Schritt entwickeln wir eine Haltung\, die Lust nicht bewertet\, sondern als Ressource erkennt: für Nähe\, Selbstbewusstsein und Lebendigkeit. \nWir öffnen den Raum für neue Perspektiven: \n• Wie erkennst du\, was du wirklich brauchst und möchtest?\n• Welche inneren Blockaden halten dich zurück – und wie kannst du sie lösen?\n• Was braucht es\, um Sexualität frei von Scham und Tabus zu betrachten?\n• Wie würde es sich anfühlen\, Lust als Kraftquelle zu sehen\, statt als etwas\, das reguliert werden muss? \n👉 Dieser Workshop begleitet dich dabei\, deine Bedürfnisse ernst zu nehmen\, dich mit deinem Körper zu verbinden und Sexualität selbstbestimmt zu gestalten – mit Klarheit\, Neugier und Vertrauen. \nWann: Samstag\, 18. April 2026 | 09:00–12:00\nWo: Business Frauen Center \nReferentin: Hannah Rabensteiner\nPsychologin\, Psychodynamische Psychotherapeutin iA zur Sexualtherapeutin \nKostenlos für BFC Member\nUnkostenbeitrag für externe Personen: 60 € inkl. Ust.\nWorkshop inklusive Seminarverpflegung \nWir bitten um verbindliche Anmeldung.
URL:https://www.femvents.at/event/lust-und-selbstbild-sexualitaet-als-teil-deiner-identitaet-annehmen/
LOCATION:Business Frauen Center Klagenfurt\, Klagenfurt\, Austria
CATEGORIES:Kärnten,Workshop
ATTACH;FMTTYPE=image/jpeg:https://www.femvents.at/wp-content/uploads/2026/01/Mindset-Change-Webseite-Sexualitaet-1030x644-1.jpg
GEO:46.625704;14.3137371
END:VEVENT
BEGIN:VEVENT
DTSTART;TZID=Europe/Vienna:20260314T090000
DTEND;TZID=Europe/Vienna:20260314T120000
DTSTAMP:20260423T002118
CREATED:20260107T150618Z
LAST-MODIFIED:20260107T150653Z
UID:10000632-1773478800-1773489600@www.femvents.at
SUMMARY:Macht neu denken – innere Stärke bewusst leben
DESCRIPTION:Macht neu denken – innere Stärke bewusst leben\nWie verändert sich dein Leben\, wenn du lernst\, dich selbst ernst zu nehmen? \nMacht ist ein Thema\, das viele Frauen ambivalent beschäftigt. Wir wollen wirken\, gestalten\, führen – doch gleichzeitig existieren alte Botschaften wie: „Sei nicht zu fordernd“\, „Halte dich zurück“\, „Dränge dich nicht in den Vordergrund“.\nDiese Glaubenssätze können dazu führen\, dass wir Entscheidungen delegieren\, Chancen nicht ergreifen oder uns kleiner machen\, als wir sind. \nIn diesem Workshop schauen wir hin\, welche inneren und äußeren Stimmen uns bremsen – und wie wir unsere eigene Definition von Macht entwickeln können: nicht laut oder dominant\, sondern klar\, authentisch und souverän \nWir öffnen den Raum für neue Perspektiven: \n• Was bedeutet Macht für dich – und was darf sie für dich bedeuten?\n• Welche inneren Grenzen hindern dich daran\, Raum einzunehmen?\n• Wie kannst du deine Stimme erheben\, ohne dich zu verbiegen?\n• Was entsteht\, wenn Macht nicht über andere ausgeübt wird\, sondern dir selbst dient? \n👉 Dieser Workshop lädt dich dazu ein\, dein Potenzial ernst zu nehmen\, Grenzen klar zu setzen und innere Autorität aufzubauen – kraftvoll\, selbstbewusst und respektvoll. \nWann: Samstag\, 14. März 2026 | 09:00–12:00\nWo: Business Frauen Center \nReferentin: Carmen Hofstädter-Ponta\nGründerin Carmensita \nKostenlos für BFC Member\nUnkostenbeitrag für externe Personen: 60 € inkl. Ust.\nWorkshop inklusive Seminarverpflegung \nWir bitten um verbindliche Anmeldung.
URL:https://www.femvents.at/event/macht-neu-denken-innere-staerke-bewusst-leben/
LOCATION:Business Frauen Center Klagenfurt\, Klagenfurt\, Austria
CATEGORIES:Kärnten,Workshop
ATTACH;FMTTYPE=image/jpeg:https://www.femvents.at/wp-content/uploads/2026/01/Mindset-Change-Webseite-Macht-1030x644-1.jpg
GEO:46.625704;14.3137371
END:VEVENT
BEGIN:VEVENT
DTSTART;TZID=Europe/Vienna:20260221T090000
DTEND;TZID=Europe/Vienna:20260221T120000
DTSTAMP:20260423T002118
CREATED:20260107T150438Z
LAST-MODIFIED:20260107T150438Z
UID:10000631-1771664400-1771675200@www.femvents.at
SUMMARY:Mindset Change: Gemeinsam statt gegeneinander – Entdecke die Kraft echter Verbindung unter Frauen.
DESCRIPTION:Mindset Change: Gemeinsam statt gegeneinander –\nEntdecke die Kraft echter Verbindung unter Frauen.\nWas\, wenn Rivalität ein erlerntes Muster ist\, das wir hinterfragen können? \nKonkurrenz unter Frauen ist tief kulturell geprägt und systemisch bedingt. Ressourcen werden oft künstlich limitiert\, etwa wenn es nur begrenzte Führungspositionen für Frauen gibt und Chancen bewusst knapp verteilt werden. Gleichzeitig verstärken gesellschaftliche Bewertungen über Aussehen\, Leistung oder Anpassung den Druck\, sich zu vergleichen\, anstatt zu kooperieren. Narrative über Rivalität unter Frauen – von „Zickenkrieg“ bis „Frauen sind kompliziert“ – werden kulturell reproduziert und stabilisieren diese Muster\, sodass Kooperation und gegenseitige Unterstützung häufig erschwert werden. \nIn diesem Workshop untersuchen wir diese Muster und erarbeiten Wege\, sie zu durchbrechen. Ziel ist es\, Solidarität\, Verbundenheit und gegenseitige Unterstützung bewusst zu fördern. \nWir öffnen den Raum für neue Perspektiven: \n• Wie erkennen wir\, welche Konkurrenzmuster erlernt und von außen auferlegt sind?\n• Welche inneren Stimmen halten uns im Vergleichsdenken gefangen – und wie können wir sie umschreiben?\n• Wie können Frauen Räume gemeinsam gestalten\, in denen Zusammenarbeit\, Anerkennung und gegenseitige Wertschätzung selbstverständlich sind?\n• Wie fühlt es sich an\, wenn wir uns von alten Narrativen lösen und echte Verbundenheit erfahren? 👉 Dieser Workshop lädt dich ein\, Konkurrenzmuster zu erkennen\, die patriarchale Strukturen verstärken\, und neue Wege der Zusammenarbeit zu gestalten \nWann: Samstag\, 21. Februar 2026 | 09:00–12:00\nWo: Business Frauen Center \nReferentin: Michaela Türk\nBFC Vorständin \nKostenlos für BFC Member\nUnkostenbeitrag für externe Personen: 60 € inkl. Ust.\nWorkshop inklusive Seminarverpflegung \nWir bitten um verbindliche Anmeldung.
URL:https://www.femvents.at/event/mindset-change-gemeinsam-statt-gegeneinander-entdecke-die-kraft-echter-verbindung-unter-frauen/
LOCATION:Business Frauen Center Klagenfurt\, Klagenfurt\, Austria
CATEGORIES:Kärnten,Workshop
ATTACH;FMTTYPE=image/jpeg:https://www.femvents.at/wp-content/uploads/2026/01/Mindset-Change-Webseite-Konkurrenz-1030x644-1.jpg
GEO:46.625704;14.3137371
END:VEVENT
BEGIN:VEVENT
DTSTART;TZID=Europe/Vienna:20260131T090000
DTEND;TZID=Europe/Vienna:20260131T120000
DTSTAMP:20260423T002118
CREATED:20260107T150217Z
LAST-MODIFIED:20260107T150217Z
UID:10000630-1769850000-1769860800@www.femvents.at
SUMMARY:Mindset Change: Geld beginnt im Kopf – Blockaden lösen\, Fülle zulassen
DESCRIPTION:Mindset Change: Geld beginnt im Kopf – Blockaden lösen\, Fülle zulassen\n\nUnd wie viel Freiheit entsteht\, wenn wir unser Denken über Geld neu sortieren? \nGeld beeinflusst maßgeblich\, wie sicher wir uns fühlen\, welche Chancen wir ergreifen und welche Träume wir uns erlauben. Gleichzeitig ist das Thema für viele von uns mit Unsicherheit\, Scham oder alten Familienbotschaften verknüpft. „Sei sparsam“\, „Das kannst du dir nicht leisten“\, „Finanzen sind kompliziert“ – Sätze\, die tief sitzen können und unbemerkt unseren Alltag steuern. \nGerade Frauen spüren häufig zusätzlichen Druck: Erwartungen aus der Gesellschaft\, fehlende Vorbilder oder die Sorge\, finanzielle Fehler zu machen. In diesem Workshop schauen wir gemeinsam darauf\, wie solche Muster entstehen – und wie wir sie Schritt für Schritt lösen können\, um eine selbstbewusste und entspannte Haltung zu Geld zu entwickeln. \nWir öffnen den Raum für neue Perspektiven: \n• Wie entsteht ein finanzielles Sicherheitsgefühl\, das wirklich trägt – unabhängig von äußeren Umständen?\n• Wie können wir Entscheidungen treffen\, die auf Klarheit und Selbstvertrauen beruhen\, statt auf Angst?\n• Was braucht es\, um den eigenen Wert stärker zu erkennen – und auch finanziell zu vertreten?\n• Wie fühlt es sich an\, wenn Geld kein Stress-Thema mehr ist\, sondern ein Bereich\, den wir selbst gestalten können? \n👉 Dieser Workshop lädt dich ein\, innere Blockaden zu erkennen\, deine Beziehung zu Geld zu ordnen und Raum für mutige\, selbstbestimmte Schritte zu schaffen. \nEntdecke\, wie viel Leichtigkeit entsteht\, wenn finanzielle Stärke nicht Perfektion bedeutet – sondern innere Freiheit. \nWann: Samstag\, 31. Jänner 2026 | 09:00–12:00\nWo: Business Frauen Center \nReferentin: Jasmin Sadeghian\nKlinische- und Gesundheitspsychologin | Arbeitspsychologin\nJS Counseling \nKostenlos für BFC Member\nUnkostenbeitrag für externe Personen: 60 € inkl. Ust.\nWorkshop inklusive Seminarverpflegung \nWir bitten um verbindliche Anmeldung.
URL:https://www.femvents.at/event/mindset-change-geld-beginnt-im-kopf-blockaden-loesen-fuelle-zulassen/
LOCATION:Business Frauen Center Klagenfurt\, Klagenfurt\, Austria
CATEGORIES:Kärnten,Workshop
ATTACH;FMTTYPE=image/jpeg:https://www.femvents.at/wp-content/uploads/2026/01/businessfrauencenter-event.jpg
GEO:46.625704;14.3137371
END:VEVENT
END:VCALENDAR