BEGIN:VCALENDAR
VERSION:2.0
PRODID:-//femvents.at - ECPv6.15.18//NONSGML v1.0//EN
CALSCALE:GREGORIAN
METHOD:PUBLISH
X-ORIGINAL-URL:https://www.femvents.at
X-WR-CALDESC:Veranstaltungen für femvents.at
REFRESH-INTERVAL;VALUE=DURATION:PT1H
X-Robots-Tag:noindex
X-PUBLISHED-TTL:PT1H
BEGIN:VTIMEZONE
TZID:Europe/Vienna
BEGIN:DAYLIGHT
TZOFFSETFROM:+0100
TZOFFSETTO:+0200
TZNAME:CEST
DTSTART:20250330T010000
END:DAYLIGHT
BEGIN:STANDARD
TZOFFSETFROM:+0200
TZOFFSETTO:+0100
TZNAME:CET
DTSTART:20251026T010000
END:STANDARD
BEGIN:DAYLIGHT
TZOFFSETFROM:+0100
TZOFFSETTO:+0200
TZNAME:CEST
DTSTART:20260329T010000
END:DAYLIGHT
BEGIN:STANDARD
TZOFFSETFROM:+0200
TZOFFSETTO:+0100
TZNAME:CET
DTSTART:20261025T010000
END:STANDARD
BEGIN:DAYLIGHT
TZOFFSETFROM:+0100
TZOFFSETTO:+0200
TZNAME:CEST
DTSTART:20270328T010000
END:DAYLIGHT
BEGIN:STANDARD
TZOFFSETFROM:+0200
TZOFFSETTO:+0100
TZNAME:CET
DTSTART:20271031T010000
END:STANDARD
END:VTIMEZONE
BEGIN:VEVENT
DTSTART;TZID=Europe/Vienna:20260228T094500
DTEND;TZID=Europe/Vienna:20260228T113000
DTSTAMP:20260423T001020
CREATED:20260115T111816Z
LAST-MODIFIED:20260115T111823Z
UID:10000682-1772271900-1772278200@www.femvents.at
SUMMARY:THE:Workshop - Mehr Energie & Erholung für berufstätige Mamas - Karriere und Familie in Balance
DESCRIPTION:Lerne in diesem interaktiven Workshop\, wie Du Deinen Beruf und Deine familiären Aufgaben so meisterst\, dass Du dabei nicht an Deine Belastungsgrenzen stößt\, Dich selbst nicht vergisst und am Ende des (Arbeits-)Tages noch genug Energie für Dich und Deine Lieben zur Verfügung hast. \nDu nimmst praxiserprobte\, sofort umsetzbare Brainhacks und Methoden mit\, um: \n\neffizienter und ressourcenschonend zu arbeiten.\nZeit- und Energiediebe zu reduzieren.\nDeinen inneren Akku regelmäßig aufzuladen.\nmentale Stärke und Wohlbefinden zu fördern\, um langfristig gesund und leistungsfähig zu bleiben.\n\nZudem findest Du hier viel Raum für Selbstreflexion sowie den wertvollen Austausch mit anderen Frauen in ähnlichen Lebenssituationen. \nEgal ob Mitarbeiterin\, Führungskraft oder selbständig: dieser Workshop zeigt Dir\, wie Du mehr Fokus\, Gelassenheit und Energie gewinnst – im Beruf und privat. \nKinder bis 2 Jahre sowie eine Begleitperson zur Kinderbetreuung sind herzlich willkommen – es gibt eine liebevolle Spielecke. \nDie Verantwortung liegt bei den betreuenden Personen. \nWann? // 28.2.\, 09:45-11:30 Uhr\nWo? // Der Kreativraum\, Hörnesgasse 18\, 1030 Wien\nWer? // Workshop exklusiv für Sorority Mitglieder \nBerufstätige Mütter\, Schwangere und Frauen mit Kinderwunsch sowie alle berufstätigen Frauen mit Pflegeverantwortung \nMit // Anna Klementovic ist Metal- & Resilienztrainerin. Sie begleitet Mütter und Frauen in 1:1 trainings und Workshops um mehr Leichtigkeit in den Alltag zu integrieren und Denk- und Verhaltensmuster aufzubrechen\, sowohl privat als auch beruflich. Außerdem liegt ihr das mentale Wohlbefinden von Frauen und (werdenden) Müttern am Herzen\, um Burnout und Depression vorzubeugen.  \n// Anmeldung per Mail unter event@sorority.at.
URL:https://www.femvents.at/event/theworkshop-mehr-energie-erholung-fuer-berufstaetige-mamas-karriere-und-familie-in-balance/
LOCATION:Der Kreativraum\, Hörnesgasse 18\, 1030 Wien\, Hörnesgasse 18\, Wien\, Wien\, 1030\, Austria
CATEGORIES:Coaching,Wien,Workshop
ATTACH;FMTTYPE=image/png:https://www.femvents.at/wp-content/uploads/2026/01/Teil-1-Hauptinfos.png
ORGANIZER;CN="THE%3ASorority":MAILTO:events@sorority.at
GEO:48.2036091;16.3957892
X-APPLE-STRUCTURED-LOCATION;VALUE=URI;X-ADDRESS=Der Kreativraum Hörnesgasse 18 1030 Wien Hörnesgasse 18 Wien Wien 1030 Austria;X-APPLE-RADIUS=500;X-TITLE=Hörnesgasse 18:geo:16.3957892,48.2036091
END:VEVENT
END:VCALENDAR