BEGIN:VCALENDAR
VERSION:2.0
PRODID:-//femvents.at - ECPv6.15.18//NONSGML v1.0//EN
CALSCALE:GREGORIAN
METHOD:PUBLISH
X-WR-CALNAME:femvents.at
X-ORIGINAL-URL:https://www.femvents.at
X-WR-CALDESC:Veranstaltungen für femvents.at
REFRESH-INTERVAL;VALUE=DURATION:PT1H
X-Robots-Tag:noindex
X-PUBLISHED-TTL:PT1H
BEGIN:VTIMEZONE
TZID:Europe/Vienna
BEGIN:DAYLIGHT
TZOFFSETFROM:+0100
TZOFFSETTO:+0200
TZNAME:CEST
DTSTART:20240331T010000
END:DAYLIGHT
BEGIN:STANDARD
TZOFFSETFROM:+0200
TZOFFSETTO:+0100
TZNAME:CET
DTSTART:20241027T010000
END:STANDARD
BEGIN:DAYLIGHT
TZOFFSETFROM:+0100
TZOFFSETTO:+0200
TZNAME:CEST
DTSTART:20250330T010000
END:DAYLIGHT
BEGIN:STANDARD
TZOFFSETFROM:+0200
TZOFFSETTO:+0100
TZNAME:CET
DTSTART:20251026T010000
END:STANDARD
BEGIN:DAYLIGHT
TZOFFSETFROM:+0100
TZOFFSETTO:+0200
TZNAME:CEST
DTSTART:20260329T010000
END:DAYLIGHT
BEGIN:STANDARD
TZOFFSETFROM:+0200
TZOFFSETTO:+0100
TZNAME:CET
DTSTART:20261025T010000
END:STANDARD
END:VTIMEZONE
BEGIN:VEVENT
DTSTART;TZID=Europe/Vienna:20251109T090000
DTEND;TZID=Europe/Vienna:20251109T170000
DTSTAMP:20260422T222849
CREATED:20251002T074432Z
LAST-MODIFIED:20251002T074523Z
UID:10000345-1762678800-1762707600@www.femvents.at
SUMMARY:JOULE - Tages-Retreat: Energy
DESCRIPTION:Ein Tag nur für dich – voller Entspannung\, Aktivität und Achtsamkeit. Mit unseren sechs Expertisen aus den Bereichen Tanz\, Ernährung\, Psychologie\, Musik\, Sport und Massage erlebst du\, wie Körper und Geist wieder in Balance kommen und das Beste: Du bekommst Tools mit\, die dich im Alltag nachhaltig dabei unterstützen in deiner Balance zu bleiben– für mehr Energie\, Klarheit und innere Stärke. Schenke dir diesen Tag! \n187€ (Early Bird bis 13.10.25)
URL:https://www.femvents.at/event/joule-tages-retreat-energy/
LOCATION:Die Hochkönigin (Maria Alm)\, Hochkönigstraße 27\, 5761 Maria Alm\, Maria Alm\, Salzburg\, 5761 Maria Alm
CATEGORIES:Oberösterreich,Österreichweit,Retreat,Salzburg,Tanzveranstaltung,Tirol,Workshop
ATTACH;FMTTYPE=image/jpeg:https://www.femvents.at/wp-content/uploads/2025/10/IMG_3959-scaled.jpeg
ORGANIZER;CN="JOULE":MAILTO:info@joule-retreat.com
GEO:47.404231;12.9031975
X-APPLE-STRUCTURED-LOCATION;VALUE=URI;X-ADDRESS=Die Hochkönigin (Maria Alm) Hochkönigstraße 27 5761 Maria Alm Maria Alm Salzburg 5761 Maria Alm;X-APPLE-RADIUS=500;X-TITLE=Hochkönigstraße 27\, 5761 Maria Alm:geo:12.9031975,47.404231
END:VEVENT
END:VCALENDAR