BEGIN:VCALENDAR
VERSION:2.0
PRODID:-//femvents.at - ECPv6.15.18//NONSGML v1.0//EN
CALSCALE:GREGORIAN
METHOD:PUBLISH
X-ORIGINAL-URL:https://www.femvents.at
X-WR-CALDESC:Veranstaltungen für femvents.at
REFRESH-INTERVAL;VALUE=DURATION:PT1H
X-Robots-Tag:noindex
X-PUBLISHED-TTL:PT1H
BEGIN:VTIMEZONE
TZID:Europe/Vienna
BEGIN:DAYLIGHT
TZOFFSETFROM:+0100
TZOFFSETTO:+0200
TZNAME:CEST
DTSTART:20250330T010000
END:DAYLIGHT
BEGIN:STANDARD
TZOFFSETFROM:+0200
TZOFFSETTO:+0100
TZNAME:CET
DTSTART:20251026T010000
END:STANDARD
BEGIN:DAYLIGHT
TZOFFSETFROM:+0100
TZOFFSETTO:+0200
TZNAME:CEST
DTSTART:20260329T010000
END:DAYLIGHT
BEGIN:STANDARD
TZOFFSETFROM:+0200
TZOFFSETTO:+0100
TZNAME:CET
DTSTART:20261025T010000
END:STANDARD
BEGIN:DAYLIGHT
TZOFFSETFROM:+0100
TZOFFSETTO:+0200
TZNAME:CEST
DTSTART:20270328T010000
END:DAYLIGHT
BEGIN:STANDARD
TZOFFSETFROM:+0200
TZOFFSETTO:+0100
TZNAME:CET
DTSTART:20271031T010000
END:STANDARD
END:VTIMEZONE
BEGIN:VEVENT
DTSTART;TZID=Europe/Vienna:20260425T140000
DTEND;TZID=Europe/Vienna:20260425T180000
DTSTAMP:20260422T154320
CREATED:20260330T144655Z
LAST-MODIFIED:20260330T144655Z
UID:10000971-1777125600-1777140000@www.femvents.at
SUMMARY:Jugendworkshop – Zyklusentdeckerinnen*werkstatt – für Mädchen* vor der 1. Menstruation
DESCRIPTION:Zyklusentdeckerinnen*werkstatt\nWorkshop für Mädchen* vor der ersten  Menstruation begleitet von Mutter\, Patin oder einer vertrauten Begleiterin.\nFür wen ist dieser Workshop geeignet? \nDein Körper beginnt sich zu verändern – vielleicht hast du es schon gemerkt: neue Haare beginnen zu wachsen\, die Brust spannt manchmal oder beginnt größer zu werden. Manchmal könntest du die ganze Welt umarmen und im nächsten Moment findet du alles einfach nur doof.\nFragst du dich manchmal\, was da gerade in deinem Körper passiert?\nUnd möchtest du wissen\, was die erste Blutung ist – bevor sie kommt? Wann du mit ihr rechnen und wie du dich vorbereiten kannst? \nIn der Zyklusentdecker*innenwerkstatt nehmen wir uns Zeit\, diese Veränderungen gemeinsam zu entdecken\, zu verstehen und ihnen mit Neugier und Vertrauen zu begegnen. \nDieser Workshop richtet sich an Mädchen im Alter von 8–12 Jahren\, deren Körper bereits angefangen hat sich zur Frau zur verwandeln\, und an eine vertraute erwachsene Begleiterin (Mama\, Tante\, Patin oder eine andere wichtige Bezugsperson). \nWas erwartet dich als teilnehmendes Mädchen*? \nIn einer warmen\, geschützten Atmosphäre erforschen wir spielerisch und kreativ: \n🌱 Zeichen der Pubertät \n\nBrustentwicklung\, Ausfluss\, Körperbehaarung\nSchweißgeruch & unreine Haut\nWarum sich Hygiene verändert und was gut tut\n\n🌸 Körperwissen & Anatomie \n\nÄußere und innere Geschlechtsorgane mit Stoffmodellen\nDie Einzigartigkeit jeder Körperin\n\n🩸 Zyklus & erste Menstruation \n\nWas geht während der Regelblutung im Körper vor sich?\nRituale zur ersten Blutung in anderen Kulturen\nWie du dich vorbereiten kannst\n\n🧼 Blutauffangprodukte \n\nBinden\, Slipeinlagen & Co. kennenlernen\nAusprobieren\, Fragen stellen\, Sicherheit gewinnen\n\nAbschlussritual\nDen Abschluss feiern wir mit einem kleinen Ritual\, das dich auf deinem Weg vom Mädchen zur jungen Frau begleitet und bestärkt – achtsam\, liebevoll und freiwillig. \n💗 Ein Nachmittag voller Wissen\, Kreativität\, Verbindung und Vertrauen\nfür Mädchen und ihre Begleiterinnen – zum Staunen\, Entdecken und Feiern. \nWas erwartet dich als Begleiterin*?\nDu bist ein wichtiger Teil des Workshops.\nEin Teil des Nachmittags findet gemeinsam mit den Mädchen statt – zum Mitmachen und Dabeisein. \nIn einer separaten Runde nur für die Begleiterinnen gibt es Raum für Austausch und Reflexion: \n\nWie hast du deine erste Blutung erlebt?\nWas hättest du dir damals gewünscht?\nWie kannst du deine Tochter/Nichte/Patentochter auf ihrer Reise zur Frau begleiten?\n\nEin geschützter Moment für Verbindung\, neue Gedanken und einen bewussten Weg \nINFO:\nDer Workshop wird gestaltet und begleitet von zwei Expertinnen des Jugendkreises SALON 13 (Klara Büchele\, Sarah Kammerer\, Caroline Heinzle)\nBegleiterinnen werden von Cassandra Frener (SALON 13) durch die Begleiterinnen-Session geführt. \nmax. 13 Teilnehmerinnen plus Begleiterin\nAnmeldeschluss am 18.04.2026
URL:https://www.femvents.at/event/jugendworkshop-zyklusentdeckerinnenwerkstatt-fuer-maedchen-vor-der-1-menstruation/
LOCATION:Familiennest Hard\, Uferstr. 4\, Hard\, Vorarlberg\, 6971\, Austria
CATEGORIES:Salon13,Vorarlberg,Workshop
ATTACH;FMTTYPE=image/jpeg:https://www.femvents.at/wp-content/uploads/2026/03/260425_Zyklusentdeckerworkshop_1.jpg
ORGANIZER;CN="SALON 13":MAILTO:info@salon13.at
GEO:47.4900115;9.6872967
X-APPLE-STRUCTURED-LOCATION;VALUE=URI;X-ADDRESS=Familiennest Hard Uferstr. 4 Hard Vorarlberg 6971 Austria;X-APPLE-RADIUS=500;X-TITLE=Uferstr. 4:geo:9.6872967,47.4900115
END:VEVENT
END:VCALENDAR