BEGIN:VCALENDAR
VERSION:2.0
PRODID:-//femvents.at - ECPv6.15.18//NONSGML v1.0//EN
CALSCALE:GREGORIAN
METHOD:PUBLISH
X-WR-CALNAME:femvents.at
X-ORIGINAL-URL:https://www.femvents.at
X-WR-CALDESC:Veranstaltungen für femvents.at
REFRESH-INTERVAL;VALUE=DURATION:PT1H
X-Robots-Tag:noindex
X-PUBLISHED-TTL:PT1H
BEGIN:VTIMEZONE
TZID:Europe/Vienna
BEGIN:DAYLIGHT
TZOFFSETFROM:+0100
TZOFFSETTO:+0200
TZNAME:CEST
DTSTART:20240331T010000
END:DAYLIGHT
BEGIN:STANDARD
TZOFFSETFROM:+0200
TZOFFSETTO:+0100
TZNAME:CET
DTSTART:20241027T010000
END:STANDARD
BEGIN:DAYLIGHT
TZOFFSETFROM:+0100
TZOFFSETTO:+0200
TZNAME:CEST
DTSTART:20250330T010000
END:DAYLIGHT
BEGIN:STANDARD
TZOFFSETFROM:+0200
TZOFFSETTO:+0100
TZNAME:CET
DTSTART:20251026T010000
END:STANDARD
BEGIN:DAYLIGHT
TZOFFSETFROM:+0100
TZOFFSETTO:+0200
TZNAME:CEST
DTSTART:20260329T010000
END:DAYLIGHT
BEGIN:STANDARD
TZOFFSETFROM:+0200
TZOFFSETTO:+0100
TZNAME:CET
DTSTART:20261025T010000
END:STANDARD
END:VTIMEZONE
BEGIN:VEVENT
DTSTART;TZID=Europe/Vienna:20251204T190000
DTEND;TZID=Europe/Vienna:20251204T210000
DTSTAMP:20260422T191404
CREATED:20251126T072851Z
LAST-MODIFIED:20251201T115216Z
UID:10000538-1764874800-1764882000@www.femvents.at
SUMMARY:Female Business Meetup Graz
DESCRIPTION:Lebst du oder kommst du aus Graz oder Umgebung\, bist selbständig und hast Lust mit coolen Frauen zu Netzwerken?\n\n\n\nSuchst du nach gleichgesinnten\, selbstständigen Frauen\, die dich inspirieren und unterstützen? \nDann bist du bei uns genau richtig! \nHier hast du die Möglichkeit\, dich mit spannenden Frauen\, Gründerinnen\, Freelancerinnen und selbständigen Ladys aus verschiedenen Branchen zu verbinden und dir ein starkes Netzwerk aufzubauen\, das zu deiner „Business Family“ wird. \nWarum Netzwerken? \nDurch den Austausch mit anderen Frauen kannst du: \n\nWissen erweitern: Hol dir Tipps\, Erfahrungen und frische Ideen für dein Business.\nKooperationen & Kontakte: Triff Frauen für spannende Kooperationen\, neue Kundinnen und wertvolle Geschäftsbeziehungen.\nStärke dein Selbstbewusstsein: Support und ehrliches Feedback geben dir Rückenwind. Durch ein starkes Umfeld\, wirst du dich in deiner Selbständigkeit nie wieder allein fühlen!\nWerde sichtbar mit deinem Business: Zeige dich und sprich über dein Business in einem geschützten Raum mit Frauen\, die dich verstehen und bestärken.\nFreundschaften: Du hast die Möglichkeiten echte Verbindungen fürs Leben zu knüpfen\, die deine Interessen teilen.\n\nDas erwartet dich: \nJeden Monat laden wir dich ein\, einen inspirierenden Abend mit selbstständigen Frauen\, Gründerinnen und Unternehmerinnen zu verbringen. \nNeben einer kleinen Vorstellungsrunde erwarten dich empowernde Gespräche mit Gleichgesinnten und jede Menge Spaß! \nSchließe dich einem Netzwerk von starken Frauen an\, die zusammen an ihrem Wachstum arbeiten\, ihre Träume verwirklichen und sich gegenseitig unterstützen. Spricht dich das an? \nDann sei dabei und sichere dir schnell deinen Platz! \nFacts: \n\nDas Ticket kostet 15 Euro.\nNach einer kleinen Vorstellungsrunde kannst du dich mit anderen gleichgesinnten Frauen austauschen und netzwerken.\nWir haben einen Tisch auf den Namen „Golden Females“ im Restaurant reserviert. Dort kannst du leckere Speisen und Drinks genießen. Diese sind auf Selbstzahlerbasis.\nDas Treffen findet monatlich und immer in wechselnder Location statt. Dieses Mal sind wir im Feldkirchnerhof\, Triesterstraße 32\, 8073 Feldkirchen bei Graz.\nWir freuen uns wenn du pünktlich um 19.00 Uhr erscheinst.\n\nIch freue mich riesig darauf\, dich kennenzulernen! \n🤍 \nKerstin von den GOLDEN FEMALES
URL:https://www.femvents.at/event/female-business-meetup-graz/
LOCATION:Feldkirchnerhof\, Triesterstraße 32\, 8073 Feldkirchen bei Graz\, Steiermark\, 8073\, Austria
CATEGORIES:Meetup,Netzwerk-Treffen,Steiermark
ATTACH;FMTTYPE=image/png:https://www.femvents.at/wp-content/uploads/2025/11/Graz-Hintergrund.png
GEO:47.011788;15.4428033
X-APPLE-STRUCTURED-LOCATION;VALUE=URI;X-ADDRESS=Feldkirchnerhof Triesterstraße 32 8073 Feldkirchen bei Graz Steiermark 8073 Austria;X-APPLE-RADIUS=500;X-TITLE=Triesterstraße 32:geo:15.4428033,47.011788
END:VEVENT
END:VCALENDAR