BEGIN:VCALENDAR
VERSION:2.0
PRODID:-//femvents.at - ECPv6.15.18//NONSGML v1.0//EN
CALSCALE:GREGORIAN
METHOD:PUBLISH
X-ORIGINAL-URL:https://www.femvents.at
X-WR-CALDESC:Veranstaltungen für femvents.at
REFRESH-INTERVAL;VALUE=DURATION:PT1H
X-Robots-Tag:noindex
X-PUBLISHED-TTL:PT1H
BEGIN:VTIMEZONE
TZID:Europe/Vienna
BEGIN:DAYLIGHT
TZOFFSETFROM:+0100
TZOFFSETTO:+0200
TZNAME:CEST
DTSTART:20250330T010000
END:DAYLIGHT
BEGIN:STANDARD
TZOFFSETFROM:+0200
TZOFFSETTO:+0100
TZNAME:CET
DTSTART:20251026T010000
END:STANDARD
BEGIN:DAYLIGHT
TZOFFSETFROM:+0100
TZOFFSETTO:+0200
TZNAME:CEST
DTSTART:20260329T010000
END:DAYLIGHT
BEGIN:STANDARD
TZOFFSETFROM:+0200
TZOFFSETTO:+0100
TZNAME:CET
DTSTART:20261025T010000
END:STANDARD
BEGIN:DAYLIGHT
TZOFFSETFROM:+0100
TZOFFSETTO:+0200
TZNAME:CEST
DTSTART:20270328T010000
END:DAYLIGHT
BEGIN:STANDARD
TZOFFSETFROM:+0200
TZOFFSETTO:+0100
TZNAME:CET
DTSTART:20271031T010000
END:STANDARD
END:VTIMEZONE
BEGIN:VEVENT
DTSTART;TZID=Europe/Vienna:20260506T163000
DTEND;TZID=Europe/Vienna:20260506T172000
DTSTAMP:20260422T192822
CREATED:20260206T165946Z
LAST-MODIFIED:20260323T092344Z
UID:10000773-1778085000-1778088000@www.femvents.at
SUMMARY:Starke Mitte - Frauengesundheit verstehen\, spüren und stärken
DESCRIPTION:Vierteilige Workshopreihe: die Inhalte bauen aufeinander auf\, die Termine sind aber auch einzeln buchbar: 6.\, 13.\, 20. und 27. Mai 2026. \nFür Frauen\, die ihre Körpermitte stärken und mit mehr Klarheit und Vertrauen durchs Leben gehen möchten. \nMehr Infos unter: https://physioschwar.at/angebote/#angebote_workshops  \n 
URL:https://www.femvents.at/event/starke-mitte-frauengesundheit-verstehen-spueren-und-staerken/
LOCATION:Frauengesundheitszentrum Graz\, Joanneumring 3\, Graz\, Steiermark\, 8010\, Austria
CATEGORIES:Steiermark
ATTACH;FMTTYPE=image/jpeg:https://www.femvents.at/wp-content/uploads/2026/02/woman-doing-yoga-exercise-scaled-1.jpg
GEO:47.0674099;15.4412191
X-APPLE-STRUCTURED-LOCATION;VALUE=URI;X-ADDRESS=Frauengesundheitszentrum Graz Joanneumring 3 Graz Steiermark 8010 Austria;X-APPLE-RADIUS=500;X-TITLE=Joanneumring 3:geo:15.4412191,47.0674099
END:VEVENT
END:VCALENDAR