BEGIN:VCALENDAR
VERSION:2.0
PRODID:-//femvents.at - ECPv6.15.18//NONSGML v1.0//EN
CALSCALE:GREGORIAN
METHOD:PUBLISH
X-WR-CALNAME:femvents.at
X-ORIGINAL-URL:https://www.femvents.at
X-WR-CALDESC:Veranstaltungen für femvents.at
REFRESH-INTERVAL;VALUE=DURATION:PT1H
X-Robots-Tag:noindex
X-PUBLISHED-TTL:PT1H
BEGIN:VTIMEZONE
TZID:Europe/Vienna
BEGIN:DAYLIGHT
TZOFFSETFROM:+0100
TZOFFSETTO:+0200
TZNAME:CEST
DTSTART:20250330T010000
END:DAYLIGHT
BEGIN:STANDARD
TZOFFSETFROM:+0200
TZOFFSETTO:+0100
TZNAME:CET
DTSTART:20251026T010000
END:STANDARD
BEGIN:DAYLIGHT
TZOFFSETFROM:+0100
TZOFFSETTO:+0200
TZNAME:CEST
DTSTART:20260329T010000
END:DAYLIGHT
BEGIN:STANDARD
TZOFFSETFROM:+0200
TZOFFSETTO:+0100
TZNAME:CET
DTSTART:20261025T010000
END:STANDARD
BEGIN:DAYLIGHT
TZOFFSETFROM:+0100
TZOFFSETTO:+0200
TZNAME:CEST
DTSTART:20270328T010000
END:DAYLIGHT
BEGIN:STANDARD
TZOFFSETFROM:+0200
TZOFFSETTO:+0100
TZNAME:CET
DTSTART:20271031T010000
END:STANDARD
END:VTIMEZONE
BEGIN:VEVENT
DTSTART;TZID=Europe/Vienna:20260516T100000
DTEND;TZID=Europe/Vienna:20260516T183000
DTSTAMP:20260422T173852
CREATED:20260123T142854Z
LAST-MODIFIED:20260123T142854Z
UID:10000704-1778925600-1778956200@www.femvents.at
SUMMARY:Die stille Kraft der Achtsamkeit
DESCRIPTION:Lass dich von Bettina und Julia durch einen naturbetonten Tag begleiten\, der dich in die Ruhe leitet. \nDich erwarten unterschiedliche Techniken inkl. Take-aways aus der Achtsamkeitspraxis nach John Kabat-Zinn\, verschiedene Meditationen und Meditationsformen inklusive Yoga und einem Abendausklang am Feuer. Kleine Snacks und eine Mittagssuppe sind inkludiert. \nAlle Details gibt’s hier.
URL:https://www.femvents.at/event/die-stille-kraft-der-achtsamkeit/
LOCATION:Gartenparadies Painer\, Badstraße 48\, Eggersdorf bei Graz\, Steiermark\, 8063\, Austria
CATEGORIES:Kurs,Meditation,Retreat,Steiermark,Workshop
ATTACH;FMTTYPE=image/png:https://www.femvents.at/wp-content/uploads/2026/01/3.png
ORGANIZER;CN="Julia Pirkenau &amp%3B Bettina Jeram":MAILTO:alive@surwhyve.at
GEO:47.1144589;15.588795
X-APPLE-STRUCTURED-LOCATION;VALUE=URI;X-ADDRESS=Gartenparadies Painer Badstraße 48 Eggersdorf bei Graz Steiermark 8063 Austria;X-APPLE-RADIUS=500;X-TITLE=Badstraße 48:geo:15.588795,47.1144589
END:VEVENT
END:VCALENDAR