BEGIN:VCALENDAR
VERSION:2.0
PRODID:-//femvents.at - ECPv6.15.18//NONSGML v1.0//EN
CALSCALE:GREGORIAN
METHOD:PUBLISH
X-ORIGINAL-URL:https://www.femvents.at
X-WR-CALDESC:Veranstaltungen für femvents.at
REFRESH-INTERVAL;VALUE=DURATION:PT1H
X-Robots-Tag:noindex
X-PUBLISHED-TTL:PT1H
BEGIN:VTIMEZONE
TZID:Europe/Vienna
BEGIN:DAYLIGHT
TZOFFSETFROM:+0100
TZOFFSETTO:+0200
TZNAME:CEST
DTSTART:20250330T010000
END:DAYLIGHT
BEGIN:STANDARD
TZOFFSETFROM:+0200
TZOFFSETTO:+0100
TZNAME:CET
DTSTART:20251026T010000
END:STANDARD
BEGIN:DAYLIGHT
TZOFFSETFROM:+0100
TZOFFSETTO:+0200
TZNAME:CEST
DTSTART:20260329T010000
END:DAYLIGHT
BEGIN:STANDARD
TZOFFSETFROM:+0200
TZOFFSETTO:+0100
TZNAME:CET
DTSTART:20261025T010000
END:STANDARD
BEGIN:DAYLIGHT
TZOFFSETFROM:+0100
TZOFFSETTO:+0200
TZNAME:CEST
DTSTART:20270328T010000
END:DAYLIGHT
BEGIN:STANDARD
TZOFFSETFROM:+0200
TZOFFSETTO:+0100
TZNAME:CET
DTSTART:20271031T010000
END:STANDARD
END:VTIMEZONE
BEGIN:VEVENT
DTSTART;TZID=Europe/Vienna:20260307T150000
DTEND;TZID=Europe/Vienna:20260307T180000
DTSTAMP:20260422T213223
CREATED:20260226T105319Z
LAST-MODIFIED:20260226T105520Z
UID:10000851-1772895600-1772906400@www.femvents.at
SUMMARY:Aquarell Lettering
DESCRIPTION:Aquarellfarben und Pinsel eignen sich nicht nur für Aquarellmalerei\, sondern auch für Letterings. Zu allererst gebe ich dir eine kleine Einführung in die Aquarellmalerei und nach ein paar Aufwärmübungen machen wir uns an die verschiedenen Schriften. Anhand eines Workbooks erhältst du verschiedene Alphabet-Vorlagen (Script\, Serif & Sans Serif\, sowie Variationen) und ich werde dir Schritt für Schritt zeigen\, wie man die einzelnen Buchstaben malt und wie du am besten deinen Lieblingsspruch aufs Papier zauberst. Vielleicht überlegst du dir schon im Vorfeld\, welchen Text du gerne gestalten möchtest. Natürlich habe ich auch Inspirationen für dich mit. Wenn du möchtest kannst du deinen Spruch dann mit kleinen Illustrationen ergänzen. \nDer Workshop ist auch für Anfänger des Letterings geeignet! \nKursdauer: 3\,5 Stunden\nTeilnehmer: max. 6 Teilnehmer – der Kurs ist für Erwachsene und Teens \nKosten: € 120\,00 inkl. Material \n+ Workbook\n+ Goodiebag\n+ Snacks und Getränke
URL:https://www.femvents.at/event/aquarell-lettering/
LOCATION:Herz an Herz Atelier\, Hauptstraße 4\, 5162 Obertrum am See\, Hauptstraße 4\, 5162 Obertrum am See\, Salzburg\, 5162\, Austria
CATEGORIES:Malworkshop,Salzburg,Workshop
ATTACH;FMTTYPE=image/jpeg:https://www.femvents.at/wp-content/uploads/2026/02/Watercolor_Lettering_beitragsbild.jpg
ORGANIZER;CN="Herz an Herz Atelier":MAILTO:tina@herzanherz.at
GEO:47.9373779;13.0745256
X-APPLE-STRUCTURED-LOCATION;VALUE=URI;X-ADDRESS=Herz an Herz Atelier Hauptstraße 4 5162 Obertrum am See Hauptstraße 4 5162 Obertrum am See Salzburg 5162 Austria;X-APPLE-RADIUS=500;X-TITLE=Hauptstraße 4:geo:13.0745256,47.9373779
END:VEVENT
END:VCALENDAR