BEGIN:VCALENDAR
VERSION:2.0
PRODID:-//femvents.at - ECPv6.15.18//NONSGML v1.0//EN
CALSCALE:GREGORIAN
METHOD:PUBLISH
X-ORIGINAL-URL:https://www.femvents.at
X-WR-CALDESC:Veranstaltungen für femvents.at
REFRESH-INTERVAL;VALUE=DURATION:PT1H
X-Robots-Tag:noindex
X-PUBLISHED-TTL:PT1H
BEGIN:VTIMEZONE
TZID:Europe/Vienna
BEGIN:DAYLIGHT
TZOFFSETFROM:+0100
TZOFFSETTO:+0200
TZNAME:CEST
DTSTART:20250330T010000
END:DAYLIGHT
BEGIN:STANDARD
TZOFFSETFROM:+0200
TZOFFSETTO:+0100
TZNAME:CET
DTSTART:20251026T010000
END:STANDARD
BEGIN:DAYLIGHT
TZOFFSETFROM:+0100
TZOFFSETTO:+0200
TZNAME:CEST
DTSTART:20260329T010000
END:DAYLIGHT
BEGIN:STANDARD
TZOFFSETFROM:+0200
TZOFFSETTO:+0100
TZNAME:CET
DTSTART:20261025T010000
END:STANDARD
BEGIN:DAYLIGHT
TZOFFSETFROM:+0100
TZOFFSETTO:+0200
TZNAME:CEST
DTSTART:20270328T010000
END:DAYLIGHT
BEGIN:STANDARD
TZOFFSETFROM:+0200
TZOFFSETTO:+0100
TZNAME:CET
DTSTART:20271031T010000
END:STANDARD
END:VTIMEZONE
BEGIN:VEVENT
DTSTART;TZID=Europe/Vienna:20260511T190000
DTEND;TZID=Europe/Vienna:20260511T220000
DTSTAMP:20260422T154320
CREATED:20260323T104303Z
LAST-MODIFIED:20260323T104317Z
UID:10000954-1778526000-1778536800@www.femvents.at
SUMMARY:GROW & CONNECT
DESCRIPTION:Lust auf neue Impulse und echte Begegnungen? Wir laden dich ein zu einem inspirierenden Abend für Frauen\, die mehr wollen. \n\n\n\n\nLust auf neue Impulse\, ehrlichen Austausch und echte Begegnungen? \nAm 11. Mai laden wir dich um 19 Uhr in die Heublume in Innsbruck ein – zu einem inspirierenden Abend für Frauen\, die mehr wollen. \nDich erwartet ein kurzer Input von uns zu einem Thema\, das dein Denken verändern kann 😉 und danach Raum zum Austauschen\, Netzwerken und Vernetzen in entspannter Atmosphäre. \nOb du gerade erst losgehst oder schon mittendrin bist: \nDieser Abend ist für dich\, wenn du spürst\, da ist noch mehr für dich drin. \nKomm vorbei – wir freuen uns auf dich!
URL:https://www.femvents.at/event/grow-connect/
LOCATION:Heublume\, Innsbruck\, Templstraße 32\, Innsbruck\, Tirol\, 6020\, Austria
CATEGORIES:Netzwerk-Treffen,Tirol
ATTACH;FMTTYPE=image/png:https://www.femvents.at/wp-content/uploads/2026/03/podcast-thumbnail-2.png
ORGANIZER;CN="growunity official":MAILTO:info@growunity-official.com
GEO:47.2585891;11.3939159
X-APPLE-STRUCTURED-LOCATION;VALUE=URI;X-ADDRESS=Heublume Innsbruck Templstraße 32 Innsbruck Tirol 6020 Austria;X-APPLE-RADIUS=500;X-TITLE=Templstraße 32:geo:11.3939159,47.2585891
END:VEVENT
END:VCALENDAR