BEGIN:VCALENDAR
VERSION:2.0
PRODID:-//femvents.at - ECPv6.15.18//NONSGML v1.0//EN
CALSCALE:GREGORIAN
METHOD:PUBLISH
X-ORIGINAL-URL:https://www.femvents.at
X-WR-CALDESC:Veranstaltungen für femvents.at
REFRESH-INTERVAL;VALUE=DURATION:PT1H
X-Robots-Tag:noindex
X-PUBLISHED-TTL:PT1H
BEGIN:VTIMEZONE
TZID:Europe/Vienna
BEGIN:DAYLIGHT
TZOFFSETFROM:+0100
TZOFFSETTO:+0200
TZNAME:CEST
DTSTART:20250330T010000
END:DAYLIGHT
BEGIN:STANDARD
TZOFFSETFROM:+0200
TZOFFSETTO:+0100
TZNAME:CET
DTSTART:20251026T010000
END:STANDARD
BEGIN:DAYLIGHT
TZOFFSETFROM:+0100
TZOFFSETTO:+0200
TZNAME:CEST
DTSTART:20260329T010000
END:DAYLIGHT
BEGIN:STANDARD
TZOFFSETFROM:+0200
TZOFFSETTO:+0100
TZNAME:CET
DTSTART:20261025T010000
END:STANDARD
BEGIN:DAYLIGHT
TZOFFSETFROM:+0100
TZOFFSETTO:+0200
TZNAME:CEST
DTSTART:20270328T010000
END:DAYLIGHT
BEGIN:STANDARD
TZOFFSETFROM:+0200
TZOFFSETTO:+0100
TZNAME:CET
DTSTART:20271031T010000
END:STANDARD
END:VTIMEZONE
BEGIN:VEVENT
DTSTART;VALUE=DATE:20260430
DTEND;VALUE=DATE:20260504
DTSTAMP:20260422T203825
CREATED:20260323T085530Z
LAST-MODIFIED:20260401T094831Z
UID:10000951-1777507200-1777852799@www.femvents.at
SUMMARY:Verbinde dich mit deiner weiblichen Kraft
DESCRIPTION:Ein Frauen Retreat (30.4.-3.5.26) in den Bergen\, um die weiblichen Kräfte zu nähren und kreativ zu werden.❣️ \nhttps://www.carina-hladik.com/angebot/retreat/verbinde-dich-mit-deiner-weiblichen-kraft \nEs ist das Herzensprojekt von mir – Carina Hladik:\nDas Erste Frauen-Retreat zur Walpurgisnacht am Hochälpele. Es ist ein KRAFTPLATZ für alle weiblich gelesenen Mitmenschen\, die sich die Zeit nehmen in die Berge und magischen Wälder Vorarelbergs einzutauchen.\nDieser Ort (HOCHÄLPELE) beschenkt einen mit Ruhe\, Vertrauen und Kraft.\nEs gibt es ein besonderes Ritual (13.Munay Ki)\, das uns hilft\, die weibliche Linie in unserer Familie – in die Vergangenheit und in die Zukunft – zu heilen bzw. uns mit dem Hier und Jetzt versöhnt.\nEs sind alle weiblichen Wesen jeden Alters willkommen.\nEs freut mich\, wenn du dabei bist und sogar an eine Schwester/Freundin/ Mutter mitbringst. \nAlle Infos findest du auf der Homepage.\nBitte melde dich (aelpele@protonmail.com) wenn du noch Fragen dazu haben solltest\, die dir Helfen eine Entscheidung für das Retreat zu treffen 😃.\nAlles Liebe und Herzliche Grüßle\nCarina
URL:https://www.femvents.at/event/verbinde-dich-mit-deiner-weiblichen-kraft/
LOCATION:HOCHÄLPELE\, HOCHÄLPELE\, DORNBIRN - Bödele\, Vorarlberg\, 6850\, Austria
CATEGORIES:Malworkshop,Retreat,Vorarlberg
ORGANIZER;CN="Carina Hladik":MAILTO:carinahladik007@gmail.com
GEO:47.3997222;9.8166667
X-APPLE-STRUCTURED-LOCATION;VALUE=URI;X-ADDRESS=HOCHÄLPELE HOCHÄLPELE DORNBIRN - Bödele Vorarlberg 6850 Austria;X-APPLE-RADIUS=500;X-TITLE=HOCHÄLPELE:geo:9.8166667,47.3997222
END:VEVENT
END:VCALENDAR