BEGIN:VCALENDAR
VERSION:2.0
PRODID:-//femvents.at - ECPv6.15.18//NONSGML v1.0//EN
CALSCALE:GREGORIAN
METHOD:PUBLISH
X-WR-CALNAME:femvents.at
X-ORIGINAL-URL:https://www.femvents.at
X-WR-CALDESC:Veranstaltungen für femvents.at
REFRESH-INTERVAL;VALUE=DURATION:PT1H
X-Robots-Tag:noindex
X-PUBLISHED-TTL:PT1H
BEGIN:VTIMEZONE
TZID:Europe/Vienna
BEGIN:DAYLIGHT
TZOFFSETFROM:+0100
TZOFFSETTO:+0200
TZNAME:CEST
DTSTART:20250330T010000
END:DAYLIGHT
BEGIN:STANDARD
TZOFFSETFROM:+0200
TZOFFSETTO:+0100
TZNAME:CET
DTSTART:20251026T010000
END:STANDARD
BEGIN:DAYLIGHT
TZOFFSETFROM:+0100
TZOFFSETTO:+0200
TZNAME:CEST
DTSTART:20260329T010000
END:DAYLIGHT
BEGIN:STANDARD
TZOFFSETFROM:+0200
TZOFFSETTO:+0100
TZNAME:CET
DTSTART:20261025T010000
END:STANDARD
BEGIN:DAYLIGHT
TZOFFSETFROM:+0100
TZOFFSETTO:+0200
TZNAME:CEST
DTSTART:20270328T010000
END:DAYLIGHT
BEGIN:STANDARD
TZOFFSETFROM:+0200
TZOFFSETTO:+0100
TZNAME:CET
DTSTART:20271031T010000
END:STANDARD
END:VTIMEZONE
BEGIN:VEVENT
DTSTART;TZID=Europe/Vienna:20260228T090000
DTEND;TZID=Europe/Vienna:20260228T143000
DTSTAMP:20260422T222232
CREATED:20260205T120113Z
LAST-MODIFIED:20260205T120113Z
UID:10000766-1772269200-1772289000@www.femvents.at
SUMMARY:Zuhause in mir - wenn alle Rollen Platz haben dürfen\, Workshop
DESCRIPTION:„Zuhause in Mir“ – wenn alle Rollen Platz haben dürfen \nFrauen tragen im Alltag viele Rollen zugleich und verlieren dabei oft den bewussten Kontakt zu sich selbst. Dieser Workshop lädt dazu ein\, die eigenen Rollen sichtbar zu machen\, sie achtsam wahrzunehmen und neu einzuordnen. \nEs geht darum\, Rollen anzunehmen und zu leben\, die stärken\, ebenso wie jene zu erkennen\, die zu viel geworden sind und verändert oder losgelassen werden dürfen. \n„Zuhause in mir“ bedeutet\, sich selbst wieder als inneren Anker zu erleben und den eigenen Platz in jeder Rolle bewusst und stimmig zu gestalten.
URL:https://www.femvents.at/event/zuhause-in-mir-wenn-alle-rollen-platz-haben-duerfen-workshop/
LOCATION:Hotel Marko\, Kranzelhofenstraße 70\, Velden\, Kärnten\, 9220\, Austria
CATEGORIES:Coaching,Frauenkreis,Kärnten,Workshop
ATTACH;FMTTYPE=image/jpeg:https://www.femvents.at/wp-content/uploads/2026/02/aa974a50-522a-485f-99b9-3817c7f6d39f.jpeg
GEO:46.6139483;14.0417102
X-APPLE-STRUCTURED-LOCATION;VALUE=URI;X-ADDRESS=Hotel Marko Kranzelhofenstraße 70 Velden Kärnten 9220 Austria;X-APPLE-RADIUS=500;X-TITLE=Kranzelhofenstraße 70:geo:14.0417102,46.6139483
END:VEVENT
END:VCALENDAR