BEGIN:VCALENDAR
VERSION:2.0
PRODID:-//femvents.at - ECPv6.15.18//NONSGML v1.0//EN
CALSCALE:GREGORIAN
METHOD:PUBLISH
X-ORIGINAL-URL:https://www.femvents.at
X-WR-CALDESC:Veranstaltungen für femvents.at
REFRESH-INTERVAL;VALUE=DURATION:PT1H
X-Robots-Tag:noindex
X-PUBLISHED-TTL:PT1H
BEGIN:VTIMEZONE
TZID:Europe/Vienna
BEGIN:DAYLIGHT
TZOFFSETFROM:+0100
TZOFFSETTO:+0200
TZNAME:CEST
DTSTART:20250330T010000
END:DAYLIGHT
BEGIN:STANDARD
TZOFFSETFROM:+0200
TZOFFSETTO:+0100
TZNAME:CET
DTSTART:20251026T010000
END:STANDARD
BEGIN:DAYLIGHT
TZOFFSETFROM:+0100
TZOFFSETTO:+0200
TZNAME:CEST
DTSTART:20260329T010000
END:DAYLIGHT
BEGIN:STANDARD
TZOFFSETFROM:+0200
TZOFFSETTO:+0100
TZNAME:CET
DTSTART:20261025T010000
END:STANDARD
BEGIN:DAYLIGHT
TZOFFSETFROM:+0100
TZOFFSETTO:+0200
TZNAME:CEST
DTSTART:20270328T010000
END:DAYLIGHT
BEGIN:STANDARD
TZOFFSETFROM:+0200
TZOFFSETTO:+0100
TZNAME:CET
DTSTART:20271031T010000
END:STANDARD
END:VTIMEZONE
BEGIN:VEVENT
DTSTART;TZID=Europe/Vienna:20260116T080000
DTEND;TZID=Europe/Vienna:20260118T120000
DTSTAMP:20260423T041251
CREATED:20251217T134325Z
LAST-MODIFIED:20251217T134325Z
UID:10000589-1768550400-1768737600@www.femvents.at
SUMMARY:🌹 VENUS Rebirth Experience - Deine Rückkehr ins Empfangen von Geld & Kunden🌹
DESCRIPTION:Herzlich Willkommen! \n📅 16.–18. Jänner 2026 in Neusiedl am See \n🌹 VENUS REBIRTH Experience – Wo du aufhörst zu funktionieren und beginnst zu empfangen\nGeld. Kunden. Wertschätzung. Nicht durch Tun – sondern durch Verkörperung. Du hast viel erreicht. Du bist stark. Verantwortlich. Leistungsfähig.\nUnd gleichzeitig spürst du:\nSo wie bisher will ich nicht mehr weitermachen.\n• Nicht noch mehr tun.\n• Nicht noch mehr halten.\n• Nicht noch mehr leisten. \nDenn tief in dir lebt diese Sehnsucht:\n✨ endlich langsamer werden\n✨ nach Hause kommen – in dich\n✨ weich sein dürfen\n✨ dich tragen lassen\n✨ magnetisch empfangen\, was du dir wünschst \nGeld.Kunden.Wertschätzung.Luxus. \n🌹 Nicht\, weil du dich anstrengst – sondern weil du du bist.\n🌙 Der stille Schmerz des Funktionsmodus\nViele Frauen leben im Funktionsmodus\, ohne es zu merken.\nSie:\n– organisieren\n– entscheiden\n– halten alles zusammen\n– sind immer „on“\nUnd auch wenn im Außen alles läuft\, ist im Inneren oft:\n• Müdigkeit\n• innere Leere\n• Enge im Körper\n• ein permanentes „Ich muss“ \nVielleicht wünschst du dir schon länger: eine Auszeit.Eine Pause.Einen Rückzug. \n🌹 Doch was du wirklich brauchst\, ist keine Pause vom Leben.\nDu brauchst eine Rückkehr zu dir.\n🌹 Warum dein nächstes Level nicht im Tun liegt\nDu hast gelernt:\nErfolg entsteht durch Strategie\, Disziplin und Durchhalten.\nDoch für Frauen gibt es eine andere Wahrheit: \n✨ Magnetismus entsteht im Körper.\n✨ Im Nervensystem.\n✨ In Sicherheit.\n✨ In Weichheit. \nMagnetische Frauen ziehen an\, weil sie empfangen können.\n– Geld.\n– Kunden.\n– Wertschätzung. \nNicht als Ziel – sondern als natürliche Folge ihrer Verkörperung.\nVENUS REBIRTH ist der Raum\, in dem du genau diesen Zustand wieder aktivierst.\n🌹 VENUS REBIRTH ist kein Retreat – Es ist ein Identitätswechsel\nKein Wellness.\nKein Rückzug\, um danach wieder zu funktionieren. \nVENUS REBIRTH ist eine Schwelle. Ein Portal. Ein Übergang.\nVon:\n– Funktionieren → Empfangen\n– Druck → Sicherheit\n– Kontrolle → Vertrauen\n– Anspannung → Weiblichkeit \nDu kommst zurück:\nin deinen Körper\nin dein Herz\nin deine Wahrheit \nUnd genau dort beginnt das Leben\, dich zu versorgen statt zu fordern.\n🌙 Die vier Portale deines Rebirths\n(deine vier Schlüssel zurück ins Empfangen)\n🌹 Portal 1 – Ausstieg aus dem Funktionsmodus\nWir lösen Druck\, Verantwortung und Daueranspannung.\nDein Nervensystem darf endlich loslassen. \n🌹 Portal 2 – Herzöffnung & Venus-Heilung\nEmpfangen wird wieder sicher.\nDein Körper erinnert sich an Genuss\, Weichheit und magnetische Präsenz. \n🌹 Portal 3 – Vision empfangen statt planen\nKeine Ziele. Kein Brainstorming.\nDeine Vision entsteht aus deinem inneren Source Field. \n🌹 Portal 4 – Venus-high Identität Aktivierung\nDu aktivierst die Frau\, die:\n– klar entscheidet\n– weich bleibt\n– magnetisch wirkt\n– mühelos empfängt \nViele Frauen sagen hier nur:\n„Ich bin zuhause. Und alles fließt.“\n🌹 Was sich nach VENUS REBIRTH verändert\nDu wirst:\n✓ nicht mehr getrieben\n✓ sicher in dir\n✓ weich im Körper\n✓ klar in Entscheidungen\n✓ offen im Herzen\n✓ präsent statt angespannt\n✓ magnetisch für Geld\, Kunden & Wertschätzung \nFrauen beschreiben es so: „Ich habe aufgehört zu kämpfen – und plötzlich kam alles zu mir.“\n🌙 Für wen diese Experience ist\nVENUS REBIRTH ist für dich\, wenn du:\n🔥 im Funktionsmodus feststeckst\n🔥 viel gibst und wenig empfängst\n🔥 Erfolg willst\, der sich leicht anfühlt\n🔥 Luxus leben willst\, ohne Härte\n🔥 spürst\, dass 2026 anders wird\n🔥 bereit bist\, dich selbst wieder zu wählen \nNicht für:\n– Frauen\, die nur entspannen wollen\n– Frauen\, die noch überlegen\n– Frauen\, die auf ein Zeichen warten \nWenn du es fühlst – das IST dein Zeichen.\n🌹 Wann & Wo\n📅 16.–18. Jänner 2026\nFreitag 16:00 – Sonntag Mittag\n📍 Hotel Wende – Neusiedl am See\nZimmer bitte selbst buchen und meinen Namen angeben\n👉 https://www.hotel-wende.at \n✨ Nur 8 Frauen. Intim. Tief. Heilig. \n👑 Deine Entscheidung\nFrauen buchen VENUS REBIRTH:\nSondern weil sie fühlen:\n„Ich will nicht mehr kämpfen.“\n„Ich will empfangen.“\n„Ich bin bereit für Leichtigkeit.“ \n🌹 VENUS REBIRTH Experience\n💫 Nur € 999 brutto bis 22. 12. 24:59 dann springt der Preis nochmals\n👉 Hör auf zu funktionieren.\n👉 Komm nach Hause.\n👉 Lass Geld\, Kunden & Wertschätzung zu dir kommen.
URL:https://www.femvents.at/event/%f0%9f%8c%b9-venus-rebirth-experience-deine-rueckkehr-ins-empfangen-von-geld-kunden%f0%9f%8c%b9/
LOCATION:Hotel Wende Neusiedl am See\, Seestrasse 40\, Neusiedl am See\, Burgenland\, 7100\, Austria
CATEGORIES:Burgenland,Frauenkreis
ATTACH;FMTTYPE=image/png:https://www.femvents.at/wp-content/uploads/2025/12/Venus-Rebirth.png
GEO:47.9403565;16.8442591
X-APPLE-STRUCTURED-LOCATION;VALUE=URI;X-ADDRESS=Hotel Wende Neusiedl am See Seestrasse 40 Neusiedl am See Burgenland 7100 Austria;X-APPLE-RADIUS=500;X-TITLE=Seestrasse 40:geo:16.8442591,47.9403565
END:VEVENT
END:VCALENDAR