BEGIN:VCALENDAR
VERSION:2.0
PRODID:-//femvents.at - ECPv6.15.18//NONSGML v1.0//EN
CALSCALE:GREGORIAN
METHOD:PUBLISH
X-WR-CALNAME:femvents.at
X-ORIGINAL-URL:https://www.femvents.at
X-WR-CALDESC:Veranstaltungen für femvents.at
REFRESH-INTERVAL;VALUE=DURATION:PT1H
X-Robots-Tag:noindex
X-PUBLISHED-TTL:PT1H
BEGIN:VTIMEZONE
TZID:Europe/Vienna
BEGIN:DAYLIGHT
TZOFFSETFROM:+0100
TZOFFSETTO:+0200
TZNAME:CEST
DTSTART:20250330T010000
END:DAYLIGHT
BEGIN:STANDARD
TZOFFSETFROM:+0200
TZOFFSETTO:+0100
TZNAME:CET
DTSTART:20251026T010000
END:STANDARD
BEGIN:DAYLIGHT
TZOFFSETFROM:+0100
TZOFFSETTO:+0200
TZNAME:CEST
DTSTART:20260329T010000
END:DAYLIGHT
BEGIN:STANDARD
TZOFFSETFROM:+0200
TZOFFSETTO:+0100
TZNAME:CET
DTSTART:20261025T010000
END:STANDARD
BEGIN:DAYLIGHT
TZOFFSETFROM:+0100
TZOFFSETTO:+0200
TZNAME:CEST
DTSTART:20270328T010000
END:DAYLIGHT
BEGIN:STANDARD
TZOFFSETFROM:+0200
TZOFFSETTO:+0100
TZNAME:CET
DTSTART:20271031T010000
END:STANDARD
END:VTIMEZONE
BEGIN:VEVENT
DTSTART;TZID=Europe/Vienna:20260425T100000
DTEND;TZID=Europe/Vienna:20260425T180000
DTSTAMP:20260422T154305
CREATED:20260417T105854Z
LAST-MODIFIED:20260417T105854Z
UID:10001140-1777111200-1777140000@www.femvents.at
SUMMARY:WOMAN Balance präsentiert: Kunst der Balance
DESCRIPTION:Body & Mind Detox. Ein Tag für Frauen\,\ndie tiefer gehen wollen\n\nKunst der Balance 2026: Das Event rund um Achtsamkeit\, bewusstes Leben und innere Ausgeglichenheit. Ein Tag für Körper\, Geist und Wohlbefinden. \nAm 25. April 2026 lädt WOMAN Balance zu einem besonderen Erlebnis ins Andaz Vienna ein. Unter dem Motto „Body & Mind Detox“ steht dieser Tag ganz im Zeichen von Achtsamkeit und Wohlbefinden. \nAuf die Besucher:innen warten ein facettenreiches Programm mit hochkarätigen Bühnen-Talks\, inspirierenden Workshop-Formaten und neuen Impulsen. Expert:innen aus den Bereichen Gesundheit\, Mindfulness und Nachhaltigkeit teilen ihr Wissen und geben wertvolle Tipps für mehr Achtsamkeit im Alltag.
URL:https://www.femvents.at/event/woman-balance-praesentiert-kunst-der-balance/
LOCATION:Hyatt Regency Vienna\, Arsenalstraße 10\, Wien\, Wien\, 1100\, Austria
CATEGORIES:Gesundheit,Wien
ATTACH;FMTTYPE=image/jpeg:https://www.femvents.at/wp-content/uploads/2026/04/KDB_Wien_Post-scaled.jpg
GEO:48.1851594;16.3832609
X-APPLE-STRUCTURED-LOCATION;VALUE=URI;X-ADDRESS=Hyatt Regency Vienna Arsenalstraße 10 Wien Wien 1100 Austria;X-APPLE-RADIUS=500;X-TITLE=Arsenalstraße 10:geo:16.3832609,48.1851594
END:VEVENT
END:VCALENDAR