BEGIN:VCALENDAR
VERSION:2.0
PRODID:-//femvents.at - ECPv6.15.18//NONSGML v1.0//EN
CALSCALE:GREGORIAN
METHOD:PUBLISH
X-WR-CALNAME:femvents.at
X-ORIGINAL-URL:https://www.femvents.at
X-WR-CALDESC:Veranstaltungen für femvents.at
REFRESH-INTERVAL;VALUE=DURATION:PT1H
X-Robots-Tag:noindex
X-PUBLISHED-TTL:PT1H
BEGIN:VTIMEZONE
TZID:Europe/Vienna
BEGIN:DAYLIGHT
TZOFFSETFROM:+0100
TZOFFSETTO:+0200
TZNAME:CEST
DTSTART:20240331T010000
END:DAYLIGHT
BEGIN:STANDARD
TZOFFSETFROM:+0200
TZOFFSETTO:+0100
TZNAME:CET
DTSTART:20241027T010000
END:STANDARD
BEGIN:DAYLIGHT
TZOFFSETFROM:+0100
TZOFFSETTO:+0200
TZNAME:CEST
DTSTART:20250330T010000
END:DAYLIGHT
BEGIN:STANDARD
TZOFFSETFROM:+0200
TZOFFSETTO:+0100
TZNAME:CET
DTSTART:20251026T010000
END:STANDARD
BEGIN:DAYLIGHT
TZOFFSETFROM:+0100
TZOFFSETTO:+0200
TZNAME:CEST
DTSTART:20260329T010000
END:DAYLIGHT
BEGIN:STANDARD
TZOFFSETFROM:+0200
TZOFFSETTO:+0100
TZNAME:CET
DTSTART:20261025T010000
END:STANDARD
BEGIN:DAYLIGHT
TZOFFSETFROM:+0100
TZOFFSETTO:+0200
TZNAME:CEST
DTSTART:20270328T010000
END:DAYLIGHT
BEGIN:STANDARD
TZOFFSETFROM:+0200
TZOFFSETTO:+0100
TZNAME:CET
DTSTART:20271031T010000
END:STANDARD
END:VTIMEZONE
BEGIN:VEVENT
DTSTART;TZID=Europe/Vienna:20260317T170000
DTEND;TZID=Europe/Vienna:20260317T193000
DTSTAMP:20260422T210825
CREATED:20251114T110912Z
LAST-MODIFIED:20251114T110912Z
UID:10000504-1773766800-1773775800@www.femvents.at
SUMMARY:FinanzKRAFT
DESCRIPTION:Finanzielle Unabhängigkeit für Mädchen und Frauen ein Leben lang – Teil 3 \nWie beeinflussen Entscheidungen von Mädchen und Frauen ihre finanzielle Situation? \nIn verschiedenen Lebensphasen treffen Mädchen und Frauen Entscheidungen\, die ihre spätere finanzielle Situation maßgeblich beeinflussen – oft ohne diesen Aspekt mitzudenken. Steirische Expertinnen geben Einblick in aktuelle Daten und informieren über die finanziellen Auswirkungen weiblicher Lebensentscheidungen. \n3 spannende Veranstaltungen mit steirischen Expertinnen: \nTeil 3 – „Arbeit neu FAIRteilen”\nFinanz-Entscheidungen in Paarbeziehungen:\nAktuelle Daten & Praxisbeispiele zu Gender Pay & Pension Gap sowie Gefahren von Krediten und Verträgen mit Mag. Bernadette Pöcheim (Frauenreferat Arbeiterkammer) und Mag. Melanie Gößler (Konsumentenschutz Arbeiterkammer) \nAnschließend Austausch und Vernetzung bei Snacks & Getränken. \nMehr Infos & Anmeldung\nManuela Wutte\, MA | 0043 664 916 23 59\nmanuela.wutte@lebensgross.at \nVergangene Termine:\nTEIL 1: „Traumberuf Friseurin?“; 18.11.2025\nTEIL 2: „Neue Netzwerke statt gläserner Decken”; 20.01.2026
URL:https://www.femvents.at/event/finanzkraft/
LOCATION:Lendhafen Graz\, Lendkai 17\, Graz\, 8020\, Austria
CATEGORIES:Steiermark,Workshop
ATTACH;FMTTYPE=image/png:https://www.femvents.at/wp-content/uploads/2025/06/femvents_eventbild.png
GEO:47.0818178;15.4285527
X-APPLE-STRUCTURED-LOCATION;VALUE=URI;X-ADDRESS=Lendhafen Graz Lendkai 17 Graz 8020 Austria;X-APPLE-RADIUS=500;X-TITLE=Lendkai 17:geo:15.4285527,47.0818178
END:VEVENT
BEGIN:VEVENT
DTSTART;TZID=Europe/Vienna:20251118T170000
DTEND;TZID=Europe/Vienna:20251118T193000
DTSTAMP:20260422T210825
CREATED:20251031T124336Z
LAST-MODIFIED:20251031T124356Z
UID:10000468-1763485200-1763494200@www.femvents.at
SUMMARY:FinanzKRAFT
DESCRIPTION:Finanzielle Unabhängigkeit für Mädchen und Frauen ein Leben lang – Teil 1 \nWie beeinflussen Entscheidungen von Mädchen und Frauen ihre finanzielle Situation? \nIn verschiedenen Lebensphasen treffen Mädchen und Frauen Entscheidungen\, die ihre spätere finanzielle Situation maßgeblich beeinflussen – oft ohne diesen Aspekt mitzudenken. Steirische Expertinnen geben Einblick in aktuelle Daten und informieren über die finanziellen Auswirkungen weiblicher Lebensentscheidungen. \n3 spannende Veranstaltungen mit steirischen Expertinnen: \nTEIL 1 – „TRAUMBERUF FRISEURIN?“\nGrundsteine für spätere Berufsentscheidungen von Mädchen:\nAktuelle Daten\, Fakten und Praxiserfahrungen mit Semiramis Klammer\, MA (mafalda) und Prof. Aleksandra Wierzbicka (Pädagogische Hochschule in Steiermark) \nAnschließend Austausch und Vernetzung bei Snacks & Getränken. \nMehr Infos & Anmeldung\nManuela Wutte\, MA | 0043 664 916 23 59\nmanuela.wutte@lebensgross.at \nWeitere Termine:\nTEIL 2: „Neue Netzwerke statt gläserner Decken” – Chancen & Hürden für Frauen in Führungspositionen; 17.03.2026 \nTEIL 3: „Arbeit neu FAIRteilen” – Finanz-Entscheidungen in Paarbeziehungen; 20.01.2026 \nUrheber*innenrecht Foto:
URL:https://www.femvents.at/event/finanzkraft-lebensgross-graz/
LOCATION:Lendhafen Graz\, Lendkai 17\, Graz\, 8020\, Austria
CATEGORIES:Coaching,Frauenkreis,Steiermark,Vortrag,Workshop
ATTACH;FMTTYPE=image/png:https://www.femvents.at/wp-content/uploads/2025/06/femvents_eventbild.png
GEO:47.0818178;15.4285527
X-APPLE-STRUCTURED-LOCATION;VALUE=URI;X-ADDRESS=Lendhafen Graz Lendkai 17 Graz 8020 Austria;X-APPLE-RADIUS=500;X-TITLE=Lendkai 17:geo:15.4285527,47.0818178
END:VEVENT
BEGIN:VEVENT
DTSTART;TZID=Europe/Vienna:20250707T173000
DTEND;TZID=Europe/Vienna:20250707T200000
DTSTAMP:20260422T210825
CREATED:20250620T091850Z
LAST-MODIFIED:20250620T092031Z
UID:10000071-1751909400-1751918400@www.femvents.at
SUMMARY:MeetUp Demokratie und Gleichberechtigung
DESCRIPTION:Dieses Mal geht es bei dem kostenlosen MeetUp um das Thema Demokratie und Gleichberechtigung. Wir haben uns überlegt\, was in dieser Zeit relevant und interessant sein könnte und waren uns dabei schnell einig… \nDu bekommst wieder spannenden\, kompakten Input und darfst dich im besonderen Rahmen des Dialogkreises ausprobieren. \n7.7.2025\nAnkommen 17 Uhr/ Start 17:30\nEnde 20 Uhr \nKostenlos und für alle Geschlechter offen \nBei Fragen melde dich gerne!
URL:https://www.femvents.at/event/7727/
LOCATION:Lendhafen Graz\, Lendkai 17\, Graz\, 8020\, Austria
CATEGORIES:Meetup
ATTACH;FMTTYPE=image/png:https://www.femvents.at/wp-content/uploads/2025/06/mentorverde.png
GEO:47.0818178;15.4285527
X-APPLE-STRUCTURED-LOCATION;VALUE=URI;X-ADDRESS=Lendhafen Graz Lendkai 17 Graz 8020 Austria;X-APPLE-RADIUS=500;X-TITLE=Lendkai 17:geo:15.4285527,47.0818178
END:VEVENT
END:VCALENDAR